BEGIN:VCALENDAR
VERSION:2.0
PRODID:-//Springfield Exchange Club - ECPv6.15.18//NONSGML v1.0//EN
CALSCALE:GREGORIAN
METHOD:PUBLISH
X-ORIGINAL-URL:https://springfieldexchangeclub.org
X-WR-CALDESC:Events for Springfield Exchange Club
REFRESH-INTERVAL;VALUE=DURATION:PT1H
X-Robots-Tag:noindex
X-PUBLISHED-TTL:PT1H
BEGIN:VTIMEZONE
TZID:UTC
BEGIN:STANDARD
TZOFFSETFROM:+0000
TZOFFSETTO:+0000
TZNAME:UTC
DTSTART:20250101T000000
END:STANDARD
END:VTIMEZONE
BEGIN:VEVENT
DTSTART;TZID=UTC:20260224T180000
DTEND;TZID=UTC:20260224T190000
DTSTAMP:20260424T031804
CREATED:20251027T162622Z
LAST-MODIFIED:20260222T140603Z
UID:11594-1771956000-1771959600@springfieldexchangeclub.org
SUMMARY:Springfield Exchange Member Meeting
DESCRIPTION:The Exchange Club of Springfield\, OH will meet at the Benham-Pence Student Center\, 6 PM\, in the Alumni Room\, to vote for the Youth of the Year and A.C.E. Award college scholarship recipients. \nThe club will also welcome representatives of the Sleep In Heavenly Peace project.  Club members have assisted them in building beds for children who have none.
URL:https://springfieldexchangeclub.org/event/springfield-exchange-member-meeting-29/
LOCATION:Wittenberg Student Center\, 734 Woodlawn\, Springfield\, 45504\, United States
CATEGORIES:Club Meeting - Evening
END:VEVENT
END:VCALENDAR