BEGIN:VCALENDAR
VERSION:2.0
PRODID:-//Springfield Exchange Club - ECPv6.15.18//NONSGML v1.0//EN
CALSCALE:GREGORIAN
METHOD:PUBLISH
X-WR-CALNAME:Springfield Exchange Club
X-ORIGINAL-URL:https://springfieldexchangeclub.org
X-WR-CALDESC:Events for Springfield Exchange Club
REFRESH-INTERVAL;VALUE=DURATION:PT1H
X-Robots-Tag:noindex
X-PUBLISHED-TTL:PT1H
BEGIN:VTIMEZONE
TZID:UTC
BEGIN:STANDARD
TZOFFSETFROM:+0000
TZOFFSETTO:+0000
TZNAME:UTC
DTSTART:20220101T000000
END:STANDARD
END:VTIMEZONE
BEGIN:VEVENT
DTSTART;TZID=UTC:20231128T180000
DTEND;TZID=UTC:20231128T190000
DTSTAMP:20260426T000122
CREATED:20230801T163714Z
LAST-MODIFIED:20231108T155718Z
UID:7913-1701194400-1701198000@springfieldexchangeclub.org
SUMMARY:Exchange Club Member Meeting
DESCRIPTION:The Exchange Club of Springfield\, Ohio will meet this evening at the Benham-Pence Student Center\, 6 PM.  Guest speaker will be Janet Wells form Honor Flight.
URL:https://springfieldexchangeclub.org/event/exchange-club-member-meeting-12/
LOCATION:Wittenberg Student Center\, 734 Woodlawn\, Springfield\, 45504\, United States
CATEGORIES:Club Meeting - Evening
END:VEVENT
END:VCALENDAR