BEGIN:VCALENDAR
VERSION:2.0
PRODID:-//Springfield Exchange Club - ECPv6.15.18//NONSGML v1.0//EN
CALSCALE:GREGORIAN
METHOD:PUBLISH
X-ORIGINAL-URL:https://springfieldexchangeclub.org
X-WR-CALDESC:Events for Springfield Exchange Club
REFRESH-INTERVAL;VALUE=DURATION:PT1H
X-Robots-Tag:noindex
X-PUBLISHED-TTL:PT1H
BEGIN:VTIMEZONE
TZID:UTC
BEGIN:STANDARD
TZOFFSETFROM:+0000
TZOFFSETTO:+0000
TZNAME:UTC
DTSTART:20240101T000000
END:STANDARD
END:VTIMEZONE
BEGIN:VEVENT
DTSTART;TZID=UTC:20251028T180000
DTEND;TZID=UTC:20251028T193000
DTSTAMP:20260424T092428
CREATED:20250827T151958Z
LAST-MODIFIED:20251019T191636Z
UID:11222-1761674400-1761679800@springfieldexchangeclub.org
SUMMARY:Springfield Exchange Member Meeting
DESCRIPTION:The Exchange Club of Springfield\, Ohio will meet at 6 PM on the campus of Wittenberg University in Room 105B of the Shouvlin Center. Guest speaker will be Emily Kulow\, Executive Director of Project Woman.
URL:https://springfieldexchangeclub.org/event/springfield-exchange-member-news/
LOCATION:Shouvlin Center\, 737 N. Fountain Avenue\, Springfield\, OH\, 45502\, United States
CATEGORIES:Club Meeting - Evening
END:VEVENT
END:VCALENDAR