BEGIN:VCALENDAR
VERSION:2.0
PRODID:-//Springfield Exchange Club - ECPv6.15.18//NONSGML v1.0//EN
CALSCALE:GREGORIAN
METHOD:PUBLISH
X-WR-CALNAME:Springfield Exchange Club
X-ORIGINAL-URL:https://springfieldexchangeclub.org
X-WR-CALDESC:Events for Springfield Exchange Club
REFRESH-INTERVAL;VALUE=DURATION:PT1H
X-Robots-Tag:noindex
X-PUBLISHED-TTL:PT1H
BEGIN:VTIMEZONE
TZID:UTC
BEGIN:STANDARD
TZOFFSETFROM:+0000
TZOFFSETTO:+0000
TZNAME:UTC
DTSTART:20220101T000000
END:STANDARD
END:VTIMEZONE
BEGIN:VEVENT
DTSTART;TZID=UTC:20250909T180000
DTEND;TZID=UTC:20250909T193000
DTSTAMP:20260424T045812
CREATED:20250827T145514Z
LAST-MODIFIED:20250827T145514Z
UID:11215-1757440800-1757446200@springfieldexchangeclub.org
SUMMARY:Springfield Exchange Member Meeting
DESCRIPTION:The Exchange Club of Springfield\, Ohio will meet at 6 PM\, Benham Pence Student Center Alumni Room\, on the campus of Wittenberg University. Guest speaker TBD.
URL:https://springfieldexchangeclub.org/event/springfield-exchange-member-meeting-13/
LOCATION:Wittenberg Student Center\, 734 Woodlawn\, Springfield\, 45504\, United States
CATEGORIES:Club Meeting - Evening
END:VEVENT
BEGIN:VEVENT
DTSTART;TZID=UTC:20250826T180000
DTEND;TZID=UTC:20250826T190000
DTSTAMP:20260424T045812
CREATED:20250617T124403Z
LAST-MODIFIED:20250813T152033Z
UID:10801-1756231200-1756234800@springfieldexchangeclub.org
SUMMARY:Exchange Club Member Meeting
DESCRIPTION:The Exchange Club of Springfield\, Ohio will meet at the CC Public Library’s Gaier Room\, 201 S. Fountain Ave.\, 6 PM for it’s regularly scheduled club meeting. Guest Speaker will be Leann Castillo\, Executive Director National Trail Park and Recreation.
URL:https://springfieldexchangeclub.org/event/exchange-club-member-meeting-17/
LOCATION:Clark County Public Library\, 201 S. Fountain Ave\, Springfield\, OH\, 45502\, United States
CATEGORIES:Club Meeting - Evening
END:VEVENT
BEGIN:VEVENT
DTSTART;TZID=UTC:20250812T180000
DTEND;TZID=UTC:20250812T190000
DTSTAMP:20260424T045812
CREATED:20250617T122957Z
LAST-MODIFIED:20250813T151917Z
UID:10794-1755021600-1755025200@springfieldexchangeclub.org
SUMMARY:Springfield Exchange Member Meeting
DESCRIPTION:The Exchange Club of Springfield\, Ohio will meet at the CC Public Library’s Gaier Room\, 201 S. Fountain Ave.\, 6 PM for it’s regularly scheduled club meeting. Guest Speakers will be Majors David and Pamela Rhodes\, Salvation Army.
URL:https://springfieldexchangeclub.org/event/springfield-exchange-member-meeting-14/
LOCATION:Clark County Public Library\, 201 S. Fountain Ave\, Springfield\, OH\, 45502\, United States
CATEGORIES:Club Meeting - Evening
END:VEVENT
BEGIN:VEVENT
DTSTART;TZID=UTC:20250708T180000
DTEND;TZID=UTC:20250708T190000
DTSTAMP:20260424T045812
CREATED:20250426T114933Z
LAST-MODIFIED:20250617T123605Z
UID:10508-1751997600-1752001200@springfieldexchangeclub.org
SUMMARY:Springfield Exchange Club Member Meeting
DESCRIPTION:The Exchange Club of Springfield\, Ohio will meet Tuesday July 8\, 2025 in the Gaier Room of the Main Branch Clark County Public Library. Guest Speaker will be Ryan Ray.
URL:https://springfieldexchangeclub.org/event/springfield-exchange-club-member-meeting-3/
LOCATION:Clark County Public Library\, 201 S. Fountain Ave\, Springfield\, OH\, 45502\, United States
CATEGORIES:Club Meeting - Evening
END:VEVENT
BEGIN:VEVENT
DTSTART;TZID=UTC:20250624T180000
DTEND;TZID=UTC:20250624T190000
DTSTAMP:20260424T045812
CREATED:20240830T144046Z
LAST-MODIFIED:20250617T123939Z
UID:9490-1750788000-1750791600@springfieldexchangeclub.org
SUMMARY:Exchange Member Meeting
DESCRIPTION:The Exchange Club of Springfield\, Ohio will meet for its regularly scheduled member meeting\, 6 PM\, in the at the Clark County Fairgrounds.  Guest Speaker will be Dean Blair\, Executive Director of the CC Fairgrounds.
URL:https://springfieldexchangeclub.org/event/exchange-member-meeting-21/
LOCATION:Clark County Fairgrounds\, 4401 S. Charleston Road\, Springfield\, OH\, 44502\, United States
CATEGORIES:Club Meeting - Evening
END:VEVENT
BEGIN:VEVENT
DTSTART;TZID=UTC:20250610T180000
DTEND;TZID=UTC:20250610T190000
DTSTAMP:20260424T045812
CREATED:20240830T143838Z
LAST-MODIFIED:20250426T114333Z
UID:9488-1749578400-1749582000@springfieldexchangeclub.org
SUMMARY:Exchange Member Meeting
DESCRIPTION:The Exchange Club of Springfield\, Ohio will meet for its regularly scheduled member meeting in the Gaier Room at the Main Branch of the Clark County Public Library  Guest Speaker TBD.
URL:https://springfieldexchangeclub.org/event/exchange-member-meeting-20/
LOCATION:Clark County Public Library\, 201 S. Fountain Ave\, Springfield\, OH\, 45502\, United States
CATEGORIES:Club Meeting - Evening
END:VEVENT
BEGIN:VEVENT
DTSTART;TZID=UTC:20250527T180000
DTEND;TZID=UTC:20250527T190000
DTSTAMP:20260424T045812
CREATED:20240830T143601Z
LAST-MODIFIED:20250328T172203Z
UID:9486-1748368800-1748372400@springfieldexchangeclub.org
SUMMARY:Exchange Club Meeting
DESCRIPTION:The Exchange Club of Springfield\, Ohio will meet for its regularly scheduled 6 PM evening member meeting at the Park Branch of the Clark County Public Library.  Guest Speaker will be Lo Hauser from Project Jericho.
URL:https://springfieldexchangeclub.org/event/exchange-club-meeting-15/
LOCATION:Clark County Public Library\, 201 S. Fountain Ave\, Springfield\, OH\, 45502\, United States
CATEGORIES:Club Meeting - Evening
END:VEVENT
BEGIN:VEVENT
DTSTART;TZID=UTC:20250513T180000
DTEND;TZID=UTC:20250513T190000
DTSTAMP:20260424T045812
CREATED:20240830T143052Z
LAST-MODIFIED:20250328T172534Z
UID:9481-1747159200-1747162800@springfieldexchangeclub.org
SUMMARY:Exchange Member Meeting
DESCRIPTION:The Exchange Club of Springfield\, Ohio will meet\, 6 PM\, for its regularly scheduled member meeting at the Park Branch of the Clark County Public Library. The club will present the Proudly We Hail Award to the Getz Family\, Ridgewood School\, and the Downtown Springfield Branch of Park National Bank.  The club will also welcome the Buckeye Girls State candidate that we will sponsor for the week-long program designed to educate Ohio’s young women in the duties\, privileges\, rights\, and responsibilities of good citizenship.
URL:https://springfieldexchangeclub.org/event/exchange-member-meeting-19/
LOCATION:Clark County Public Library\, 201 S. Fountain Ave\, Springfield\, OH\, 45502\, United States
CATEGORIES:Club Meeting - Evening
END:VEVENT
BEGIN:VEVENT
DTSTART;TZID=UTC:20250422T180000
DTEND;TZID=UTC:20250422T190000
DTSTAMP:20260424T045812
CREATED:20240830T132415Z
LAST-MODIFIED:20250328T172719Z
UID:9436-1745344800-1745348400@springfieldexchangeclub.org
SUMMARY:Exchange Member Meeting
DESCRIPTION:The Exchange Club of Springfield\, Ohio will meet at 6 PM on the campus of Wittenberg University in the Alumni Room of the Benham-Pence Student Center for the annual Club Officer and Directors’ Election\, and other club business.
URL:https://springfieldexchangeclub.org/event/exchange-member-news-6/
LOCATION:Wittenberg Student Center\, 734 Woodlawn\, Springfield\, 45504\, United States
CATEGORIES:Club Meeting - Evening
END:VEVENT
BEGIN:VEVENT
DTSTART;TZID=UTC:20250408T180000
DTEND;TZID=UTC:20250408T190000
DTSTAMP:20260424T045812
CREATED:20240830T132254Z
LAST-MODIFIED:20250328T171603Z
UID:9434-1744135200-1744138800@springfieldexchangeclub.org
SUMMARY:Exchange Member Meering
DESCRIPTION:The Exchange Club of Springfield\, Ohio will meet at 6 PM on the campus of Wittenberg University in the Alumni Room of the Benham-Pence Student Center.  Guest Speaker will be Michelle Hemphill from Champaign/Clark County Juvenile Diabetes. \n 
URL:https://springfieldexchangeclub.org/event/exchange-member-news-5/
LOCATION:Wittenberg Student Center\, 734 Woodlawn\, Springfield\, 45504\, United States
CATEGORIES:Club Meeting - Evening
END:VEVENT
BEGIN:VEVENT
DTSTART;TZID=UTC:20250325T180000
DTEND;TZID=UTC:20250325T190000
DTSTAMP:20260424T045812
CREATED:20240830T140751Z
LAST-MODIFIED:20240830T150445Z
UID:9462-1742925600-1742929200@springfieldexchangeclub.org
SUMMARY:Exchange Member Meeting
DESCRIPTION:The Exchange Club of Springfield\, Ohio will meet for its regularly scheduled meeting at 6 PM at the Benham-Pence Student Center. Guest Speaker TBD.
URL:https://springfieldexchangeclub.org/event/exchange-member-news-8/
LOCATION:Wittenberg Student Center\, 734 Woodlawn\, Springfield\, 45504\, United States
CATEGORIES:Club Meeting - Evening
END:VEVENT
BEGIN:VEVENT
DTSTART;TZID=UTC:20250311T180000
DTEND;TZID=UTC:20250311T190000
DTSTAMP:20260424T045812
CREATED:20240830T131932Z
LAST-MODIFIED:20240830T150313Z
UID:9430-1741716000-1741719600@springfieldexchangeclub.org
SUMMARY:Exchange Member Meeting
DESCRIPTION:The Exchange Club of Springfield\, Ohio will meet at 6 PM\, CC Public Library.  Guest Speaker TBD.
URL:https://springfieldexchangeclub.org/event/exchange-member-meeting-14/
LOCATION:Clark County Public Library\, 201 S. Fountain Ave\, Springfield\, OH\, 45502\, United States
CATEGORIES:Club Meeting - Evening
END:VEVENT
BEGIN:VEVENT
DTSTART;TZID=UTC:20250225T180000
DTEND;TZID=UTC:20250225T190000
DTSTAMP:20260424T045812
CREATED:20240830T131751Z
LAST-MODIFIED:20240830T131751Z
UID:9428-1740506400-1740510000@springfieldexchangeclub.org
SUMMARY:Exchange Member Meeting
DESCRIPTION:The Exchange Club of Springfield\, Ohio will meet at 6 PM on the campus of Wittenberg University in the Alumni Room of the Benham-Pence Student Center.  Guest Speaker TBD.
URL:https://springfieldexchangeclub.org/event/exchange-member-meeting-13/
LOCATION:Wittenberg Student Center\, 734 Woodlawn\, Springfield\, 45504\, United States
CATEGORIES:Club Meeting - Evening
END:VEVENT
BEGIN:VEVENT
DTSTART;TZID=UTC:20241112T180000
DTEND;TZID=UTC:20241112T190000
DTSTAMP:20260424T045812
CREATED:20240830T131205Z
LAST-MODIFIED:20241010T141335Z
UID:9422-1731434400-1731438000@springfieldexchangeclub.org
SUMMARY:Exchange Member Meeting
DESCRIPTION:The Exchange Club of Springfield\, Ohio will meet at 6 PM on the campus of Wittenberg University in the Alumni Room of the Benham-Pence Student Center.  Guest Speaker will be Jack Legg\, WellSpring.
URL:https://springfieldexchangeclub.org/event/exchange-member-news/
LOCATION:Wittenberg Student Center\, 734 Woodlawn\, Springfield\, 45504\, United States
CATEGORIES:Club Meeting - Evening
END:VEVENT
BEGIN:VEVENT
DTSTART;TZID=UTC:20241022T180000
DTEND;TZID=UTC:20241022T190000
DTSTAMP:20260424T045812
CREATED:20240830T131011Z
LAST-MODIFIED:20240924T142733Z
UID:9420-1729620000-1729623600@springfieldexchangeclub.org
SUMMARY:Exchange Member Meeting
DESCRIPTION:The Exchange Club of Springfield\, Ohio will meet at 6 PM on the campus of Wittenberg University in the Alumni Room of the Benham-Pence Student Center.  Guest Speaker will be Leanne Castillo\, Executive Director of Parks and Recreation.
URL:https://springfieldexchangeclub.org/event/exchange-member-meeting-12/
LOCATION:Wittenberg Student Center\, 734 Woodlawn\, Springfield\, 45504\, United States
CATEGORIES:Club Meeting - Evening
END:VEVENT
BEGIN:VEVENT
DTSTART;TZID=UTC:20241008T180000
DTEND;TZID=UTC:20241008T190000
DTSTAMP:20260424T045812
CREATED:20240830T130810Z
LAST-MODIFIED:20240924T142553Z
UID:9418-1728410400-1728414000@springfieldexchangeclub.org
SUMMARY:Exchange Member Meeting
DESCRIPTION:The Exchange Club of Springfield\, Ohio will meet at 6 PM on the campus of Wittenberg University in the Alumni Room of the Benham-Pence Student Center.  Guest Speaker will be Shaun Lisle\, Clark County Sheriff D.A.R.E Program.
URL:https://springfieldexchangeclub.org/event/exchange-member-meeting-11/
LOCATION:Wittenberg Student Center\, 734 Woodlawn\, Springfield\, 45504\, United States
CATEGORIES:Club Meeting - Evening
END:VEVENT
BEGIN:VEVENT
DTSTART;TZID=UTC:20240924T180000
DTEND;TZID=UTC:20240924T190000
DTSTAMP:20260424T045812
CREATED:20240830T130636Z
LAST-MODIFIED:20240924T142233Z
UID:9416-1727200800-1727204400@springfieldexchangeclub.org
SUMMARY:Exchange Member Meeting
DESCRIPTION:The Exchange Club of Springfield\, Ohio will meet at 6 PM on the campus of Wittenberg University in the Alumni Room of the Benham-Pence Student Center.  Guest Speaker will be Deb McCullough\, Executive Director of On-The-Rise.
URL:https://springfieldexchangeclub.org/event/exchange-member-meeting-10/
LOCATION:Wittenberg Student Center\, 734 Woodlawn\, Springfield\, 45504\, United States
CATEGORIES:Club Meeting - Evening
END:VEVENT
BEGIN:VEVENT
DTSTART;TZID=UTC:20240910T180000
DTEND;TZID=UTC:20240910T190000
DTSTAMP:20260424T045812
CREATED:20240830T130457Z
LAST-MODIFIED:20240830T130457Z
UID:9414-1725991200-1725994800@springfieldexchangeclub.org
SUMMARY:Exchange Member Meeting
DESCRIPTION:The Exchange Club of Springfield\, Ohio will meet at 6 PM on the campus of Wittenberg University in the Alumni Room of the Benham-Pence Student Center.  Guest Speaker TBD.
URL:https://springfieldexchangeclub.org/event/exchange-member-meeting-9/
LOCATION:Wittenberg Student Center\, 734 Woodlawn\, Springfield\, 45504\, United States
CATEGORIES:Club Meeting - Evening
END:VEVENT
BEGIN:VEVENT
DTSTART;TZID=UTC:20240827T180000
DTEND;TZID=UTC:20240827T190000
DTSTAMP:20260424T045812
CREATED:20240726T125339Z
LAST-MODIFIED:20240802T145854Z
UID:9254-1724781600-1724785200@springfieldexchangeclub.org
SUMMARY:Exchange Member Meeting
DESCRIPTION:The Exchange Club of Springfield\, Ohio will meet Tuesday August 27th\, 2024\, 6 PM\, at the Main Branch of the Clark County Public Library in the Gaier Room.  Guest Speaker will be Linda Sabo from ‘One Sandwich At A Time’.  .
URL:https://springfieldexchangeclub.org/event/exchange-member-meeting-8/
CATEGORIES:Club Meeting - Evening
END:VEVENT
BEGIN:VEVENT
DTSTART;TZID=UTC:20240813T180000
DTEND;TZID=UTC:20240813T190000
DTSTAMP:20260424T045812
CREATED:20240726T124439Z
LAST-MODIFIED:20240726T124439Z
UID:9247-1723572000-1723575600@springfieldexchangeclub.org
SUMMARY:Exchange Welcomes Soup Kitchen Leader
DESCRIPTION:The Exchange Club of Springfield\, Ohio will meet Tuesday August 13\, 2024\, 6 PM at the Clark County Public Library\, 201 S\, Fountain Ave\, Springfield\, in the Gaier Room.  Guest Speaker will be Fred Stegner\, Soup Kitchen.
URL:https://springfieldexchangeclub.org/event/exchange-welcomes-soup-kitchen-leader/
LOCATION:Clark County Public Library\, 201 S. Fountain Ave\, Springfield\, OH\, 45502\, United States
CATEGORIES:Club Meeting - Evening
END:VEVENT
BEGIN:VEVENT
DTSTART;TZID=UTC:20240709T180000
DTEND;TZID=UTC:20240709T190000
DTSTAMP:20260424T045812
CREATED:20240619T135426Z
LAST-MODIFIED:20240709T182205Z
UID:9079-1720548000-1720551600@springfieldexchangeclub.org
SUMMARY:Member Meeting
DESCRIPTION:The Exchange Club of Springfield\, Ohio will meet Tuesday July 9th\, 2024\, 6 PM\, at the Main Branch of the Clark County Public Library in the Gaier Room. Guest Speakers will be Majors Judy and Douglas Hart from the Salvation Army.
URL:https://springfieldexchangeclub.org/event/member-meeting/
LOCATION:Clark County Public Library\, 201 S. Fountain Ave\, Springfield\, OH\, 45502\, United States
CATEGORIES:Club Meeting - Evening
END:VEVENT
BEGIN:VEVENT
DTSTART;TZID=UTC:20240611T180000
DTEND;TZID=UTC:20240611T190000
DTSTAMP:20260424T045812
CREATED:20240301T193624Z
LAST-MODIFIED:20240610T173949Z
UID:8640-1718128800-1718132400@springfieldexchangeclub.org
SUMMARY:Exchange Member Meeting
DESCRIPTION:The Exchange Club of Springfield\, Ohio will meet Tuesday June 11\, 2024\, 6 PM at the Clark County Public Library in downtown Springfield. The annual Program Development Meeting will be held.
URL:https://springfieldexchangeclub.org/event/exchange-member-meeting-7/
LOCATION:Clark County Public Library\, 201 S. Fountain Ave\, Springfield\, OH\, 45502\, United States
CATEGORIES:Club Meeting - Evening
END:VEVENT
BEGIN:VEVENT
DTSTART;TZID=UTC:20240528T180000
DTEND;TZID=UTC:20240528T190000
DTSTAMP:20260424T045812
CREATED:20240301T192618Z
LAST-MODIFIED:20240301T194247Z
UID:8635-1716919200-1716922800@springfieldexchangeclub.org
SUMMARY:Club Member Meeting
DESCRIPTION:The Exchange Club of Springfield\, Ohio will meet Tuesday May 28\, 2024\, 6 PM at CoHatch in downtown Springfield. Guest Speaker TBD.
URL:https://springfieldexchangeclub.org/event/club-member-meeting-2/
LOCATION:COHATCH\, 101 S. Fountain Ave\, Springfield\, OH\, United States
CATEGORIES:Club Meeting - Evening
END:VEVENT
BEGIN:VEVENT
DTSTART;TZID=UTC:20240514T180000
DTEND;TZID=UTC:20240514T190000
DTSTAMP:20260424T045812
CREATED:20240301T192343Z
LAST-MODIFIED:20240511T141634Z
UID:8633-1715709600-1715713200@springfieldexchangeclub.org
SUMMARY:Club Member Meeting
DESCRIPTION:The Exchange Club of Springfield\, Ohio will meet Tuesday May 14\, 2024\, 6 PM\, at the Main Branch of the Clark County Public Library 201 S\, Fountain Ave\, Springfield\, Ohio\, in rooms 1 and 2. Guest Speaker will be Angela Boblitt\, Director of Choosing Hope Adoptions.
URL:https://springfieldexchangeclub.org/event/club-member-meeting/
LOCATION:COHATCH\, 101 S. Fountain Ave\, Springfield\, OH\, United States
CATEGORIES:Club Meeting - Evening
END:VEVENT
BEGIN:VEVENT
DTSTART;TZID=UTC:20240423T180000
DTEND;TZID=UTC:20240423T190000
DTSTAMP:20260424T045812
CREATED:20231218T164713Z
LAST-MODIFIED:20231218T164736Z
UID:8410-1713895200-1713898800@springfieldexchangeclub.org
SUMMARY:Exchange Club Member Meeting
DESCRIPTION:The Exchange Club of Springfield\, Ohio will meet at the Benham-Pence Student Center on the campus of Wittenberg University\, 6 PM\, for the its regularly scheduled club meeting\, to hold Club Officer and Board of Director Elections.
URL:https://springfieldexchangeclub.org/event/exchange-club-member-meeting-16/
LOCATION:Wittenberg Student Center\, 734 Woodlawn\, Springfield\, 45504\, United States
CATEGORIES:Club Meeting - Evening
END:VEVENT
BEGIN:VEVENT
DTSTART;TZID=UTC:20240409T180000
DTEND;TZID=UTC:20240409T190000
DTSTAMP:20260424T045812
CREATED:20231218T162215Z
LAST-MODIFIED:20240321T160650Z
UID:8395-1712685600-1712689200@springfieldexchangeclub.org
SUMMARY:Exchange Member Meeting
DESCRIPTION:April is Prevention of Child Abuse Month \nThe Exchange Club of Springfield\, Ohio will meet at the Benham-Pence Student Center on the campus of Wittenberg University\, 6 PM\, for the its regularly scheduled club meeting. Guest Speaker will be Shelby Lowe\, Clark County Child Advocacy Center.
URL:https://springfieldexchangeclub.org/event/exchange-member-meeting-5/
LOCATION:Wittenberg Student Center\, 734 Woodlawn\, Springfield\, 45504\, United States
CATEGORIES:Club Meeting - Evening
END:VEVENT
BEGIN:VEVENT
DTSTART;TZID=UTC:20240326T180000
DTEND;TZID=UTC:20240326T190000
DTSTAMP:20260424T045812
CREATED:20231218T162607Z
LAST-MODIFIED:20240321T160441Z
UID:8399-1711476000-1711479600@springfieldexchangeclub.org
SUMMARY:Exchange Club Member Meeting
DESCRIPTION:The Exchange Club of Springfield\, Ohio will meet at the Benham-Pence Student Center on the campus of Wittenberg University\, 6 PM\, for the its regularly scheduled club meeting. Guest Speaker will be Abby Easton\, Court Appointed Special Advocate (CASA)
URL:https://springfieldexchangeclub.org/event/exchange-club-member-meeting-15/
LOCATION:Wittenberg Student Center\, 734 Woodlawn\, Springfield\, 45504\, United States
CATEGORIES:Club Meeting - Evening
END:VEVENT
BEGIN:VEVENT
DTSTART;TZID=UTC:20240312T180000
DTEND;TZID=UTC:20240312T190000
DTSTAMP:20260424T045812
CREATED:20231218T162443Z
LAST-MODIFIED:20240301T194745Z
UID:8397-1710266400-1710270000@springfieldexchangeclub.org
SUMMARY:Exchange Club Member Meeting
DESCRIPTION:The Exchange Club of Springfield\, Ohio will meet at the Benham-Pence Student Center on the campus of Wittenberg University\, 6 PM\, for the its regularly scheduled club meeting. Guest Speakers will be Rob Lavoie and Mike Taylor from Tecumseh Council BSA.
URL:https://springfieldexchangeclub.org/event/exchange-club-member-meeting-14/
LOCATION:Wittenberg Student Center\, 734 Woodlawn\, Springfield\, 45504\, United States
CATEGORIES:Club Meeting - Evening
END:VEVENT
BEGIN:VEVENT
DTSTART;TZID=UTC:20240227T180000
DTEND;TZID=UTC:20240227T190000
DTSTAMP:20260424T045812
CREATED:20231218T162020Z
LAST-MODIFIED:20231218T162020Z
UID:8393-1709056800-1709060400@springfieldexchangeclub.org
SUMMARY:Exchange Youth of the Year Voting
DESCRIPTION:The Exchange Club of Springfield\, Ohio will meet at the Benham-Pence Student Center on the campus of Wittenberg University\, 6 PM\, for the Youth of the Year voting.
URL:https://springfieldexchangeclub.org/event/exchange-youth-of-the-year-voting/
CATEGORIES:Club Meeting - Evening
END:VEVENT
BEGIN:VEVENT
DTSTART;TZID=UTC:20231128T180000
DTEND;TZID=UTC:20231128T190000
DTSTAMP:20260424T045812
CREATED:20230801T163714Z
LAST-MODIFIED:20231108T155718Z
UID:7913-1701194400-1701198000@springfieldexchangeclub.org
SUMMARY:Exchange Club Member Meeting
DESCRIPTION:The Exchange Club of Springfield\, Ohio will meet this evening at the Benham-Pence Student Center\, 6 PM.  Guest speaker will be Janet Wells form Honor Flight.
URL:https://springfieldexchangeclub.org/event/exchange-club-member-meeting-12/
LOCATION:Wittenberg Student Center\, 734 Woodlawn\, Springfield\, 45504\, United States
CATEGORIES:Club Meeting - Evening
END:VEVENT
END:VCALENDAR