BEGIN:VCALENDAR
VERSION:2.0
PRODID:-//Springfield Exchange Club - ECPv6.15.18//NONSGML v1.0//EN
CALSCALE:GREGORIAN
METHOD:PUBLISH
X-WR-CALNAME:Springfield Exchange Club
X-ORIGINAL-URL:https://springfieldexchangeclub.org
X-WR-CALDESC:Events for Springfield Exchange Club
REFRESH-INTERVAL;VALUE=DURATION:PT1H
X-Robots-Tag:noindex
X-PUBLISHED-TTL:PT1H
BEGIN:VTIMEZONE
TZID:UTC
BEGIN:STANDARD
TZOFFSETFROM:+0000
TZOFFSETTO:+0000
TZNAME:UTC
DTSTART:20240101T000000
END:STANDARD
END:VTIMEZONE
BEGIN:VEVENT
DTSTART;TZID=UTC:20251028T180000
DTEND;TZID=UTC:20251028T193000
DTSTAMP:20260425T162146
CREATED:20250827T151958Z
LAST-MODIFIED:20251019T191636Z
UID:11222-1761674400-1761679800@springfieldexchangeclub.org
SUMMARY:Springfield Exchange Member Meeting
DESCRIPTION:The Exchange Club of Springfield\, Ohio will meet at 6 PM on the campus of Wittenberg University in Room 105B of the Shouvlin Center. Guest speaker will be Emily Kulow\, Executive Director of Project Woman.
URL:https://springfieldexchangeclub.org/event/springfield-exchange-member-news/
LOCATION:Shouvlin Center\, 737 N. Fountain Avenue\, Springfield\, OH\, 45502\, United States
CATEGORIES:Club Meeting - Evening
END:VEVENT
BEGIN:VEVENT
DTSTART;TZID=UTC:20251111T180000
DTEND;TZID=UTC:20251111T193000
DTSTAMP:20260425T162146
CREATED:20250827T152217Z
LAST-MODIFIED:20251027T153830Z
UID:11225-1762884000-1762889400@springfieldexchangeclub.org
SUMMARY:Springfield Exchange Club Member Meeting
DESCRIPTION:The Exchange Club of Springfield\, Ohio will meet at 6 PM on the campus of Wittenberg University in the Student Center Alumni Room. Guest speaker will be Wayne Myers\, Springfield Promise Neighborhood.
URL:https://springfieldexchangeclub.org/event/springfield-exchange-club-member-meeting-4/
LOCATION:Wittenberg Student Center\, 734 Woodlawn\, Springfield\, 45504\, United States
CATEGORIES:Club Meeting - Evening
END:VEVENT
BEGIN:VEVENT
DTSTART;TZID=UTC:20251125T180000
DTEND;TZID=UTC:20251125T183000
DTSTAMP:20260425T162146
CREATED:20250827T152407Z
LAST-MODIFIED:20250827T152437Z
UID:11227-1764093600-1764095400@springfieldexchangeclub.org
SUMMARY:Springfield Exchange will not meet due to the Thanksgiving Holiday
DESCRIPTION:Happy Thanksgiving from the Exchange Club of Springfield\, Ohio!
URL:https://springfieldexchangeclub.org/event/springfield-exchange-will-not-meet-due-to-the-thanksgiving-holiday/
CATEGORIES:Club Meeting - Evening
END:VEVENT
BEGIN:VEVENT
DTSTART;TZID=UTC:20251223T180000
DTEND;TZID=UTC:20251223T183000
DTSTAMP:20260425T162146
CREATED:20250827T152907Z
LAST-MODIFIED:20250827T152907Z
UID:11231-1766512800-1766514600@springfieldexchangeclub.org
SUMMARY:Springfield Exchange will not meet due to the Christmas Holiday
DESCRIPTION:Merry Christmas from the Exchange Club of Springfield\, Ohio!
URL:https://springfieldexchangeclub.org/event/springfield-exchange-will-not-meet-due-to-the-christmas-holiday/
CATEGORIES:Club Meeting - Evening
END:VEVENT
BEGIN:VEVENT
DTSTART;TZID=UTC:20260224T180000
DTEND;TZID=UTC:20260224T190000
DTSTAMP:20260425T162146
CREATED:20251027T162622Z
LAST-MODIFIED:20260222T140603Z
UID:11594-1771956000-1771959600@springfieldexchangeclub.org
SUMMARY:Springfield Exchange Member Meeting
DESCRIPTION:The Exchange Club of Springfield\, OH will meet at the Benham-Pence Student Center\, 6 PM\, in the Alumni Room\, to vote for the Youth of the Year and A.C.E. Award college scholarship recipients. \nThe club will also welcome representatives of the Sleep In Heavenly Peace project.  Club members have assisted them in building beds for children who have none.
URL:https://springfieldexchangeclub.org/event/springfield-exchange-member-meeting-29/
LOCATION:Wittenberg Student Center\, 734 Woodlawn\, Springfield\, 45504\, United States
CATEGORIES:Club Meeting - Evening
END:VEVENT
BEGIN:VEVENT
DTSTART;TZID=UTC:20260310T180000
DTEND;TZID=UTC:20260310T190000
DTSTAMP:20260425T162146
CREATED:20251027T155326Z
LAST-MODIFIED:20260222T140822Z
UID:11565-1773165600-1773169200@springfieldexchangeclub.org
SUMMARY:Springfield Exchange Member Meeting
DESCRIPTION:The Exchange Club of Springfield\, Ohio will meet at 6 PM at the Clark County Public Library Park Shopping Center Branch. Guest speakers TBD.
URL:https://springfieldexchangeclub.org/event/springfield-exchange-member-meeting-20/
LOCATION:Park Shopping Center Library Branch\, 1119 N Bechtle Ave\,\, Springfield\, OH\, 45504\, United States
CATEGORIES:Club Meeting - Evening
END:VEVENT
BEGIN:VEVENT
DTSTART;TZID=UTC:20260324T120000
DTEND;TZID=UTC:20260324T130000
DTSTAMP:20260425T162146
CREATED:20251027T155517Z
LAST-MODIFIED:20251027T155517Z
UID:11567-1774353600-1774357200@springfieldexchangeclub.org
SUMMARY:Springfield Exchange Member Meeting
DESCRIPTION:The Exchange Club of Springfield\, Ohio will meet at 6 PM on the campus of Wittenberg University in the Student Center Alumni Room. Guest speakers TBD.
URL:https://springfieldexchangeclub.org/event/springfield-exchange-member-meeting-21/
LOCATION:Wittenberg Student Center\, 734 Woodlawn\, Springfield\, 45504\, United States
CATEGORIES:Club Meeting - Evening
END:VEVENT
BEGIN:VEVENT
DTSTART;TZID=UTC:20260414T180000
DTEND;TZID=UTC:20260414T190000
DTSTAMP:20260425T162146
CREATED:20251027T155649Z
LAST-MODIFIED:20251027T155649Z
UID:11569-1776189600-1776193200@springfieldexchangeclub.org
SUMMARY:Springfield Exchange Member Meeting
DESCRIPTION:The Exchange Club of Springfield\, Ohio will meet at 6 PM on the campus of Wittenberg University in the Student Center Alumni Room. Guest speakers TBD.
URL:https://springfieldexchangeclub.org/event/springfield-exchange-member-meeting-22/
LOCATION:Wittenberg Student Center\, 734 Woodlawn\, Springfield\, 45504\, United States
CATEGORIES:Club Meeting - Evening
END:VEVENT
BEGIN:VEVENT
DTSTART;TZID=UTC:20260428T180000
DTEND;TZID=UTC:20260428T190000
DTSTAMP:20260425T162146
CREATED:20251027T155819Z
LAST-MODIFIED:20251027T155819Z
UID:11571-1777399200-1777402800@springfieldexchangeclub.org
SUMMARY:Springfield Exchange Member Meeting
DESCRIPTION:The Exchange Club of Springfield\, Ohio will meet at 6 PM on the campus of Wittenberg University in the Student Center Alumni Room. Guest speakers TBD.
URL:https://springfieldexchangeclub.org/event/springfield-exchange-member-meeting-23/
LOCATION:Wittenberg Student Center\, 734 Woodlawn\, Springfield\, 45504\, United States
CATEGORIES:Club Meeting - Evening
END:VEVENT
BEGIN:VEVENT
DTSTART;TZID=UTC:20260512T180000
DTEND;TZID=UTC:20260512T190000
DTSTAMP:20260425T162146
CREATED:20251027T160557Z
LAST-MODIFIED:20251027T160617Z
UID:11579-1778608800-1778612400@springfieldexchangeclub.org
SUMMARY:Springfield Exchange Member Meeting
DESCRIPTION:The Exchange Club of Springfield\, Ohio will meet at 6 PM on the campus of Wittenberg University in the Student Center Alumni Room. Guest speakers TBD.
URL:https://springfieldexchangeclub.org/event/springfield-exchange-member-meeting-24/
LOCATION:Wittenberg Student Center\, 734 Woodlawn\, Springfield\, 45504\, United States
CATEGORIES:Club Meeting - Evening
END:VEVENT
BEGIN:VEVENT
DTSTART;TZID=UTC:20260526T180000
DTEND;TZID=UTC:20260526T190000
DTSTAMP:20260425T162146
CREATED:20251027T161017Z
LAST-MODIFIED:20251027T161017Z
UID:11583-1779818400-1779822000@springfieldexchangeclub.org
SUMMARY:Springfield Exchange Member Meeting
DESCRIPTION:The Exchange Club of Springfield\, Ohio will meet at 6 PM at the Main Branch of the Clark County Public Libray. Guest speakers TBD.
URL:https://springfieldexchangeclub.org/event/springfield-exchange-member-meeting-25/
LOCATION:Clark County Public Library\, 201 S. Fountain Ave\, Springfield\, OH\, 45502\, United States
CATEGORIES:Club Meeting - Evening
END:VEVENT
BEGIN:VEVENT
DTSTART;TZID=UTC:20260609T180000
DTEND;TZID=UTC:20260609T190000
DTSTAMP:20260425T162146
CREATED:20251027T161225Z
LAST-MODIFIED:20251027T161225Z
UID:11585-1781028000-1781031600@springfieldexchangeclub.org
SUMMARY:Springfield Exchange Member Meeting
DESCRIPTION:The Exchange Club of Springfield\, Ohio will meet at 6 PM at the Main Branch of the Clark County Public Library Gaier Room. Guest speakers TBD.
URL:https://springfieldexchangeclub.org/event/springfield-exchange-member-meeting-26/
LOCATION:Clark County Public Library\, 201 S. Fountain Ave\, Springfield\, OH\, 45502\, United States
CATEGORIES:Club Meeting - Evening
END:VEVENT
BEGIN:VEVENT
DTSTART;TZID=UTC:20260623T180000
DTEND;TZID=UTC:20260623T190000
DTSTAMP:20260425T162146
CREATED:20251027T161408Z
LAST-MODIFIED:20251027T161408Z
UID:11587-1782237600-1782241200@springfieldexchangeclub.org
SUMMARY:Springfield Exchange Member Meeting
DESCRIPTION:The Exchange Club of Springfield\, Ohio will meet at 6 PM at the Main Branch of the Clark County Public Library Gaier Room. Guest speakers TBD.
URL:https://springfieldexchangeclub.org/event/springfield-exchange-member-meeting-27/
LOCATION:Clark County Public Library\, 201 S. Fountain Ave\, Springfield\, OH\, 45502\, United States
CATEGORIES:Club Meeting - Evening
END:VEVENT
END:VCALENDAR