BEGIN:VCALENDAR
VERSION:2.0
PRODID:-//Springfield Exchange Club - ECPv6.15.18//NONSGML v1.0//EN
CALSCALE:GREGORIAN
METHOD:PUBLISH
X-ORIGINAL-URL:https://springfieldexchangeclub.org
X-WR-CALDESC:Events for Springfield Exchange Club
REFRESH-INTERVAL;VALUE=DURATION:PT1H
X-Robots-Tag:noindex
X-PUBLISHED-TTL:PT1H
BEGIN:VTIMEZONE
TZID:UTC
BEGIN:STANDARD
TZOFFSETFROM:+0000
TZOFFSETTO:+0000
TZNAME:UTC
DTSTART:20180101T000000
END:STANDARD
END:VTIMEZONE
BEGIN:VEVENT
DTSTART;TZID=UTC:20230613T180000
DTEND;TZID=UTC:20230613T190000
DTSTAMP:20260424T111204
CREATED:20230323T141302Z
LAST-MODIFIED:20230608T121522Z
UID:7579-1686679200-1686682800@springfieldexchangeclub.org
SUMMARY:Exchange Club Meeting
DESCRIPTION:The Exchange Club of Springfield\, Ohio will meet at 6 PM for its regularly scheduled club meeting at COhatch in downtown Springfield.  Guest Speaker will be Laura Baxter\, Project Woman.
URL:https://springfieldexchangeclub.org/event/exchange-club-meeting-17/
LOCATION:COHATCH\, 101 S. Fountain Ave\, Springfield\, OH\, United States
CATEGORIES:Club Meeting - Evening
END:VEVENT
BEGIN:VEVENT
DTSTART;TZID=UTC:20230523T180000
DTEND;TZID=UTC:20230523T200000
DTSTAMP:20260424T111204
CREATED:20230224T155212Z
LAST-MODIFIED:20230224T155212Z
UID:7484-1684864800-1684872000@springfieldexchangeclub.org
SUMMARY:Exchange Club Meeting
DESCRIPTION:The Exchange Club of Springfield\, Ohio will meet at COhatch for its regularly scheduled evening meeting at 6 PM.  Guest Speaker TBD.
URL:https://springfieldexchangeclub.org/event/exchange-club-meeting-14/
LOCATION:COHATCH\, 101 S. Fountain Ave\, Springfield\, OH\, United States
CATEGORIES:Club Meeting - Evening
END:VEVENT
BEGIN:VEVENT
DTSTART;TZID=UTC:20230523T180000
DTEND;TZID=UTC:20230523T190000
DTSTAMP:20260424T111204
CREATED:20230526T191443Z
LAST-MODIFIED:20230526T192220Z
UID:7709-1684864800-1684868400@springfieldexchangeclub.org
SUMMARY:Salvation Army Visits Exchange
DESCRIPTION:The Exchange Club of Springfield\, Ohio will meet Tuesday May 23\, 2023\, 6 PM\, at COhatch 101 S. Fountain Ave\, in downtown Springfield. Guest Speaker will be Ryan Ray\, Director of Development\, Salvation Army.
URL:https://springfieldexchangeclub.org/event/salvation-army-visits-exchange/
LOCATION:COHATCH\, 101 S. Fountain Ave\, Springfield\, OH\, United States
CATEGORIES:Club Meeting - Evening
END:VEVENT
BEGIN:VEVENT
DTSTART;TZID=UTC:20230509T180000
DTEND;TZID=UTC:20230509T200000
DTSTAMP:20260424T111204
CREATED:20230224T154212Z
LAST-MODIFIED:20230224T154212Z
UID:7478-1683655200-1683662400@springfieldexchangeclub.org
SUMMARY:Exchange Club Meeting
DESCRIPTION:The Exchange Club of Springfield\, Ohio will meet at Wittenberg’s Benham-Pence Student Center for its regularly scheduled evening meeting at 6 PM.  Guest Speaker TBD.
URL:https://springfieldexchangeclub.org/event/exchange-club-meeting-13/
LOCATION:Wittenberg Student Center\, 734 Woodlawn\, Springfield\, 45504\, United States
CATEGORIES:Club Meeting - Evening
END:VEVENT
BEGIN:VEVENT
DTSTART;TZID=UTC:20230425T180000
DTEND;TZID=UTC:20230425T190000
DTSTAMP:20260424T111204
CREATED:20221220T201148Z
LAST-MODIFIED:20221220T201148Z
UID:7140-1682445600-1682449200@springfieldexchangeclub.org
SUMMARY:Exchange Meets to Elect Officers and Directors
DESCRIPTION:The Exchange Club of Springfield\, Ohio will meet as a Committee of the Whole to vote for the 2023-24 Officers and Directors.
URL:https://springfieldexchangeclub.org/event/exchange-meets-to-elect-officers-and-directors/
LOCATION:Wittenberg Student Center\, 734 Woodlawn\, Springfield\, 45504\, United States
CATEGORIES:Club Meeting - Evening
END:VEVENT
BEGIN:VEVENT
DTSTART;TZID=UTC:20230411T180000
DTEND;TZID=UTC:20230411T200000
DTSTAMP:20260424T111204
CREATED:20230224T154034Z
LAST-MODIFIED:20230224T154034Z
UID:7476-1681236000-1681243200@springfieldexchangeclub.org
SUMMARY:Exchange Club Meeting
DESCRIPTION:The Exchange Club of Springfield\, Ohio will meet at Wittenberg’s Benham-Pence Student Center for its regularly scheduled evening meeting at 6 PM.  Guest Speaker TBD.
URL:https://springfieldexchangeclub.org/event/exchange-club-meeting-12/
LOCATION:Wittenberg Student Center\, 734 Woodlawn\, Springfield\, 45504\, United States
CATEGORIES:Club Meeting - Evening
END:VEVENT
BEGIN:VEVENT
DTSTART;TZID=UTC:20230328T180000
DTEND;TZID=UTC:20230328T190000
DTSTAMP:20260424T111204
CREATED:20221220T195501Z
LAST-MODIFIED:20230316T154818Z
UID:7128-1680026400-1680030000@springfieldexchangeclub.org
SUMMARY:Springfield Exchange Club Presents the Proudly We Hail Award
DESCRIPTION:The Exchange Club of Springfield\, Ohio\, will meet Tuesday\, March 28\, 2023\, 6:00 PM at the Benham-Pence Student Center Alumni Room on the campus of Wittenberg University.  We will present the Proudly We Hail Award to IH Credit Union\, and Topre America. \nNo symbol inspires respect and love of country more than our American flag — the Stars and Stripes. That is why Exchange encourages all Americans to properly fly the flag as an ongoing\, highly visible expression of that respect through the Proudly We Hail program. \nProudly We Hail honors those Americans who display the nation’s banner properly and regularly. Recognition is in the form of a beautiful plaque specially designed for this purpose. \n.
URL:https://springfieldexchangeclub.org/event/exchange-club-member-meeting-4/
LOCATION:Wittenberg Student Center\, 734 Woodlawn\, Springfield\, 45504\, United States
CATEGORIES:Club Meeting - Evening
END:VEVENT
BEGIN:VEVENT
DTSTART;TZID=UTC:20230314T180000
DTEND;TZID=UTC:20230314T190000
DTSTAMP:20260424T111204
CREATED:20221220T193941Z
LAST-MODIFIED:20221220T193941Z
UID:7122-1678816800-1678820400@springfieldexchangeclub.org
SUMMARY:Exchange Club Meeting
DESCRIPTION:The Exchange Club of Springfield\, Ohio\, will meet Tuesday\, March 14\, 2023\, 6:00 PM at the Benham-Pence Student Center Alumni Room on the campus of Wittenberg University.  Guest Speaker TBD.
URL:https://springfieldexchangeclub.org/event/exchange-club-meeting-10/
LOCATION:Wittenberg Student Center\, 734 Woodlawn\, Springfield\, 45504\, United States
CATEGORIES:Club Meeting - Evening
END:VEVENT
BEGIN:VEVENT
DTSTART;TZID=UTC:20230228T180000
DTEND;TZID=UTC:20230228T190000
DTSTAMP:20260424T111204
CREATED:20221220T193450Z
LAST-MODIFIED:20221220T193450Z
UID:7120-1677607200-1677610800@springfieldexchangeclub.org
SUMMARY:Youth of the Year and A.C.E. Award Scholarships Voting
DESCRIPTION:The Exchange Club of Springfield\, Ohio will complete evaluations and voting for the 2022-23 Youth of the Year and A.C.E. Award recipients.
URL:https://springfieldexchangeclub.org/event/youth-of-the-year-and-a-c-e-award-scholarships-voting/
LOCATION:Wittenberg Student Center\, 734 Woodlawn\, Springfield\, 45504\, United States
CATEGORIES:Club Meeting - Evening
END:VEVENT
BEGIN:VEVENT
DTSTART;TZID=UTC:20221122T180000
DTEND;TZID=UTC:20221122T190000
DTSTAMP:20260424T111204
CREATED:20220903T131453Z
LAST-MODIFIED:20221121T184606Z
UID:6369-1669140000-1669143600@springfieldexchangeclub.org
SUMMARY:Springfield Exchange Club Member Meeting
DESCRIPTION:The Exchange Club of Springfield\, Ohio will meet Tuesday\, November 22\, 2022\, 6 PM in the Alumni Room of the Wittenberg Benham-Pence Student Center.\nGuest Speaker will be Jack Legg of mental health provider WellSpring. He facilitates the PAX and the SPARK programs there. Mr. Legg stated\, “The phrase “PAX Leader” refers to a student who exhibits “PAX” behaviors. Moving away from unhelpful terms like good or bad\, PAX is shorthand for any behavior we want to see more of in a given context. Every kid is a PAX Leader\, because every kid contributes positively to the world in some way. In this exercise\, students were asked to think back on their day and identify one specific way they’ve been a “PAX Leader.” What’s one way you were helpful\, or kind\, or responsible\, or safe?”
URL:https://springfieldexchangeclub.org/event/springfield-exchange-club-member-meeting-2/
LOCATION:Wittenberg Student Center\, 734 Woodlawn\, Springfield\, 45504\, United States
CATEGORIES:Club Meeting - Evening
END:VEVENT
BEGIN:VEVENT
DTSTART;TZID=UTC:20221108T180000
DTEND;TZID=UTC:20221108T190000
DTSTAMP:20260424T111204
CREATED:20220903T131315Z
LAST-MODIFIED:20220928T151246Z
UID:6367-1667930400-1667934000@springfieldexchangeclub.org
SUMMARY:Springfield Exchange Member Meeting
DESCRIPTION:The Exchange Club of Springfield\, Ohio will meet Tuesday November 8\, 2022\, 6 PM\,  at the Benham-Pence Student  Center Alumni Room.  Guest Speaker will be  Laura Rapoch – Save A Warrior.
URL:https://springfieldexchangeclub.org/event/springfield-exchange-member-meeting-12/
LOCATION:Wittenberg Student Center\, 734 Woodlawn\, Springfield\, 45504\, United States
CATEGORIES:Club Meeting - Evening
END:VEVENT
BEGIN:VEVENT
DTSTART;TZID=UTC:20221011T180000
DTEND;TZID=UTC:20221011T190000
DTSTAMP:20260424T111204
CREATED:20220903T125829Z
LAST-MODIFIED:20220928T150432Z
UID:6355-1665511200-1665514800@springfieldexchangeclub.org
SUMMARY:Springfield Member Meeting
DESCRIPTION:The Exchange Club of Springfield\, Ohio\, will meet Tuesday October 11\, 2022\, 6 PM\,  at the Benham-Pence Student  Center Alumni Room.  Guest Speaker Abbey Easton\, Program/Volunteer Coordinator for Mentoring\, Clark County Court Appointed Special Advocate\, (CASA).
URL:https://springfieldexchangeclub.org/event/springfield-member-meeting-4/
LOCATION:Wittenberg Student Center\, 734 Woodlawn\, Springfield\, 45504\, United States
CATEGORIES:Club Meeting - Evening
END:VEVENT
BEGIN:VEVENT
DTSTART;TZID=UTC:20220927T180000
DTEND;TZID=UTC:20220927T190000
DTSTAMP:20260424T111204
CREATED:20220810T134515Z
LAST-MODIFIED:20220823T154120Z
UID:6142-1664301600-1664305200@springfieldexchangeclub.org
SUMMARY:Exchange Member Meeting
DESCRIPTION:The Exchange Club of Springfield\, Ohio will meet Tuesday September 27\, 2022\, 6:00 PM at the Wittenberg Benham Pence Student Center Alumni Room. Guest Speaker TBD.
URL:https://springfieldexchangeclub.org/event/exchange-member-meeting-4/
LOCATION:Wittenberg Student Center\, 734 Woodlawn\, Springfield\, 45504\, United States
CATEGORIES:Club Meeting - Evening
END:VEVENT
BEGIN:VEVENT
DTSTART;TZID=UTC:20220913T180000
DTEND;TZID=UTC:20220913T190000
DTSTAMP:20260424T111205
CREATED:20220810T134218Z
LAST-MODIFIED:20220823T153849Z
UID:6140-1663092000-1663095600@springfieldexchangeclub.org
SUMMARY:Exchange Member Meeting
DESCRIPTION:The Exchange Club of Springfield\, Ohio will meet Tuesday September 13\, 2022\, the Wittenberg Benham Pence Student Center’s Alumni Room at 6 PM.
URL:https://springfieldexchangeclub.org/event/exchange-member-meeting-3/
LOCATION:Wittenberg Student Center\, 734 Woodlawn\, Springfield\, 45504\, United States
CATEGORIES:Club Meeting - Evening
END:VEVENT
BEGIN:VEVENT
DTSTART;TZID=UTC:20220809T180000
DTEND;TZID=UTC:20220809T190000
DTSTAMP:20260424T111205
CREATED:20220810T133327Z
LAST-MODIFIED:20220810T133327Z
UID:6134-1660068000-1660071600@springfieldexchangeclub.org
SUMMARY:Exchange Business Meeting
DESCRIPTION:The Exchange Club of Springfield\, Ohio will meet Tuesday August 9\, 2022 at COhatch for an evening meeting at 6 PM.
URL:https://springfieldexchangeclub.org/event/exchange-business-meeting/
LOCATION:COHATCH\, 101 S. Fountain Ave\, Springfield\, OH\, United States
CATEGORIES:Club Meeting - Evening
END:VEVENT
BEGIN:VEVENT
DTSTART;TZID=UTC:20210713T180000
DTEND;TZID=UTC:20210713T190000
DTSTAMP:20260424T111205
CREATED:20210715T155828Z
LAST-MODIFIED:20210715T155828Z
UID:2707-1626199200-1626202800@springfieldexchangeclub.org
SUMMARY:Exchange Member Meeting
DESCRIPTION:The Exchange Club of Springfield will meet met Tuesday July 13\, 2021\, 6 PM\, at COhatch\, 101 S. Fountain Avenue.\n\n\n\nOur guest speaker will be Hannah Weymount who is an intern with the Clark County Fair Board. Ms. Weymount will speak about not only the Fair but other activities and events at the Fairgrounds in the months to come.\n\n\n\nThe club will once again hold Kid’s Day at the Fair Games at the race track starting at 1:00PM Wednesday July 28\, 2021. This will be the 72nd anniversary of the club’s Signature Project at the Fair!
URL:https://springfieldexchangeclub.org/event/exchange-member-meeting/
LOCATION:COHATCH\, 101 S. Fountain Ave\, Springfield\, OH\, United States
CATEGORIES:Club Meeting - Evening
END:VEVENT
BEGIN:VEVENT
DTSTART;TZID=UTC:20210622T180000
DTEND;TZID=UTC:20210622T193000
DTSTAMP:20260424T111205
CREATED:20210601T143242Z
LAST-MODIFIED:20210601T143254Z
UID:2658-1624384800-1624390200@springfieldexchangeclub.org
SUMMARY:Springfield Member Meeting
DESCRIPTION:The Exchange Club of Springfield\, Ohio will meet Tuesday June 22\, 2021 at COHATCH for its regular member meeting\, at 6:00 PM. Guest Speaker TBD.
URL:https://springfieldexchangeclub.org/event/springfield-member-meeting/
LOCATION:COHATCH\, 101 S. Fountain Ave\, Springfield\, OH\, United States
CATEGORIES:Club Meeting - Evening
END:VEVENT
BEGIN:VEVENT
DTSTART;TZID=UTC:20210525T173000
DTEND;TZID=UTC:20210525T190000
DTSTAMP:20260424T111205
CREATED:20210416T200523Z
LAST-MODIFIED:20210416T200523Z
UID:2606-1621963800-1621969200@springfieldexchangeclub.org
SUMMARY:Exchange Meeting
DESCRIPTION:The Exchange Club of Springfield will meet at a time and a place TBD.
URL:https://springfieldexchangeclub.org/event/exchange-meeting/
CATEGORIES:Club Meeting - Evening
END:VEVENT
BEGIN:VEVENT
DTSTART;TZID=UTC:20210511T180000
DTEND;TZID=UTC:20210511T190000
DTSTAMP:20260424T111205
CREATED:20210416T200325Z
LAST-MODIFIED:20210416T200325Z
UID:2603-1620756000-1620759600@springfieldexchangeclub.org
SUMMARY:Exchange Welcomes On-The-Rise
DESCRIPTION:The Exchange Club of Springfield\, Ohio will meet Tuesday May 11\, 2021 at a time and place TBD.  Guest Speaker will be Deb McCullough\, Director of On-The-Rise.
URL:https://springfieldexchangeclub.org/event/exchange-welcomes-on-the-rise-2/
CATEGORIES:Club Meeting - Evening
END:VEVENT
BEGIN:VEVENT
DTSTART;TZID=UTC:20210427T180000
DTEND;TZID=UTC:20210427T190000
DTSTAMP:20260424T111205
CREATED:20210330T144439Z
LAST-MODIFIED:20210330T144439Z
UID:2572-1619546400-1619550000@springfieldexchangeclub.org
SUMMARY:Business Meeting - Election of Officers and Directors
DESCRIPTION:The Exchange Club of Springfield\, Ohio will meet virtually via Webex at 6 PM Tuesday April 27th\, 2021 for the purposes of electing 2021-22 Officers and Directors.
URL:https://springfieldexchangeclub.org/event/business-meeting-election-of-officers-and-directors/
CATEGORIES:Club Meeting - Evening
END:VEVENT
BEGIN:VEVENT
DTSTART;TZID=UTC:20210413T180000
DTEND;TZID=UTC:20210413T190000
DTSTAMP:20260424T111205
CREATED:20210330T144240Z
LAST-MODIFIED:20210416T195827Z
UID:2570-1618336800-1618340400@springfieldexchangeclub.org
SUMMARY:Exchange Welcomes Clark County Child Advocacy Center
DESCRIPTION:The Exchange Club of Springfield\, Ohio will meet at 6 PM Tuesday April 13\, 2021 virtually via Webex.  Guest Speaker will be Carlisa Parker\, Director of the Clark County Child Advocacy Center.
URL:https://springfieldexchangeclub.org/event/exchange-welcomes-on-the-rise/
CATEGORIES:Club Meeting - Evening
END:VEVENT
BEGIN:VEVENT
DTSTART;TZID=UTC:20200512T180000
DTEND;TZID=UTC:20200512T190000
DTSTAMP:20260424T111205
CREATED:20200302T234923Z
LAST-MODIFIED:20200509T151607Z
UID:2176-1589306400-1589310000@springfieldexchangeclub.org
SUMMARY:Springfield Membership Meeting
DESCRIPTION:We will meet virtually Tuesday May 12\, 2020\, AT 6 PM via Webex.  Guest Speakers will be Shelby Ballentine and Stacey Thomas regarding the Clark Champaign County Diabetes Association Camp Ko-Man-She summer camp. \nClark Champaign Diabetes Association (CCDA) is happy to partner with Diabetes Dayton to send children to Camp Ko-Man-She! Diabetes Dayton has been sending children to summer camp since 1963\, with the goal of providing a fun and safe outdoor experience to children living with type 1 diabetes. Camp Ko-Man-She is a summer camp for 7-18 year-olds living with type 1 diabetes. The camp is held annually at the YMCA Camp Willson Outdoor Recreation Center\, which is located just outside of Bellefontaine.
URL:https://springfieldexchangeclub.org/event/springfield-membership-meeting-28/
LOCATION:Wittenberg Student Center\, 734 Woodlawn\, Springfield\, 45504\, United States
CATEGORIES:Club Meeting - Evening
END:VEVENT
BEGIN:VEVENT
DTSTART;TZID=UTC:20200218T180000
DTEND;TZID=UTC:20200218T193000
DTSTAMP:20260424T111205
CREATED:20191211T160821Z
LAST-MODIFIED:20191211T160852Z
UID:2106-1582048800-1582054200@springfieldexchangeclub.org
SUMMARY:Fun and Fellowship
DESCRIPTION:The Exchange Club of Springfield will meet\, 6:00 PM\, at the Hickory Inn for fun and fellowship.  Bring a prospective new member!
URL:https://springfieldexchangeclub.org/event/fun-and-fellowship-2/
LOCATION:Hickory Inn\, 652 N. Limestone St\, Springfield\, OH\, United States
CATEGORIES:Club Meeting - Evening
END:VEVENT
BEGIN:VEVENT
DTSTART;TZID=UTC:20191217T180000
DTEND;TZID=UTC:20191217T200000
DTSTAMP:20260424T111205
CREATED:20190921T105420Z
LAST-MODIFIED:20190921T105420Z
UID:2038-1576605600-1576612800@springfieldexchangeclub.org
SUMMARY:Exchange Club of Springfield Christmas Party and Charter Anniversary
DESCRIPTION:The Exchange Club of Springfield will celebrate Christmas and its 98th Charter Anniversary at the Springfield Country Club\, 6 PM to 8 PM.
URL:https://springfieldexchangeclub.org/event/exchange-club-of-springfield-christmas-party-and-charter-anniversary/
LOCATION:Springfield Country Club\, Home Rd.\, Springfield
CATEGORIES:Club Meeting - Evening
END:VEVENT
BEGIN:VEVENT
DTSTART;TZID=UTC:20191119T180000
DTEND;TZID=UTC:20191119T193000
DTSTAMP:20260424T111205
CREATED:20191022T200639Z
LAST-MODIFIED:20191022T200639Z
UID:2073-1574186400-1574191800@springfieldexchangeclub.org
SUMMARY:Fun & Fellowship Evening Meeting
DESCRIPTION:The Exchange Club of Springfield will meet for fun and fellowship 6:00 PM in a place TBD.
URL:https://springfieldexchangeclub.org/event/fun-fellowship-evening-meeting/
CATEGORIES:Club Meeting - Evening
END:VEVENT
BEGIN:VEVENT
DTSTART;TZID=UTC:20191015T180000
DTEND;TZID=UTC:20191015T193000
DTSTAMP:20260424T111205
CREATED:20190921T094522Z
LAST-MODIFIED:20190921T103148Z
UID:2015-1571162400-1571167800@springfieldexchangeclub.org
SUMMARY:Evening Meeting - Fun and Fellowship
DESCRIPTION:The Exchange Club of Springfield will hold its regularly scheduled Fun & Fellowship Meeting at 6:00 PM to 7:30 PM\, Tuesday October 15\, 2019\, Los Mariachis Restaurant.  Potential new members welcome!
URL:https://springfieldexchangeclub.org/event/evening-meeting-fun-and-fellowship/
LOCATION:Los Mariachis\, 1815 East Main Street\, Springfield Ohio\, 45503\, United States
CATEGORIES:Club Meeting - Evening
END:VEVENT
BEGIN:VEVENT
DTSTART;TZID=UTC:20190917T180000
DTEND;TZID=UTC:20190917T193000
DTSTAMP:20260424T111205
CREATED:20190903T142951Z
LAST-MODIFIED:20190903T142951Z
UID:1999-1568743200-1568748600@springfieldexchangeclub.org
SUMMARY:Fun and Fellowship
DESCRIPTION:The Exchange Club of Springfield will meet for fun and fellowship at Mike & Rosy’s Deli Tuesday September 17\, 2019 at 6:00 PM.  Come and enjoy\, and bring a potential new member!
URL:https://springfieldexchangeclub.org/event/fun-and-fellowship/
LOCATION:Mike & Rosy’s Deli\, 330 W. McCreight Ave\, Springfield\, Ohio\, 45504
CATEGORIES:Club Meeting - Evening
END:VEVENT
BEGIN:VEVENT
DTSTART;TZID=UTC:20190409T180000
DTEND;TZID=UTC:20190409T193000
DTSTAMP:20260424T111205
CREATED:20190309T173153Z
LAST-MODIFIED:20190309T173153Z
UID:1786-1554832800-1554838200@springfieldexchangeclub.org
SUMMARY:Springfield Membership Evening Meeting
DESCRIPTION:The Exchange Club of Springfield\, Ohio will meet at 6 PM for its monthly evening meeting at a location TBD.
URL:https://springfieldexchangeclub.org/event/springfield-membership-evening-meeting-2/
CATEGORIES:Club Meeting - Evening
END:VEVENT
BEGIN:VEVENT
DTSTART;TZID=UTC:20190312T180000
DTEND;TZID=UTC:20190312T193000
DTSTAMP:20260424T111205
CREATED:20190204T153520Z
LAST-MODIFIED:20190309T173738Z
UID:1743-1552413600-1552419000@springfieldexchangeclub.org
SUMMARY:Springfield Evening Membership Meeting
DESCRIPTION:We will meet Tuesday March 12\, 2019\, 6 PM in the evening\, at Mike & Rosy’s Deli/Restaurant\, for fun and fellowship.
URL:https://springfieldexchangeclub.org/event/springfield-evening-membership-meeting/
LOCATION:Mike & Rosy’s Deli\, 330 W. McCreight Ave\, Springfield\, Ohio\, 45504
CATEGORIES:Club Meeting - Evening
END:VEVENT
BEGIN:VEVENT
DTSTART;TZID=UTC:20190212T180000
DTEND;TZID=UTC:20190212T193000
DTSTAMP:20260424T111205
CREATED:20181117T154431Z
LAST-MODIFIED:20181117T154431Z
UID:1676-1549994400-1549999800@springfieldexchangeclub.org
SUMMARY:Exchange Evening Fun and Fellowship Meeting
DESCRIPTION:The Exchange Club of Springfield will meet Tuesday February 12\, 2019 at 6PM for our regularly scheduled evening meeting for fun and fellowship at Los Mariachis Restaurant. \n 
URL:https://springfieldexchangeclub.org/event/exchange-evening-fun-and-fellowship-meeting/
CATEGORIES:Club Meeting - Evening
END:VEVENT
END:VCALENDAR