BEGIN:VCALENDAR
VERSION:2.0
PRODID:-//Springfield Exchange Club - ECPv6.15.18//NONSGML v1.0//EN
CALSCALE:GREGORIAN
METHOD:PUBLISH
X-ORIGINAL-URL:https://springfieldexchangeclub.org
X-WR-CALDESC:Events for Springfield Exchange Club
REFRESH-INTERVAL;VALUE=DURATION:PT1H
X-Robots-Tag:noindex
X-PUBLISHED-TTL:PT1H
BEGIN:VTIMEZONE
TZID:UTC
BEGIN:STANDARD
TZOFFSETFROM:+0000
TZOFFSETTO:+0000
TZNAME:UTC
DTSTART:20150101T000000
END:STANDARD
END:VTIMEZONE
BEGIN:VTIMEZONE
TZID:America/New_York
BEGIN:DAYLIGHT
TZOFFSETFROM:-0500
TZOFFSETTO:-0400
TZNAME:EDT
DTSTART:20150308T070000
END:DAYLIGHT
BEGIN:STANDARD
TZOFFSETFROM:-0400
TZOFFSETTO:-0500
TZNAME:EST
DTSTART:20151101T060000
END:STANDARD
BEGIN:DAYLIGHT
TZOFFSETFROM:-0500
TZOFFSETTO:-0400
TZNAME:EDT
DTSTART:20160313T070000
END:DAYLIGHT
BEGIN:STANDARD
TZOFFSETFROM:-0400
TZOFFSETTO:-0500
TZNAME:EST
DTSTART:20161106T060000
END:STANDARD
BEGIN:DAYLIGHT
TZOFFSETFROM:-0500
TZOFFSETTO:-0400
TZNAME:EDT
DTSTART:20170312T070000
END:DAYLIGHT
BEGIN:STANDARD
TZOFFSETFROM:-0400
TZOFFSETTO:-0500
TZNAME:EST
DTSTART:20171105T060000
END:STANDARD
END:VTIMEZONE
BEGIN:VEVENT
DTSTART;TZID=UTC:20181211T180000
DTEND;TZID=UTC:20181211T193000
DTSTAMP:20260424T160917
CREATED:20181017T151123Z
LAST-MODIFIED:20181126T162229Z
UID:1634-1544551200-1544556600@springfieldexchangeclub.org
SUMMARY:Springfield Evening Christmas and Charter Anniversary Celebration
DESCRIPTION:We will meet at the Springfield Country Club to celebrate Christmas as well as the 97th anniversary of the December 15\, 1921 Springfield Exchange Club Charter at 6 PM.
URL:https://springfieldexchangeclub.org/event/springfield-evening-christmas-and-charter-anniversary-celebration/
LOCATION:Springfield Country Club\, Home Rd.\, Springfield
CATEGORIES:Club Meeting - Evening
END:VEVENT
BEGIN:VEVENT
DTSTART;TZID=UTC:20181113T180000
DTEND;TZID=UTC:20181113T193000
DTSTAMP:20260424T160917
CREATED:20181017T142949Z
LAST-MODIFIED:20181017T145015Z
UID:1625-1542132000-1542137400@springfieldexchangeclub.org
SUMMARY:Springfield Membership Meeting
DESCRIPTION:The Exchange Club of Springfield will meet Tuesday November  13\, 2018 at Hafle’s Winery for its regularly scheduled evening meeting at 6 PM\, for fun and fellowship.
URL:https://springfieldexchangeclub.org/event/springfield-membership-meeting-14/
LOCATION:Hafle Winery\, 2369 Upper Valley Pike\, Springfield\, OH\, 45502\, United States
CATEGORIES:Club Meeting - Evening
END:VEVENT
BEGIN:VEVENT
DTSTART;TZID=UTC:20181009T180000
DTEND;TZID=UTC:20181009T193000
DTSTAMP:20260424T160917
CREATED:20180824T172249Z
LAST-MODIFIED:20181007T203540Z
UID:1574-1539108000-1539113400@springfieldexchangeclub.org
SUMMARY:Springfield Membership Evening Meeting
DESCRIPTION:The Exchange Club of Springfield will meet at The Stables at Windy Knoll for its regularly scheduled evening meeting at 6 PM.  Guests welcome!
URL:https://springfieldexchangeclub.org/event/springfield-membership-evening-meeting/
LOCATION:The Stables at Windy Knoll\, 500 Roscommon Drive\, Springfield\, Ohio\, 45503\, United Arab Emirates
CATEGORIES:Club Meeting - Evening
END:VEVENT
BEGIN:VEVENT
DTSTART;TZID=UTC:20180911T180000
DTEND;TZID=UTC:20180911T193000
DTSTAMP:20260424T160917
CREATED:20180824T163620Z
LAST-MODIFIED:20180909T184300Z
UID:1561-1536688800-1536694200@springfieldexchangeclub.org
SUMMARY:Choosing Hope Adoptions Visits Exchange
DESCRIPTION:The Exchange Club of Springfield will meet Tuesday September 11th\, 2018 in Room 203 of the Shouvlin Center on the campus of Wittenberg University for its regularly scheduled evening meeting at 6:00PM  Our guest speaker will be Angela Boblitt from Choosing Hope Adoptions. \nAdoption is a redemptive response to a crisis. It is filled with ups and downs\, unimaginable heartache\, love\, and joy. All entities in the adoption triad\, Birth Parents\, Adoptive Parents\, and the child(ren) have unique needs\, experiences\, and hopes as the enter into the adoption journey. \nChoosing Hope Adoptions desires to come along side all entities in the adoption triad and serve them with honor\, and point them towards Jesus. We strive to provide a high level of programs and services\, support\, compassion\, an abortion alternative and adoption education. Adoption is a relational ministry and shouldn’t feel transactional to those involved. It is our hope that the relationships we build with our clients are life long and infused with hope. \nChoosing Hope Adoptions is a full service licensed non-profit adoption agency serving all of Ohio.
URL:https://springfieldexchangeclub.org/event/choosing-hope-adoptions-visits-exchange/
LOCATION:Shouvlin Center\, 737 N. Fountain Avenue\, Springfield\, OH\, 45502\, United States
CATEGORIES:Club Meeting - Evening
END:VEVENT
BEGIN:VEVENT
DTSTART;TZID=UTC:20180710T180000
DTEND;TZID=UTC:20180710T193000
DTSTAMP:20260424T160917
CREATED:20180615T120720Z
LAST-MODIFIED:20180709T072356Z
UID:1473-1531245600-1531251000@springfieldexchangeclub.org
SUMMARY:Membership Meeting - Evening
DESCRIPTION:The Exchange Club of Springfield will meet Tuesday July 10\, 2018 at 6 PM for its regularly scheduled evening meeting.
URL:https://springfieldexchangeclub.org/event/membership-meeting-evening/
LOCATION:McMurray’s Pub\, 645 N. Limestone St\, SPRINGFIELD\, OH\, 45504-1507\, United States
CATEGORIES:Club Meeting - Evening
END:VEVENT
BEGIN:VEVENT
DTSTART;TZID=UTC:20180626T180000
DTEND;TZID=UTC:20180626T200000
DTSTAMP:20260424T160917
CREATED:20180515T000927Z
LAST-MODIFIED:20180625T125350Z
UID:1442-1530036000-1530043200@springfieldexchangeclub.org
SUMMARY:Installation Banquet
DESCRIPTION:The Exchange Club of Springfield will meet at the Elk’s Lodge # 51\, formerly the Northwood Hills Country Club for the annual Installation Banquet at 6:00 PM\,  Tuesday June 26\, 2018.  District President Beverly Sewell will preside over the Installation of Officers and Directors.
URL:https://springfieldexchangeclub.org/event/springfield-membership-meeting-12/
LOCATION:Elks’s Lodge # 51\, 1536 Villa Road\, Springfield\, OH\, 45504-1507\, United States
CATEGORIES:Club Meeting - Evening,Special Event
END:VEVENT
BEGIN:VEVENT
DTSTART;TZID=UTC:20180508T180000
DTEND;TZID=UTC:20180508T200000
DTSTAMP:20260424T160917
CREATED:20180411T145328Z
LAST-MODIFIED:20180506T220631Z
UID:1383-1525802400-1525809600@springfieldexchangeclub.org
SUMMARY:Springfield Exchange Evening Fellowship Meeting
DESCRIPTION:The Exchange Club of Springfield will meet at the Los Mariachis on Tuesday May 8\, 2018 at 6 PM for fellowship.  Share the gift of Exchange and bring family\, friends\, spouse\, or co worker to learn hear about our service projects!
URL:https://springfieldexchangeclub.org/event/springfield-exchange-fellowship-meeting/
LOCATION:Los Mariachis\, 1815 East Main Street\, Springfield Ohio\, 45503\, United States
CATEGORIES:Club Meeting - Evening
END:VEVENT
BEGIN:VEVENT
DTSTART;TZID=UTC:20180501T120000
DTEND;TZID=UTC:20180501T130000
DTSTAMP:20260424T160917
CREATED:20180411T143250Z
LAST-MODIFIED:20180424T185224Z
UID:1372-1525176000-1525179600@springfieldexchangeclub.org
SUMMARY:Exchange Club Welcomes Pat Banaszak
DESCRIPTION:The Exchange Club of Springfield will meet at the Wittenberg Student Center Tuesday May 1\, 2018 at noon for their regularly scheduled membership meeting.  Guest Speaker will be Pat Banaszak\, Executive Director of Family and Youth Initiatives.
URL:https://springfieldexchangeclub.org/event/exchange-club-membership-meeting-5/
LOCATION:Wittenberg Student Center\, 734 Woodlawn\, Springfield\, 45504\, United States
CATEGORIES:Club Meeting - Evening,Meetings
END:VEVENT
BEGIN:VEVENT
DTSTART;TZID=UTC:20180313T180000
DTEND;TZID=UTC:20180313T193000
DTSTAMP:20260424T160917
CREATED:20180213T195019Z
LAST-MODIFIED:20180213T200444Z
UID:1305-1520964000-1520969400@springfieldexchangeclub.org
SUMMARY:Youth of the Year Award Banquet
DESCRIPTION:The Exchange Club of Springfield will meet at the Benham-Pence Student Center on the campus of Wittenberg University\, 6 PM\, for its High School Youth of the Year banquet as we honor the Youth of the Year\, as well as the First and Second Runners Up\, with college scholarships.
URL:https://springfieldexchangeclub.org/event/youth-of-the-year-award-banquet/
LOCATION:Wittenberg Student Center\, 734 Woodlawn\, Springfield\, 45504\, United States
CATEGORIES:Club Meeting - Evening
END:VEVENT
BEGIN:VEVENT
DTSTART;TZID=UTC:20180213T180000
DTEND;TZID=UTC:20180213T200000
DTSTAMP:20260424T160917
CREATED:20171210T205210Z
LAST-MODIFIED:20171210T205804Z
UID:1258-1518544800-1518552000@springfieldexchangeclub.org
SUMMARY:Proudly We Hail Presentation and Membership Meeting
DESCRIPTION:The Exchange Club of Springfield will meet Tuesday February 13\, 2018 at the Wittenberg University Student Center\, 6 PM with supper at 6:30 PM\, for its regularly scheduled monthly evening meeting. Our program will be the presentation of the “Proudly We Hail” awards to the selectees.
URL:https://springfieldexchangeclub.org/event/proudly-we-hail-presentation-and-membership-meeting/
LOCATION:Wittenberg Student Center\, 734 Woodlawn\, Springfield\, 45504\, United States
CATEGORIES:Club Meeting - Evening
END:VEVENT
BEGIN:VEVENT
DTSTART;TZID=UTC:20180109T060000
DTEND;TZID=UTC:20180109T193000
DTSTAMP:20260424T160917
CREATED:20171115T155236Z
LAST-MODIFIED:20171115T155236Z
UID:1243-1515477600-1515526200@springfieldexchangeclub.org
SUMMARY:Exchange Welcomes David Smiddy from Clark County Literacy Center
DESCRIPTION:The Exchange Club of Springfield will meet Tuesday January 9\, 2017 for their regularly scheduled evening meeting at the Wittenberg Student Center.  Our guest speaker will be David Smiddy from the Clark County Literacy Center.
URL:https://springfieldexchangeclub.org/event/exchange-welcomes-david-smiddy-from-clark-county-literacy-center/
LOCATION:Wittenberg Student Center\, 734 Woodlawn\, Springfield\, 45504\, United States
CATEGORIES:Club Meeting - Evening
END:VEVENT
BEGIN:VEVENT
DTSTART;TZID=UTC:20171212T183000
DTEND;TZID=UTC:20171212T200000
DTSTAMP:20260424T160917
CREATED:20171012T151547Z
LAST-MODIFIED:20171012T151547Z
UID:1190-1513103400-1513108800@springfieldexchangeclub.org
SUMMARY:Christmas Party and Springfield Exchange Club's 96th Anniversary Banquet
DESCRIPTION:The Exchange Club of Springfield will meet Tuesday December 12\, 2017 at the Springfield Country Club at 6:30 PM to celebrate Christmas and the Holiday Season as well as the 96th Anniversary of our National Exchange Club Charter\, dated December 15\, 1921.
URL:https://springfieldexchangeclub.org/event/christmas-party-and-springfield-exchange-clubs-96th-anniversary-banquet/
LOCATION:Springfield Country Club\, Home Rd.\, Springfield
CATEGORIES:Club Meeting - Evening
END:VEVENT
BEGIN:VEVENT
DTSTART;TZID=UTC:20171114T180000
DTEND;TZID=UTC:20171114T193000
DTSTAMP:20260424T160917
CREATED:20170828T172237Z
LAST-MODIFIED:20171113T161805Z
UID:1123-1510682400-1510687800@springfieldexchangeclub.org
SUMMARY:Evening Membership Meeting - Club Business
DESCRIPTION:The Exchange Club of Springfield will meet Tuesday evening November 14\, 2017 at the Benham-Pence Student Center on the campus of Wittenberg University at 6 PM.  This will be a Business Meeting for the club.
URL:https://springfieldexchangeclub.org/event/membership-meeting-11/
LOCATION:Wittenberg Student Center\, 734 Woodlawn\, Springfield\, 45504\, United States
CATEGORIES:Club Meeting - Evening
END:VEVENT
BEGIN:VEVENT
DTSTART;TZID=UTC:20171010T180000
DTEND;TZID=UTC:20171010T200000
DTSTAMP:20260424T160917
CREATED:20170828T171740Z
LAST-MODIFIED:20170918T183758Z
UID:1119-1507658400-1507665600@springfieldexchangeclub.org
SUMMARY:Membership Meeting
DESCRIPTION:The Exchange Club of Springfield will meet Tuesday October 10\, 2017 at the Benham-Pence Student Center on the campus of Wittenberg University at Noon.  Our guest speaker will be Laura Baxter\, Executive Director of Project Woman.
URL:https://springfieldexchangeclub.org/event/membership-meeting-9/
LOCATION:Wittenberg Student Center\, 734 Woodlawn\, Springfield\, 45504\, United States
CATEGORIES:Club Meeting - Evening
END:VEVENT
BEGIN:VEVENT
DTSTART;TZID=UTC:20170912T180000
DTEND;TZID=UTC:20170912T200000
DTSTAMP:20260424T160917
CREATED:20170802T152523Z
LAST-MODIFIED:20170828T172556Z
UID:1079-1505239200-1505246400@springfieldexchangeclub.org
SUMMARY:Exchange welcomes Angela Boblitt from Choosing Hope Adoptions
DESCRIPTION:The Exchange Club of Springfield will meet Tuesday 12 September\, 2017 at Noon\, at the Wittenberg Student Center for its regularly scheduled meeting.  Our guest speaker will be Angela Boblitt from Choosing Hope Adoptions.
URL:https://springfieldexchangeclub.org/event/exchange-welcomes-angela-bobblitt-from-choosing-hope-adoptions/
LOCATION:Wittenberg Student Center\, 734 Woodlawn\, Springfield\, 45504\, United States
CATEGORIES:Club Meeting - Evening
END:VEVENT
BEGIN:VEVENT
DTSTART;TZID=UTC:20170808T173000
DTEND;TZID=UTC:20170808T200000
DTSTAMP:20260424T160917
CREATED:20170611T190653Z
LAST-MODIFIED:20170806T234605Z
UID:984-1502213400-1502222400@springfieldexchangeclub.org
SUMMARY:Springfield Exchange Club will Picnic and have a combined Board Meeting and Club Meeting
DESCRIPTION:The Exchange Club of Springfield will meet at Peg Haemmerle’s home for a picnic and Board Meeting at 6:00 PM Tuesday August 8\, 2017.\n 
URL:https://springfieldexchangeclub.org/event/springfield-exchange-club-will-picnic-and-have-a-combined-board-meeting-and-club-meeting/
CATEGORIES:Club Meeting - Evening,Foundation/Club Board Meeting
END:VEVENT
BEGIN:VEVENT
DTSTART;TZID=UTC:20170711T180000
DTEND;TZID=UTC:20170711T200000
DTSTAMP:20260424T160917
CREATED:20170611T184523Z
LAST-MODIFIED:20170705T195754Z
UID:972-1499796000-1499803200@springfieldexchangeclub.org
SUMMARY:No Evening Meeting of Exchange
DESCRIPTION:The Exchange Club of Springfield will NOT meet for its regularly scheduled monthly evening meeting at 6:00 PM Tuesday July 11th\, 2017 due to no food service being available. The club will meet next Tuesday for its regularly schedule meeting at noon on July 18th\, 2017.
URL:https://springfieldexchangeclub.org/event/evening-meeting-of-exchange/
LOCATION:Unnamed Venue
CATEGORIES:Club Meeting - Evening
END:VEVENT
BEGIN:VEVENT
DTSTART;TZID=UTC:20170509T120000
DTEND;TZID=UTC:20170509T130000
DTSTAMP:20260424T160917
CREATED:20170417T211435Z
LAST-MODIFIED:20170426T094649Z
UID:873-1494331200-1494334800@springfieldexchangeclub.org
SUMMARY:No Meeting This Week
DESCRIPTION:The Exchange Club of Springfield will take a break this week\, May 9th\,2017\, as there will me no meeting tonight.. \nSee everyone next week May 16\, 2017 at Noon\, Wittenberg’s Benham-Pence Student Center…
URL:https://springfieldexchangeclub.org/event/no-meeting-this-week/
CATEGORIES:Club Meeting - Evening
END:VEVENT
BEGIN:VEVENT
DTSTART;TZID=UTC:20170502T180000
DTEND;TZID=UTC:20170502T200000
DTSTAMP:20260424T160917
CREATED:20170405T004450Z
LAST-MODIFIED:20170410T130919Z
UID:862-1493748000-1493755200@springfieldexchangeclub.org
SUMMARY:Book of Golden Deeds Banquet
DESCRIPTION:The Exchange Club of Springfield will meet at Wittenberg University to honor this years Book of Golden Deeds Honoree\, Arthur Thibeault.\nVolunteer efforts are very important to our society and should not go unnoticed. The National Exchange Club’s longest running project\, the Book of Golden Deeds Award\, recognizes dedicated volunteers who give endless hours of their time and talents toward making their communities better places to live. Ever since the Exchange Club of Huntington\, Ind.\, sponsored the first award in 1919\, thousands of unsung heroes and heroines have been recognized.\nHonoring a fellow citizen with the Book of Golden Deeds Award is a heartwarming and inspiring act not only for the honoree\, but for any Exchange Club. The Book of Golden Deeds Award exemplifies The National Exchange Club’s beliefs\n  \n 
URL:https://springfieldexchangeclub.org/event/book-of-golden-deeds-banquet/
LOCATION:Wittenberg Student Center\, 734 Woodlawn\, Springfield\, 45504\, United States
CATEGORIES:Club Meeting - Evening,Special Event
END:VEVENT
BEGIN:VEVENT
DTSTART;TZID=UTC:20170411T180000
DTEND;TZID=UTC:20170411T200000
DTSTAMP:20260424T160917
CREATED:20170405T002040Z
LAST-MODIFIED:20170405T002040Z
UID:849-1491933600-1491940800@springfieldexchangeclub.org
SUMMARY:Evening Meeting - Robert Lavoie - Tecumseh Council Boy Scouts of America
DESCRIPTION:We will meet at 6 PM Tuesday April 11th\, 2017 at the Benham-Pence Student Center.  Our Guest Speaker will be the Executive Director of the Tecumseh Council of the Boy Scouts of America.
URL:https://springfieldexchangeclub.org/event/evening-meeting-robert-lavoie-tecumseh-council-boy-scouts-of-america/
LOCATION:Wittenberg Student Center\, 734 Woodlawn\, Springfield\, 45504\, United States
CATEGORIES:Club Meeting - Evening
END:VEVENT
BEGIN:VEVENT
DTSTART;TZID=UTC:20170314T180000
DTEND;TZID=UTC:20170314T200000
DTSTAMP:20260424T160917
CREATED:20170228T210545Z
LAST-MODIFIED:20170228T210732Z
UID:736-1489514400-1489521600@springfieldexchangeclub.org
SUMMARY:Youth of the Year and A.C.E. Award Banquet
DESCRIPTION:We will meet at Wittenberg University to honor our Youth of the Year and A.C.E. Award selections at our regularly scheduled evening meeting. The event will begin with a reception at 6 PM followed by supper at 6:30 PM.\nThe Exchange Club of Springfield\, Ohio\, Youth of the Year for 2016-2017 is Julia Myers from Southeastern High School\, who will receive a $1\,000 College Scholarship\,\nOur First Honorable mention is Rachel Martin from Northwestern HS received a $500 College Scholarship.\nOur Second Honorable Mention is Sydney Pauley from Tecumseh HS who will receive a $250 College Scholarship.\nThe A.C.E. Award selectee is Ricki Brown from Greenon High School who will receive a $1\,000 college Scholarship.\nCongratulations to the 2016-2017 Youth of the Year and A.C.E. Award selectees!\n  \n 
URL:https://springfieldexchangeclub.org/event/youth-of-the-year-and-a-c-e-award-banquet/
LOCATION:Wittenberg Student Center\, 734 Woodlawn\, Springfield\, 45504\, United States
CATEGORIES:Club Meeting - Evening
END:VEVENT
BEGIN:VEVENT
DTSTART;TZID=UTC:20170214T180000
DTEND;TZID=UTC:20170214T193000
DTSTAMP:20260424T160917
CREATED:20170119T191349Z
LAST-MODIFIED:20170119T191349Z
UID:640-1487095200-1487100600@springfieldexchangeclub.org
SUMMARY:New Member Induction and Orientation Banquet
DESCRIPTION:We will meet at the regularly scheduled monthly evening meeting at Linardos Villa to induct and orient new members.  We will begin with a reception at 6 PM with supper at 6:30 PM.
URL:https://springfieldexchangeclub.org/event/new-member-induction-and-orientation-banquet/
LOCATION:Linardos Villa\, 2235 East Main Street\, Springfield Ohio\, OH\, 45503\, United States
CATEGORIES:Club Meeting - Evening
END:VEVENT
BEGIN:VEVENT
DTSTART;TZID=UTC:20170110T180000
DTEND;TZID=UTC:20170110T193000
DTSTAMP:20260424T160917
CREATED:20161202T172730Z
LAST-MODIFIED:20161202T172730Z
UID:591-1484071200-1484076600@springfieldexchangeclub.org
SUMMARY:Our guest speaker will be Kerry Pedraza\, United Way
DESCRIPTION:We will meet at Linardos Villa\, Tuesday January 10th\, 2017 at our regularly schedule evening meeting at 6 PM.  Our guest speaker will be Kerry Pedraza\, Director of the local United Way office.
URL:https://springfieldexchangeclub.org/event/our-guest-speaker-will-be-kerry-pedraza-united-way/
LOCATION:Linardos Villa\, 2235 East Main Street\, Springfield Ohio\, OH\, 45503\, United States
CATEGORIES:Club Meeting - Evening
END:VEVENT
BEGIN:VEVENT
DTSTART;TZID=UTC:20161213T180000
DTEND;TZID=UTC:20161213T200000
DTSTAMP:20260424T160917
CREATED:20161024T154519Z
LAST-MODIFIED:20161024T160028Z
UID:548-1481652000-1481659200@springfieldexchangeclub.org
SUMMARY:Christmas Party and the Exchange Club of Springfield's 95th Birthday Celebration
DESCRIPTION:The Exchange Club of Springfield will meet at the Springfield Country Club to celebrate the Christmas Season\, as well as the Club’s 95th birthday.  Our Club was chartered on December 15\, 1921\, that makes 95 years of service to Springfield and Clark County.
URL:https://springfieldexchangeclub.org/event/christmas-party-and-the-exchange-club-of-springfields-95th-birthday-celebration/
LOCATION:Springfield Country Club\, Home Rd.\, Springfield
CATEGORIES:Club Meeting - Evening
END:VEVENT
BEGIN:VEVENT
DTSTART;TZID=UTC:20161108T180000
DTEND;TZID=UTC:20161108T200000
DTSTAMP:20260424T160917
CREATED:20161024T152747Z
LAST-MODIFIED:20161024T155521Z
UID:543-1478628000-1478635200@springfieldexchangeclub.org
SUMMARY:David Smiddy\, CC Literacy Coalition\, will be our guest speaker
DESCRIPTION:We will meet at Linardos Villa at 6:00 PM for a Reception with Supper at 6:30  PM. This evening we welcome David Smiddy\, CC Literacy Coalition\, as our guest speaker at the regularly scheduled 2nd Tuesday evening meeting for the month of November.
URL:https://springfieldexchangeclub.org/event/david-smiddy-cc-literacy-coalition-will-be-our-guest-speaker/
LOCATION:Linardos Villa\, 2235 East Main Street\, Springfield Ohio\, OH\, 45503\, United States
CATEGORIES:Club Meeting - Evening
END:VEVENT
BEGIN:VEVENT
DTSTART;TZID=UTC:20161011T180000
DTEND;TZID=UTC:20161011T200000
DTSTAMP:20260424T160917
CREATED:20160914T170803Z
LAST-MODIFIED:20160914T170832Z
UID:503-1476208800-1476216000@springfieldexchangeclub.org
SUMMARY:Exchange Club Membership Meeting
DESCRIPTION:The Exchange Club of Springfield will meet at Oesterlen Services for Youth at its regularly scheduled evening meeting for dinner and a tour of the facility.
URL:https://springfieldexchangeclub.org/event/exchange-club-membership-meeting-3/
LOCATION:Oesterlen Services for Youth\, 1918 Mechanicsburg Road\, Springfield\, 45503\, United States
CATEGORIES:Club Meeting - Evening
END:VEVENT
BEGIN:VEVENT
DTSTART;TZID=UTC:20160913T180000
DTEND;TZID=UTC:20160913T193000
DTSTAMP:20260424T160917
CREATED:20160817T183704Z
LAST-MODIFIED:20160817T183704Z
UID:470-1473789600-1473795000@springfieldexchangeclub.org
SUMMARY:Springfield Membership Meeting
DESCRIPTION:The Exchange Club of Springfield will meet at 6:00 PM for Reception and 6:30 PM Supper for the regularly scheduled Evening Meeting at Linardos Villa. Guest Speaker TBD.
URL:https://springfieldexchangeclub.org/event/springfield-membership-meeting-3/
LOCATION:Linardos Villa\, 2235 East Main Street\, Springfield Ohio\, OH\, 45503\, United States
CATEGORIES:Club Meeting - Evening
END:VEVENT
BEGIN:VEVENT
DTSTART;TZID=UTC:20160809T180000
DTEND;TZID=UTC:20160809T200000
DTSTAMP:20260424T160917
CREATED:20160701T164024Z
LAST-MODIFIED:20160701T164024Z
UID:408-1470765600-1470772800@springfieldexchangeclub.org
SUMMARY:Evening Membership Meeting - Choosing Hope Adoptions
DESCRIPTION:We will meet at 6:00 PM Reception and 6:30 PM Supper at Linardos Villa.  Our guest speaker will be Angela Boblitt\, Executive Director of Choosing Hope Adoptions.
URL:https://springfieldexchangeclub.org/event/evening-membership-meeting-choosing-hope-adoptions/
LOCATION:Linardos Villa\, 2235 East Main Street\, Springfield Ohio\, OH\, 45503\, United States
CATEGORIES:Club Meeting - Evening
END:VEVENT
BEGIN:VEVENT
DTSTART;TZID=UTC:20160712T180000
DTEND;TZID=UTC:20160712T193000
DTSTAMP:20260424T160917
CREATED:20160611T184613Z
LAST-MODIFIED:20160630T022522Z
UID:371-1468346400-1468351800@springfieldexchangeclub.org
SUMMARY:Springfield Exchange Club Membership Meeting
DESCRIPTION:Evening Meeting at Linardos Villa will welcome as guest speaker Donald L. Warner\, Executive Director of Oesterlen Services for Youth.
URL:https://springfieldexchangeclub.org/event/springfield-exchange-club-membership-meeting/
LOCATION:Linardos Villa\, 2235 East Main Street\, Springfield Ohio\, OH\, 45503\, United States
CATEGORIES:Club Meeting - Evening
END:VEVENT
BEGIN:VEVENT
DTSTART;TZID=America/New_York:20160510T180000
DTEND;TZID=America/New_York:20160510T200000
DTSTAMP:20260424T160917
CREATED:20160426T232301Z
LAST-MODIFIED:20160426T232301Z
UID:275-1462903200-1462910400@springfieldexchangeclub.org
SUMMARY:Membership Meeting - Cancer Relay Event - Los Mariachies
DESCRIPTION:The Exchange Club of Springfield will have its May evening meeting at Los Mariachis Restaurant.  This is our club Cancer Relay Team’s 1st fundraising event\, as 20% of the proceeds using the appropriate coupon\, will be donated to our club.
URL:https://springfieldexchangeclub.org/event/membership-meeting-cancer-relay-event-los-mariachies/
LOCATION:Los Mariachis\, 1815 East Main Street\, Springfield Ohio\, 45503\, United States
CATEGORIES:Club Meeting - Evening
END:VEVENT
END:VCALENDAR