BEGIN:VCALENDAR
VERSION:2.0
PRODID:-//Springfield Exchange Club - ECPv6.15.18//NONSGML v1.0//EN
CALSCALE:GREGORIAN
METHOD:PUBLISH
X-ORIGINAL-URL:https://springfieldexchangeclub.org
X-WR-CALDESC:Events for Springfield Exchange Club
REFRESH-INTERVAL;VALUE=DURATION:PT1H
X-Robots-Tag:noindex
X-PUBLISHED-TTL:PT1H
BEGIN:VTIMEZONE
TZID:UTC
BEGIN:STANDARD
TZOFFSETFROM:+0000
TZOFFSETTO:+0000
TZNAME:UTC
DTSTART:20240101T000000
END:STANDARD
END:VTIMEZONE
BEGIN:VEVENT
DTSTART;TZID=UTC:20250415T180000
DTEND;TZID=UTC:20250415T200000
DTSTAMP:20260424T155658
CREATED:20240830T141821Z
LAST-MODIFIED:20240830T141821Z
UID:9470-1744740000-1744747200@springfieldexchangeclub.org
SUMMARY:Exchange Board of Directors Meeting
DESCRIPTION:The Exchange Club of Springfield\, Ohio Board of Directors will meet at the offices of K B & P Financial Services.  The Exchange Club Foundation of Springfield\, Ohio will meet at the offices of K B & P Financial Services. \nAll members welcome\, Board Members expected.
URL:https://springfieldexchangeclub.org/event/exchange-board-of-directors-meeting-5/
LOCATION:KB&P\, 49 E. College Avenue\, Springfield\, OH\, 45504\, United States
CATEGORIES:Foundation/Club Board Meeting
END:VEVENT
END:VCALENDAR