BEGIN:VCALENDAR
VERSION:2.0
PRODID:-//Springfield Exchange Club - ECPv6.15.18//NONSGML v1.0//EN
CALSCALE:GREGORIAN
METHOD:PUBLISH
X-WR-CALNAME:Springfield Exchange Club
X-ORIGINAL-URL:https://springfieldexchangeclub.org
X-WR-CALDESC:Events for Springfield Exchange Club
REFRESH-INTERVAL;VALUE=DURATION:PT1H
X-Robots-Tag:noindex
X-PUBLISHED-TTL:PT1H
BEGIN:VTIMEZONE
TZID:UTC
BEGIN:STANDARD
TZOFFSETFROM:+0000
TZOFFSETTO:+0000
TZNAME:UTC
DTSTART:20140101T000000
END:STANDARD
END:VTIMEZONE
BEGIN:VEVENT
DTSTART;TZID=UTC:20231017T180000
DTEND;TZID=UTC:20231017T190000
DTSTAMP:20260424T023548
CREATED:20230801T162922Z
LAST-MODIFIED:20230801T162922Z
UID:7905-1697565600-1697569200@springfieldexchangeclub.org
SUMMARY:Exchange Club Board of Directors Meeting
DESCRIPTION:The Exchange Club Board of Directors will meet at 6 PM and the Exchange Club Foundation of Springfield will also meet.
URL:https://springfieldexchangeclub.org/event/exchange-club-board-of-directors-meeting-2/
LOCATION:KB&P\, 49 E. College Avenue\, Springfield\, OH\, 45504\, United States
CATEGORIES:Foundation/Club Board Meeting
END:VEVENT
BEGIN:VEVENT
DTSTART;TZID=UTC:20230815T180000
DTEND;TZID=UTC:20230815T190000
DTSTAMP:20260424T023548
CREATED:20230801T161554Z
LAST-MODIFIED:20230801T161554Z
UID:7893-1692122400-1692126000@springfieldexchangeclub.org
SUMMARY:Exchange Club Board of Directors Meeting
DESCRIPTION:The Exchange Club of Springfield\, Ohio Board of Directors will meet at Peg’s home at 6:00 PM. The Exchange Club Foundation of Springfield\, Ohio will meet as well.
URL:https://springfieldexchangeclub.org/event/exchange-club-board-of-directors-meeting/
LOCATION:OH
CATEGORIES:Foundation/Club Board Meeting
END:VEVENT
BEGIN:VEVENT
DTSTART;TZID=UTC:20230502T180000
DTEND;TZID=UTC:20230502T200000
DTSTAMP:20260424T023548
CREATED:20230224T154553Z
LAST-MODIFIED:20230323T135935Z
UID:7480-1683050400-1683057600@springfieldexchangeclub.org
SUMMARY:Exchange Club and Foundation Boards of Directors Meetings
DESCRIPTION:The Exchange Club of Springfield\, Ohio Club and Foundation Boards of Directors will meet at the offices of  K B & P Financial Services in consecutive sessions for their quarterly meetings at 6 PM. All club members welcome\, Officers and Directors\, expected.
URL:https://springfieldexchangeclub.org/event/exchange-club-and-foundation-boards-of-directors-meetings/
LOCATION:KB&P\, 49 E. College Avenue\, Springfield\, OH\, 45504\, United States
CATEGORIES:Foundation/Club Board Meeting
END:VEVENT
BEGIN:VEVENT
DTSTART;TZID=UTC:20230117T180000
DTEND;TZID=UTC:20230117T193000
DTSTAMP:20260424T023548
CREATED:20221220T193137Z
LAST-MODIFIED:20230113T220548Z
UID:7118-1673978400-1673983800@springfieldexchangeclub.org
SUMMARY:Board of Directors Meeting
DESCRIPTION:The Exchange Club of Springfield\, Ohio Boards of Directors for the Club and the Foundation will meet consecutively Tuesday January 17\, 2023\,5:30 PM\, at COhatch in downtown Springfield\, Ohio.
URL:https://springfieldexchangeclub.org/event/board-of-directors-meeting-14/
LOCATION:COHATCH\, 101 S. Fountain Ave\, Springfield\, OH\, United States
CATEGORIES:Foundation/Club Board Meeting
END:VEVENT
BEGIN:VEVENT
DTSTART;TZID=UTC:20221018T180000
DTEND;TZID=UTC:20221018T193000
DTSTAMP:20260424T023548
CREATED:20220903T130425Z
LAST-MODIFIED:20220903T130425Z
UID:6359-1666116000-1666121400@springfieldexchangeclub.org
SUMMARY:Board of Directors for Club and Foundation Meetings
DESCRIPTION:The Exchange Club of Springfield\, Ohio Board of Directors will meet Tuesday October 11\, 2022\, 6 PM\,  at the offices of KB & P\, 49 E. College Ave.  The Exchange Club of Springfield\, Ohio Foundation Board of Directors will meet Tuesday October 11\, 2022\, at the offices of KB & P\, 49 E. College Ave\, Springfield.  All members welcome\, Board Members expected!
URL:https://springfieldexchangeclub.org/event/board-of-directors-for-club-and-foundation-meetings/
LOCATION:KB&P\, 49 E. College Avenue\, Springfield\, OH\, 45504\, United States
CATEGORIES:Foundation/Club Board Meeting
END:VEVENT
BEGIN:VEVENT
DTSTART;TZID=UTC:20220816T180000
DTEND;TZID=UTC:20220816T200000
DTSTAMP:20260424T023548
CREATED:20220810T133835Z
LAST-MODIFIED:20220810T133835Z
UID:6138-1660672800-1660680000@springfieldexchangeclub.org
SUMMARY:Board of Directors Meeting
DESCRIPTION:The Exchange Club of Springfield\, Ohio Board of Directors will meet Tuesday August 16\, 2022 at 130 Hawthorne Rd for dinner and board meeting meeting at 6 PM.  The Exchange Club of Springfield\, Ohio Foundation will meet following the club board meeting.
URL:https://springfieldexchangeclub.org/event/board-of-directors-meeting-13/
LOCATION:Peg\, 130 Hawthorne\, Springfield\, Ohio\, 45503
CATEGORIES:Foundation/Club Board Meeting
END:VEVENT
BEGIN:VEVENT
DTSTART;TZID=UTC:20220419T180000
DTEND;TZID=UTC:20220419T193000
DTSTAMP:20260424T023548
CREATED:20220214T201004Z
LAST-MODIFIED:20220214T201004Z
UID:3142-1650391200-1650396600@springfieldexchangeclub.org
SUMMARY:Exchange Club and Foundation Board of Directors Meetings
DESCRIPTION:The Exchange Club of Springfield\, Ohio Board of Directors will meet at the offices of KB & P Financial Services for their quarterly meeting. \nThe Exchange Club of Springfield\, Ohio Foundation Board of Directors will meet at the officers of KB & P Financial Services for their quarterly meeting.
URL:https://springfieldexchangeclub.org/event/exchange-club-and-foundation-board-of-directors-meetings/
LOCATION:KB&P\, 49 E. College Avenue\, Springfield\, OH\, 45504\, United States
CATEGORIES:Foundation/Club Board Meeting
END:VEVENT
BEGIN:VEVENT
DTSTART;TZID=UTC:20220118T180000
DTEND;TZID=UTC:20220118T190000
DTSTAMP:20260424T023548
CREATED:20211205T213406Z
LAST-MODIFIED:20211205T213406Z
UID:2953-1642528800-1642532400@springfieldexchangeclub.org
SUMMARY:Exchange Board of Director's Meeting
DESCRIPTION:The Exchange Club of Springfield\, Ohio and the Exchange Club of Springfield\, Ohio Foundation will each hold their Board of Director’s meeting at the offices of KB & P Financial Advisors at 6:00 PM
URL:https://springfieldexchangeclub.org/event/exchange-board-of-directors-meeting/
LOCATION:KB&P\, 49 E. College Avenue\, Springfield\, OH\, 45504\, United States
CATEGORIES:Foundation/Club Board Meeting
END:VEVENT
BEGIN:VEVENT
DTSTART;TZID=UTC:20211019T173000
DTEND;TZID=UTC:20211019T190000
DTSTAMP:20260424T023548
CREATED:20210730T132730Z
LAST-MODIFIED:20210730T132730Z
UID:2753-1634664600-1634670000@springfieldexchangeclub.org
SUMMARY:Springfield Exchange Board of Directors Meeting
DESCRIPTION:The Exchange Club of Springfield will meet for its regularly scheduled Board of Directors Meeting\, Tuesday October 19\, 2021\, 5:30 PM at the offices of KB & P. All Members welcome\, Board Members expected.
URL:https://springfieldexchangeclub.org/event/springfield-exchange-board-of-directors-meeting-2/
LOCATION:KB&P\, 49 E. College Avenue\, Springfield\, OH\, 45504\, United States
CATEGORIES:Foundation/Club Board Meeting
END:VEVENT
BEGIN:VEVENT
DTSTART;TZID=UTC:20210817T173000
DTEND;TZID=UTC:20210817T190000
DTSTAMP:20260424T023548
CREATED:20210730T130439Z
LAST-MODIFIED:20210730T130439Z
UID:2740-1629221400-1629226800@springfieldexchangeclub.org
SUMMARY:Springfield Exchange Board of Directors Meeting
DESCRIPTION:The Exchange Club of Springfield will meet Tuesday August 17\, 2021 for its regularly scheduled Board of Directors meeting\, 5:30 PM\, at130 Hawthorne Road.  The Board of Directors of the Exchange Club Foundation of Springfield\, Ohio will also meet at this time.   All Members are welcome\, Board members are expected to attend.
URL:https://springfieldexchangeclub.org/event/springfield-exchange-board-of-directors-meeting/
LOCATION:Peg\, 130 Hawthorne\, Springfield\, Ohio\, 45503
CATEGORIES:Foundation/Club Board Meeting
END:VEVENT
BEGIN:VEVENT
DTSTART;TZID=UTC:20210119T173000
DTEND;TZID=UTC:20210119T190000
DTSTAMP:20260424T023548
CREATED:20201204T001334Z
LAST-MODIFIED:20201204T001334Z
UID:2442-1611077400-1611082800@springfieldexchangeclub.org
SUMMARY:Board of Directors Meeting
DESCRIPTION:The Board of Directors for the Exchange Club of Springfield\, Ohio and the Exchange Club of Springfield\, Ohio Foundation will meet at 5:30 PM at a location TBD.
URL:https://springfieldexchangeclub.org/event/board-of-directors-meeting-12/
LOCATION:OH
CATEGORIES:Foundation/Club Board Meeting
END:VEVENT
BEGIN:VEVENT
DTSTART;TZID=UTC:20201020T173000
DTEND;TZID=UTC:20201020T190000
DTSTAMP:20260424T023548
CREATED:20200822T131249Z
LAST-MODIFIED:20201005T120839Z
UID:2308-1603215000-1603220400@springfieldexchangeclub.org
SUMMARY:Exchange Board of Directors Meeting
DESCRIPTION:October is Crime Prevention Month. \nThe Exchange Club of Springfield  Board of Directors and the Exchange Club Foundation Board of Directors\, will meet Tuesday October 20\, 2020\, at 5:30 PM at the CC Title Department Branch\, 1607 Selma Road\, Springfield\, Ohio
URL:https://springfieldexchangeclub.org/event/exchange-club-meeting-5/
LOCATION:OH
CATEGORIES:Foundation/Club Board Meeting
END:VEVENT
BEGIN:VEVENT
DTSTART;TZID=UTC:20200804T173000
DTEND;TZID=UTC:20200804T180000
DTSTAMP:20260424T023548
CREATED:20200804T131335Z
LAST-MODIFIED:20200804T131335Z
UID:2284-1596562200-1596564000@springfieldexchangeclub.org
SUMMARY:Board of Directors Meeting
DESCRIPTION:The Exchange Club of Springfield\, Ohio Foundation Board of Directors meeting will be held via Webex Tuesday August 4th\, 2020 at 5:30 PM \nThe Exchange Club of Springfield Board of Directors meeting will be held via Webex Tuesday August 4\, 2020 immediately after the Foundation Board meeting.
URL:https://springfieldexchangeclub.org/event/board-of-directors-meeting-11/
LOCATION:OH
CATEGORIES:Foundation/Club Board Meeting
END:VEVENT
BEGIN:VEVENT
DTSTART;TZID=UTC:20200414T173000
DTEND;TZID=UTC:20200414T190000
DTSTAMP:20260424T023548
CREATED:20200126T223325Z
LAST-MODIFIED:20200126T223730Z
UID:2142-1586885400-1586890800@springfieldexchangeclub.org
SUMMARY:Board of Directors Meetings for Club and Foundation
DESCRIPTION:The Board of the Springfield Exchange Club and the Board of Directors for the Exchange Club Foundation will meet at 5:30 PM.  All members welcome\, Directors expected.
URL:https://springfieldexchangeclub.org/event/springfield-membership-meeting-30/
LOCATION:KB&P\, 49 E. College Avenue\, Springfield\, OH\, 45504\, United States
CATEGORIES:Foundation/Club Board Meeting
END:VEVENT
BEGIN:VEVENT
DTSTART;TZID=UTC:20200121T173000
DTEND;TZID=UTC:20200121T190000
DTSTAMP:20260424T023548
CREATED:20191211T160100Z
LAST-MODIFIED:20191211T160122Z
UID:2101-1579627800-1579633200@springfieldexchangeclub.org
SUMMARY:Board of Directors Meeting
DESCRIPTION:The Exchange Club of Springfield Board of Directors and the Exchange Club of Springfield\, Ohio Foundation will hold Boards of Directors meetings beginning at 5:30 PM.
URL:https://springfieldexchangeclub.org/event/board-of-directors-2/
LOCATION:Hafle Winery\, 2369 Upper Valley Pike\, Springfield\, OH\, 45502\, United States
CATEGORIES:Foundation/Club Board Meeting
END:VEVENT
BEGIN:VEVENT
DTSTART;TZID=UTC:20191022T173000
DTEND;TZID=UTC:20191022T190000
DTSTAMP:20260424T023548
CREATED:20190921T095827Z
LAST-MODIFIED:20190921T103349Z
UID:2021-1571765400-1571770800@springfieldexchangeclub.org
SUMMARY:Board of Directors Meeting
DESCRIPTION:The Exchange Club of Springfield will hold its regularly scheduled Board of Directors Meetings for the Foundation and for the Club from 5:30 PM to 7:00 PM\, Tuesday October 22\, 2019\, Stables Restaurant.  All members welcome\, Board Members expected.
URL:https://springfieldexchangeclub.org/event/board-of-directors-meeting-10/
LOCATION:The Stables at Windy Knoll\, 500 Roscommon Drive\, Springfield\, Ohio\, 45503\, United Arab Emirates
CATEGORIES:Foundation/Club Board Meeting
END:VEVENT
BEGIN:VEVENT
DTSTART;TZID=UTC:20190813T173000
DTEND;TZID=UTC:20190813T200000
DTSTAMP:20260424T023548
CREATED:20190729T133405Z
LAST-MODIFIED:20190729T133442Z
UID:1967-1565717400-1565726400@springfieldexchangeclub.org
SUMMARY:Board of Directors Meeting and Picnic
DESCRIPTION:The Exchange Club of Springfield will meet at Peg’s home\, 5:30 PM for a Foundation Board meeting and also a Club Board of Directors Meeting and picnic. All members are welcome and encouraged to attend\, Board Members expected!
URL:https://springfieldexchangeclub.org/event/board-of-directors-meeting-and-picnic/
LOCATION:Peg\, 130 Hawthorne\, Springfield\, Ohio\, 45503
CATEGORIES:Foundation/Club Board Meeting
END:VEVENT
BEGIN:VEVENT
DTSTART;TZID=UTC:20190423T173000
DTEND;TZID=UTC:20190423T190000
DTSTAMP:20260424T023548
CREATED:20190309T172947Z
LAST-MODIFIED:20190309T172947Z
UID:1784-1556040600-1556046000@springfieldexchangeclub.org
SUMMARY:Board of Directors Meeting
DESCRIPTION:The Exchange Club of Springfield Foundation Board of Directors will meet at 5:30 PM at The Stables Restaurant.  The Club Board of Directors will meet immediately following the Foundation Board Meeting.
URL:https://springfieldexchangeclub.org/event/board-of-directors-meeting-8/
LOCATION:The Stables at Windy Knoll\, 500 Roscommon Drive\, Springfield\, Ohio\, 45503\, United Arab Emirates
CATEGORIES:Foundation/Club Board Meeting
END:VEVENT
BEGIN:VEVENT
DTSTART;TZID=UTC:20190129T170000
DTEND;TZID=UTC:20190129T190000
DTSTAMP:20260424T023548
CREATED:20190116T134142Z
LAST-MODIFIED:20190116T134342Z
UID:1721-1548781200-1548788400@springfieldexchangeclub.org
SUMMARY:Board of Directors
DESCRIPTION:The Boards of Directors for the Exchange Club of Springfield and the Exchange Club Foundation of Springfield\, Ohio will be at 5:15PM Tuesday January 29\, 2019 at Home City Federal Savings Bank\, North Limestone Branch.  All members welcome\, Board members expected.
URL:https://springfieldexchangeclub.org/event/board-of-directors/
LOCATION:Home City Federal\, 2454 N. Limestone Street\, Springfield\, OH\, 45503\, United States
CATEGORIES:Foundation/Club Board Meeting
END:VEVENT
BEGIN:VEVENT
DTSTART;TZID=UTC:20181023T173000
DTEND;TZID=UTC:20181023T190000
DTSTAMP:20260424T023548
CREATED:20180824T172827Z
LAST-MODIFIED:20180824T173117Z
UID:1578-1540315800-1540321200@springfieldexchangeclub.org
SUMMARY:Springfield Exchange Club Board of Directors Meeting
DESCRIPTION:The Exchange Club of Springfield Board of Directors for both the Club and the Foundation will meet a 5:30PM at Home City Federal N Limestone Street.  Board members expected\, all members welcome.
URL:https://springfieldexchangeclub.org/event/springfield-membership-meeting-9/
LOCATION:Home City Federal\, 2454 N. Limestone Street\, Springfield\, OH\, 45503\, United States
CATEGORIES:Foundation/Club Board Meeting
END:VEVENT
BEGIN:VEVENT
DTSTART;TZID=UTC:20180814T173000
DTEND;TZID=UTC:20180814T190000
DTSTAMP:20260424T023548
CREATED:20180717T230037Z
LAST-MODIFIED:20180717T230037Z
UID:1518-1534267800-1534273200@springfieldexchangeclub.org
SUMMARY:Board of Directors Meeting
DESCRIPTION:The Board of Directors for the Club and for the Foundation will meet at Peg Haemmerle’s house for a cookout and meetings.  All Exchangites are welcome\, Board members are expected.
URL:https://springfieldexchangeclub.org/event/board-of-directors-meeting-7/
LOCATION:Unnamed Venue
CATEGORIES:Foundation/Club Board Meeting
END:VEVENT
BEGIN:VEVENT
DTSTART;TZID=UTC:20180424T170000
DTEND;TZID=UTC:20180424T190000
DTSTAMP:20260424T023548
CREATED:20180313T151426Z
LAST-MODIFIED:20180411T151604Z
UID:1344-1524589200-1524596400@springfieldexchangeclub.org
SUMMARY:Board of Directors Meeting
DESCRIPTION:The Exchange Club of Springfield Board of Directors and the Exchange Club of Springfield Foundation Board of Directors will meet at Home City Federal N. Limestone at 5:15 PM.  Board members expected\, all members encouraged to attend.
URL:https://springfieldexchangeclub.org/event/board-of-directors-meeting-6/
LOCATION:Home City Federal\, 2454 N. Limestone Street\, Springfield\, OH\, 45503\, United States
CATEGORIES:Foundation/Club Board Meeting
END:VEVENT
BEGIN:VEVENT
DTSTART;TZID=UTC:20180123T173000
DTEND;TZID=UTC:20180123T200000
DTSTAMP:20260424T023548
CREATED:20171115T155810Z
LAST-MODIFIED:20171115T155810Z
UID:1245-1516728600-1516737600@springfieldexchangeclub.org
SUMMARY:Exchange Club and Foundation Board of Directors Meeting
DESCRIPTION:The Board of Directors of the Exchange Club Foundation of Springfield Ohio will meet at 5:30 PM at Home City Federal Savings North Limestone Street .  The Board of Directors of the Exchange Club of Springfield\, Ohio will meet directly after the conclusion of the Foundation Board Meeting.
URL:https://springfieldexchangeclub.org/event/exchange-club-and-foundation-board-of-directors-meeting/
LOCATION:Home City Federal\, 2454 N. Limestone Street\, Springfield\, OH\, 45503\, United States
CATEGORIES:Foundation/Club Board Meeting
END:VEVENT
BEGIN:VEVENT
DTSTART;TZID=UTC:20171024T173000
DTEND;TZID=UTC:20171024T193000
DTSTAMP:20260424T023548
CREATED:20170828T173121Z
LAST-MODIFIED:20170828T174310Z
UID:1129-1508866200-1508873400@springfieldexchangeclub.org
SUMMARY:Board of Directors Meeting
DESCRIPTION:The Board of Directors of the Exchange Club of Springfield Foundation and the Board of Directors of the Exchange Club of Springfield\, Ohio will meet at Home City Federal Savings on North Limestone Street on Tuesday at 5:30 PM.  All Board of Directors and Officers are expected to attend.  All Exchangites in good standing are welcome.
URL:https://springfieldexchangeclub.org/event/board-of-directors-meeting-5/
LOCATION:Home City Federal\, 2454 N. Limestone Street\, Springfield\, OH\, 45503\, United States
CATEGORIES:Foundation/Club Board Meeting
END:VEVENT
BEGIN:VEVENT
DTSTART;TZID=UTC:20170808T173000
DTEND;TZID=UTC:20170808T200000
DTSTAMP:20260424T023548
CREATED:20170611T190653Z
LAST-MODIFIED:20170806T234605Z
UID:984-1502213400-1502222400@springfieldexchangeclub.org
SUMMARY:Springfield Exchange Club will Picnic and have a combined Board Meeting and Club Meeting
DESCRIPTION:The Exchange Club of Springfield will meet at Peg Haemmerle’s home for a picnic and Board Meeting at 6:00 PM Tuesday August 8\, 2017.\n 
URL:https://springfieldexchangeclub.org/event/springfield-exchange-club-will-picnic-and-have-a-combined-board-meeting-and-club-meeting/
LOCATION:OH
CATEGORIES:Club Meeting - Evening,Foundation/Club Board Meeting
END:VEVENT
BEGIN:VEVENT
DTSTART;TZID=UTC:20170425T173000
DTEND;TZID=UTC:20170425T190000
DTSTAMP:20260424T023548
CREATED:20170405T003330Z
LAST-MODIFIED:20170405T003330Z
UID:856-1493141400-1493146800@springfieldexchangeclub.org
SUMMARY:Club and Foundation Board of Directors Meeting
DESCRIPTION:The Exchange Club of Springfield Board of Directors will meet at 5:30 PM at Home City Federal \, North Limestone Street.  The Exchange Club of Springfield Foundation Board of Directors will meet at 5:30 PM at Home City Federal North Limestone.  Board members are required to attend\, all Exchangites are welcome.
URL:https://springfieldexchangeclub.org/event/club-and-foundation-board-of-directors-meeting/
LOCATION:Home City Federal\, 2454 N. Limestone Street\, Springfield\, OH\, 45503\, United States
CATEGORIES:Foundation/Club Board Meeting
END:VEVENT
BEGIN:VEVENT
DTSTART;TZID=UTC:20170131T171500
DTEND;TZID=UTC:20170131T190000
DTSTAMP:20260424T023548
CREATED:20170112T012459Z
LAST-MODIFIED:20170112T012459Z
UID:631-1485882900-1485889200@springfieldexchangeclub.org
SUMMARY:Board of Director's Meeting
DESCRIPTION:The Board of Director’s Meeting for the Foundation and the Club will meet at Home City Federal Savings Bank on Tuesday January 31st\, 2017\, at 5:15 PM\,
URL:https://springfieldexchangeclub.org/event/board-of-directors-meeting-4/
LOCATION:Home City Federal\, 2454 N. Limestone Street\, Springfield\, OH\, 45503\, United States
CATEGORIES:Foundation/Club Board Meeting
END:VEVENT
BEGIN:VEVENT
DTSTART;TZID=UTC:20161025T171500
DTEND;TZID=UTC:20161025T193000
DTSTAMP:20260424T023548
CREATED:20160914T171407Z
LAST-MODIFIED:20160928T195345Z
UID:508-1477415700-1477423800@springfieldexchangeclub.org
SUMMARY:Board of Directors Meeting
DESCRIPTION:The Board of Directors of the Exchange Club of Springfield will meet at 5:15 PM at Home City Federal. \nThe Board of Directors of the Exchange Club Foundation of Springfield will meet at 5:15PM at Home City Federal \n 
URL:https://springfieldexchangeclub.org/event/board-of-directors-meeting-3/
LOCATION:Home City Federal\, 2454 N. Limestone Street\, Springfield\, OH\, 45503\, United States
CATEGORIES:Foundation/Club Board Meeting
END:VEVENT
BEGIN:VEVENT
DTSTART;TZID=UTC:20160823T173000
DTEND;TZID=UTC:20160823T190000
DTSTAMP:20260424T023548
CREATED:20160805T150301Z
LAST-MODIFIED:20160805T150420Z
UID:454-1471973400-1471978800@springfieldexchangeclub.org
SUMMARY:Board of Directors Meeting
DESCRIPTION:The Exchange Club of Springfield Board of Directors and the Exchange Club of Springfield Foundation Board of Directors will meet at 5:30 PM Tuesday August 23rd\, 2016\, at Home City Federal\, Limestone Street.
URL:https://springfieldexchangeclub.org/event/board-of-directors-meeting-2/
LOCATION:Home City Federal\, 2454 N. Limestone Street\, Springfield\, OH\, 45503\, United States
CATEGORIES:Foundation/Club Board Meeting
END:VEVENT
BEGIN:VEVENT
DTSTART;TZID=UTC:20151119T171500
DTEND;TZID=UTC:20151119T190000
DTSTAMP:20260424T023548
CREATED:20151103T212302Z
LAST-MODIFIED:20151103T212302Z
UID:189-1447953300-1447959600@springfieldexchangeclub.org
SUMMARY:Foundation/Club Board Meeting
DESCRIPTION:
URL:https://springfieldexchangeclub.org/event/foundationclub-board-meeting/
LOCATION:OH
CATEGORIES:Foundation/Club Board Meeting
END:VEVENT
END:VCALENDAR