BEGIN:VCALENDAR
VERSION:2.0
PRODID:-//Springfield Exchange Club - ECPv6.15.18//NONSGML v1.0//EN
CALSCALE:GREGORIAN
METHOD:PUBLISH
X-WR-CALNAME:Springfield Exchange Club
X-ORIGINAL-URL:https://springfieldexchangeclub.org
X-WR-CALDESC:Events for Springfield Exchange Club
REFRESH-INTERVAL;VALUE=DURATION:PT1H
X-Robots-Tag:noindex
X-PUBLISHED-TTL:PT1H
BEGIN:VTIMEZONE
TZID:UTC
BEGIN:STANDARD
TZOFFSETFROM:+0000
TZOFFSETTO:+0000
TZNAME:UTC
DTSTART:20210101T000000
END:STANDARD
END:VTIMEZONE
BEGIN:VEVENT
DTSTART;TZID=UTC:20260210T120000
DTEND;TZID=UTC:20260210T130000
DTSTAMP:20260423T193524
CREATED:20251027T162400Z
LAST-MODIFIED:20251027T162400Z
UID:11592-1770724800-1770728400@springfieldexchangeclub.org
SUMMARY:Springfield Exchange Member Meeting
DESCRIPTION:The Exchange Club of Springfield\, OH will honor Students of the Month from local high schools.
URL:https://springfieldexchangeclub.org/event/springfield-exchange-member-meeting-28/
LOCATION:Wittenberg Student Center\, 734 Woodlawn\, Springfield\, 45504\, United States
CATEGORIES:Meetings
END:VEVENT
BEGIN:VEVENT
DTSTART;TZID=UTC:20260127T120000
DTEND;TZID=UTC:20260127T130000
DTSTAMP:20260423T193524
CREATED:20251027T154539Z
LAST-MODIFIED:20251027T154539Z
UID:11557-1769515200-1769518800@springfieldexchangeclub.org
SUMMARY:Springfield Exchange Member Meeting
DESCRIPTION:The Exchange Club of Springfield\, Ohio will meet at Noon on the campus of Wittenberg University in the Student Center Alumni Room. Guest speakers will be Students of the Month from local high schools.
URL:https://springfieldexchangeclub.org/event/springfield-exchange-member-meeting-18/
LOCATION:Wittenberg Student Center\, 734 Woodlawn\, Springfield\, 45504\, United States
CATEGORIES:Meetings
END:VEVENT
BEGIN:VEVENT
DTSTART;TZID=UTC:20260113T120000
DTEND;TZID=UTC:20260113T130000
DTSTAMP:20260423T193524
CREATED:20251027T154357Z
LAST-MODIFIED:20251027T162113Z
UID:11555-1768305600-1768309200@springfieldexchangeclub.org
SUMMARY:Springfield Exchange Member Meeting
DESCRIPTION:The Exchange Club of Springfield\, Ohio will meet at Noon on the campus of Wittenberg University in the Student Center Alumni Room. Guest speakers will be Students of the Month from local high schools.
URL:https://springfieldexchangeclub.org/event/springfield-exchange-member-meeting-17/
LOCATION:Wittenberg Student Center\, 734 Woodlawn\, Springfield\, 45504\, United States
CATEGORIES:Meetings
END:VEVENT
BEGIN:VEVENT
DTSTART;TZID=UTC:20251209T120000
DTEND;TZID=UTC:20251209T133000
DTSTAMP:20260423T193524
CREATED:20250827T152707Z
LAST-MODIFIED:20250827T152707Z
UID:11229-1765281600-1765287000@springfieldexchangeclub.org
SUMMARY:Springfield Exchange Club Honors Our Military
DESCRIPTION:The Exchange Club of Springfield\, Ohio will meet at Noon on the campus of Wittenberg University in the Student Center Alumni Room. Our Guests will be National Guard honorees for the Adopt-a-Military Family project.
URL:https://springfieldexchangeclub.org/event/springfield-exchange-club-honors-our-military/
LOCATION:Wittenberg Student Center\, 734 Woodlawn\, Springfield\, 45504\, United States
CATEGORIES:Meetings
END:VEVENT
BEGIN:VEVENT
DTSTART;TZID=UTC:20251027T120000
DTEND;TZID=UTC:20251027T130000
DTSTAMP:20260423T193524
CREATED:20251027T154651Z
LAST-MODIFIED:20251027T154651Z
UID:11559-1761566400-1761570000@springfieldexchangeclub.org
SUMMARY:Springfield Exchange Member Meeting
DESCRIPTION:The Exchange Club of Springfield\, Ohio will meet at Noon on the campus of Wittenberg University in the Student Center Alumni Room. Guest speakers will be Students of the Month from local high schools.
URL:https://springfieldexchangeclub.org/event/springfield-exchange-member-meeting-19/
LOCATION:Wittenberg Student Center\, 734 Woodlawn\, Springfield\, 45504\, United States
CATEGORIES:Meetings
END:VEVENT
BEGIN:VEVENT
DTSTART;TZID=UTC:20250211T120000
DTEND;TZID=UTC:20250211T130000
DTSTAMP:20260423T193524
CREATED:20240830T140234Z
LAST-MODIFIED:20240830T140234Z
UID:9458-1739275200-1739278800@springfieldexchangeclub.org
SUMMARY:Exchange Member Meeting
DESCRIPTION:The Exchange Club of Springfield\, Ohio will meet to present the Youth of the Month Project hosting local high school seniors.
URL:https://springfieldexchangeclub.org/event/exchange-member-meeting-18/
LOCATION:Wittenberg Student Center\, 734 Woodlawn\, Springfield\, 45504\, United States
CATEGORIES:Meetings
END:VEVENT
BEGIN:VEVENT
DTSTART;TZID=UTC:20250128T120000
DTEND;TZID=UTC:20250128T130000
DTSTAMP:20260423T193524
CREATED:20240830T140127Z
LAST-MODIFIED:20240830T140127Z
UID:9456-1738065600-1738069200@springfieldexchangeclub.org
SUMMARY:Exchange Member Meeting
DESCRIPTION:The Exchange Club of Springfield\, Ohio will meet to present the Youth of the Month Project hosting local high school seniors.
URL:https://springfieldexchangeclub.org/event/exchange-member-meeting-17/
LOCATION:Wittenberg Student Center\, 734 Woodlawn\, Springfield\, 45504\, United States
CATEGORIES:Meetings
END:VEVENT
BEGIN:VEVENT
DTSTART;TZID=UTC:20250114T120000
DTEND;TZID=UTC:20250114T130000
DTSTAMP:20260423T193524
CREATED:20240830T140011Z
LAST-MODIFIED:20240830T140011Z
UID:9454-1736856000-1736859600@springfieldexchangeclub.org
SUMMARY:Exchange Member Meeting
DESCRIPTION:The Exchange Club of Springfield\, Ohio will meet to present the Youth of the Month Project hosting local high school seniors.
URL:https://springfieldexchangeclub.org/event/exchange-member-meeting-16/
LOCATION:Wittenberg Student Center\, 734 Woodlawn\, Springfield\, 45504\, United States
CATEGORIES:Meetings
END:VEVENT
BEGIN:VEVENT
DTSTART;TZID=UTC:20241224T080000
DTEND;TZID=UTC:20241224T083000
DTSTAMP:20260423T193524
CREATED:20240830T135429Z
LAST-MODIFIED:20240830T135429Z
UID:9450-1735027200-1735029000@springfieldexchangeclub.org
SUMMARY:No Exchange Club Meeting Today
DESCRIPTION:The Exchange Club of Springfield\, Ohio will not meet due to the Christmas Holiday.  Seasons Greetings!  See you next year!
URL:https://springfieldexchangeclub.org/event/no-exchange-club-meeting-today/
CATEGORIES:Meetings
END:VEVENT
BEGIN:VEVENT
DTSTART;TZID=UTC:20241210T120000
DTEND;TZID=UTC:20241210T130000
DTSTAMP:20260423T193524
CREATED:20240830T134930Z
LAST-MODIFIED:20240830T134930Z
UID:9446-1733832000-1733835600@springfieldexchangeclub.org
SUMMARY:Exchange Member Meeting
DESCRIPTION:The Exchange Club of Springfield Ohio will meet to present the 2024 Adopt-A-Military Family project.
URL:https://springfieldexchangeclub.org/event/exchange-member-meeting-15/
LOCATION:Wittenberg Student Center\, 734 Woodlawn\, Springfield\, 45504\, United States
CATEGORIES:Meetings
END:VEVENT
BEGIN:VEVENT
DTSTART;TZID=UTC:20240625T120000
DTEND;TZID=UTC:20240625T133000
DTSTAMP:20260423T193524
CREATED:20240301T193735Z
LAST-MODIFIED:20240622T163018Z
UID:8643-1719316800-1719322200@springfieldexchangeclub.org
SUMMARY:Club Member Meeting
DESCRIPTION:The Exchange Club of Springfield\, Ohio will meet Tuesday June 25 2024\, Noon\, at the Leffel Lane campus of Clark State College for a tour of computer lab facility and lunch with students.
URL:https://springfieldexchangeclub.org/event/club-member-meeting-3/
LOCATION:Clark State Leffel Lane campus
CATEGORIES:Meetings
END:VEVENT
BEGIN:VEVENT
DTSTART;TZID=UTC:20240213T120000
DTEND;TZID=UTC:20240213T130000
DTSTAMP:20260423T193524
CREATED:20231218T161722Z
LAST-MODIFIED:20231218T164202Z
UID:8391-1707825600-1707829200@springfieldexchangeclub.org
SUMMARY:Exchange Youth of the Month
DESCRIPTION:The Exchange Club of Springfield\, Ohio will meet at the Benham-Pence Student Center on the campus of Wittenberg University\, Noon\, for the Youth of the Month Project.
URL:https://springfieldexchangeclub.org/event/exchange-youth-of-the-month/
LOCATION:Wittenberg Student Center\, 734 Woodlawn\, Springfield\, 45504\, United States
CATEGORIES:Meetings
END:VEVENT
BEGIN:VEVENT
DTSTART;TZID=UTC:20240123T120000
DTEND;TZID=UTC:20240123T130000
DTSTAMP:20260423T193524
CREATED:20231218T161119Z
LAST-MODIFIED:20231218T161119Z
UID:8384-1706011200-1706014800@springfieldexchangeclub.org
SUMMARY:Exchange Youth of the Month Project
DESCRIPTION:The Exchange Club of Springfield\, Ohio will meet at the Benham-Pence Student Center on the campus of Wittenberg University\, Noon\, for the Youth of the Month Project.
URL:https://springfieldexchangeclub.org/event/exchange-youth-of-the-month-project/
LOCATION:Wittenberg Student Center\, 734 Woodlawn\, Springfield\, 45504\, United States
CATEGORIES:Meetings
END:VEVENT
BEGIN:VEVENT
DTSTART;TZID=UTC:20240109T120000
DTEND;TZID=UTC:20240109T130000
DTSTAMP:20260423T193524
CREATED:20231218T160929Z
LAST-MODIFIED:20231218T161204Z
UID:8382-1704801600-1704805200@springfieldexchangeclub.org
SUMMARY:Exchange Youth of the Month Project
DESCRIPTION:The Exchange Club of Springfield\, Ohio will meet at the Benham-Pence Student Center on the campus of Wittenberg University\, Noon\, for the Youth of the Month Project.
URL:https://springfieldexchangeclub.org/event/youth-of-the-month-project/
LOCATION:Wittenberg Student Center\, 734 Woodlawn\, Springfield\, 45504\, United States
CATEGORIES:Meetings
END:VEVENT
BEGIN:VEVENT
DTSTART;TZID=UTC:20231212T120000
DTEND;TZID=UTC:20231212T130000
DTSTAMP:20260423T193524
CREATED:20230801T163931Z
LAST-MODIFIED:20230801T163931Z
UID:7915-1702382400-1702386000@springfieldexchangeclub.org
SUMMARY:Exchange Club Member Meeting
DESCRIPTION:The Exchange Club of Springfield\, Ohio will meet today at Benham-Pence Student Center\, Noon\, for the Adopt a Military Family Project.  .
URL:https://springfieldexchangeclub.org/event/exchange-club-member-meeting-13/
LOCATION:Wittenberg Student Center\, 734 Woodlawn\, Springfield\, 45504\, United States
CATEGORIES:Meetings
END:VEVENT
BEGIN:VEVENT
DTSTART;TZID=UTC:20230214T120000
DTEND;TZID=UTC:20230214T130000
DTSTAMP:20260423T193524
CREATED:20221220T192657Z
LAST-MODIFIED:20221220T192657Z
UID:7116-1676376000-1676379600@springfieldexchangeclub.org
SUMMARY:Exchange Welcomes Students of the Month
DESCRIPTION:The Exchange Club of Springfield\, Ohio\, will meet Tuesday\, February 14\, 2023\, Noon\, at the Benham-Pence Student Center Alumni Room on the campus of Wittenberg University.  Our Guests will be the third installment of local high school seniors\, and their counselors\, representing their schools through the Exchange Club Youth of the Month Project. The students each receive a $ 100 stipend and the opportunity to compete for the Youth of the Year Award and the associated $1\,000 college scholarship\, First Runner-Up will receive a $ 750 college scholarship\, and Second Runner-Up will receive a $500 college scholarship.
URL:https://springfieldexchangeclub.org/event/exchange-welcomes-students-of-the-month-7/
LOCATION:Wittenberg Athletic Center\, 250 Bill Edwards Drive\, Springfield\, OH\, 45504\, United States
CATEGORIES:Meetings
END:VEVENT
BEGIN:VEVENT
DTSTART;TZID=UTC:20230124T120000
DTEND;TZID=UTC:20230124T130000
DTSTAMP:20260423T193524
CREATED:20221220T192341Z
LAST-MODIFIED:20221220T192341Z
UID:7114-1674561600-1674565200@springfieldexchangeclub.org
SUMMARY:Exchange Welcomes Students of the Month
DESCRIPTION:The Exchange Club of Springfield\, Ohio\, will meet Tuesday\, January 24\, 2023\, Noon\, at the Benham-Pence Student Center Alumni Room on the campus of Wittenberg University.  Our Guests will be the second installment of local high school seniors\, and their counselors\, representing their schools through the Exchange Club Youth of the Month Project. The students each receive a $ 100 stipend and the opportunity to compete for the Youth of the Year Award and the associated $1\,000 college scholarship\, First Runner-Up will receive a $ 750 college scholarship\, and Second Runner-Up will receive a $500 college scholarship.
URL:https://springfieldexchangeclub.org/event/exchange-welcomes-students-of-the-month-6/
LOCATION:Wittenberg Student Center\, 734 Woodlawn\, Springfield\, 45504\, United States
CATEGORIES:Meetings
END:VEVENT
BEGIN:VEVENT
DTSTART;TZID=UTC:20230110T120000
DTEND;TZID=UTC:20230110T130000
DTSTAMP:20260423T193524
CREATED:20221220T192125Z
LAST-MODIFIED:20221220T192125Z
UID:7112-1673352000-1673355600@springfieldexchangeclub.org
SUMMARY:Exchange Welcomes Students of the Month
DESCRIPTION:The Exchange Club of Springfield\, Ohio\, will meet Tuesday\, January 10\, 2023\, Noon\, at the Benham-Pence Student Center Alumni Room on the campus of Wittenberg University.  Our Guests will be the first installment of local high school seniors\, and their counselors\, representing their schools through the Exchange Club Youth of the Month Project. The students each receive a $ 100 stipend and the opportunity to compete for the Youth of the Year Award and the associated $1\,000 college scholarship\, First Runner-Up will receive a $ 750 college scholarship\, and Second Runner-Up will receive a $500 college scholarship.
URL:https://springfieldexchangeclub.org/event/exchange-welcomes-students-of-the-month-5/
LOCATION:Wittenberg Student Center\, 734 Woodlawn\, Springfield\, 45504\, United States
CATEGORIES:Meetings
END:VEVENT
BEGIN:VEVENT
DTSTART;TZID=UTC:20221227T180000
DTEND;TZID=UTC:20221227T190000
DTSTAMP:20260423T193524
CREATED:20220913T173032Z
LAST-MODIFIED:20220913T173519Z
UID:6494-1672164000-1672167600@springfieldexchangeclub.org
SUMMARY:No Meeting due to the Christmas Holiday
DESCRIPTION:The Exchange Club of Springfield\, Ohio\, will not meet on its regularly scheduled day due to the Christmas Holiday.  The club will next meet on January 10th\, 2023 to honor area high schools seniors with the Youth of the Month/Year Project.
URL:https://springfieldexchangeclub.org/event/no-meeting-due-to-the-christmas-holiday/
CATEGORIES:Meetings
END:VEVENT
BEGIN:VEVENT
DTSTART;TZID=UTC:20221206T120000
DTEND;TZID=UTC:20221206T130000
DTSTAMP:20260423T193524
CREATED:20220913T172635Z
LAST-MODIFIED:20221014T150529Z
UID:6492-1670328000-1670331600@springfieldexchangeclub.org
SUMMARY:Exchange Welcomes the Guard
DESCRIPTION:The Exchange Club of Springfield\, Ohio will meet Tuesday December 6\, 2022 for the Adopt-a-Military Family program. Four families will receive a Foundation Donation of $500 to assist them at this time of year.
URL:https://springfieldexchangeclub.org/event/exchange-welcomes-the-guard/
LOCATION:Wittenberg Student Center\, 734 Woodlawn\, Springfield\, 45504\, United States
CATEGORIES:Meetings
END:VEVENT
BEGIN:VEVENT
DTSTART;TZID=UTC:20220823T070000
DTEND;TZID=UTC:20220823T080000
DTSTAMP:20260423T193524
CREATED:20220810T133601Z
LAST-MODIFIED:20220810T133601Z
UID:6136-1661238000-1661241600@springfieldexchangeclub.org
SUMMARY:Exchange Welcomes National Trails Parks and Recreation
DESCRIPTION:The Exchange Club of Springfield\, Ohio will meet Tuesday August 23\, 2022 at the Masonic Community’s Lindner Center at 7:00AM. Guest speaker will be Leann Castillo from National Trails Parks and Recreation.
URL:https://springfieldexchangeclub.org/event/exchange-welcomes-national-trails-parks-and-recreation-2/
LOCATION:Ohio Masonic Home\, 2655 W National Rd\, Springfield\, OH\, 45504\, United States
CATEGORIES:Meetings
END:VEVENT
BEGIN:VEVENT
DTSTART;TZID=UTC:20220712T173000
DTEND;TZID=UTC:20220712T183000
DTSTAMP:20260423T193524
CREATED:20220613T142208Z
LAST-MODIFIED:20220613T143138Z
UID:3756-1657647000-1657650600@springfieldexchangeclub.org
SUMMARY:Springfield Member Meeting
DESCRIPTION:The Exchange Club will meet Tuesday July 12\, 2022 at a time and place to be determined.
URL:https://springfieldexchangeclub.org/event/springfield-member-meeting-3/
LOCATION:COHATCH\, 101 S. Fountain Ave\, Springfield\, OH\, United States
CATEGORIES:Meetings
END:VEVENT
BEGIN:VEVENT
DTSTART;TZID=UTC:20220628T070000
DTEND;TZID=UTC:20220628T080000
DTSTAMP:20260423T193524
CREATED:20220214T195121Z
LAST-MODIFIED:20220526T120321Z
UID:3133-1656399600-1656403200@springfieldexchangeclub.org
SUMMARY:Springfield Exchange Member Meeting
DESCRIPTION:The Exchange Club of Springfield will meet at the Ohio Masonic Community’s Lindner Center at 7:00 AM.  Guest Speaker will be Ryan Ray from the Salvation Army.
URL:https://springfieldexchangeclub.org/event/springfield-exchange-member-meeting-11/
LOCATION:Lidner Center Masonic Community\, 2655 West National Road\, Springfield\, Ohio\, 45504
CATEGORIES:Meetings
END:VEVENT
BEGIN:VEVENT
DTSTART;TZID=UTC:20220614T070000
DTEND;TZID=UTC:20220614T080000
DTSTAMP:20260423T193524
CREATED:20220214T195021Z
LAST-MODIFIED:20220526T120415Z
UID:3131-1655190000-1655193600@springfieldexchangeclub.org
SUMMARY:Springfield Exchange Member Meeting
DESCRIPTION:The Exchange Club of Springfield will meet at the Ohio Masonic Community’s Lindner Center at 7:00 AM.  Guest Speaker will be Deb McCullough\, Executive Director of On-The-Rise.
URL:https://springfieldexchangeclub.org/event/springfield-exchange-member-meeting-10/
LOCATION:Lidner Center Masonic Community\, 2655 West National Road\, Springfield\, Ohio\, 45504
CATEGORIES:Meetings
END:VEVENT
BEGIN:VEVENT
DTSTART;TZID=UTC:20220524T070000
DTEND;TZID=UTC:20220524T080000
DTSTAMP:20260423T193524
CREATED:20220214T194825Z
LAST-MODIFIED:20220519T203214Z
UID:3129-1653375600-1653379200@springfieldexchangeclub.org
SUMMARY:Springfield Exchange Member Meeting
DESCRIPTION:The Exchange Club of Springfield will meet at the Ohio Masonic Community’s Lindner Center at 7:00 AM.  Guest Speaker will be Angela Boblitt\, Executive Director of Choosing Hope Adoptions.
URL:https://springfieldexchangeclub.org/event/springfield-exchange-member-meeting-9/
LOCATION:Lidner Center Masonic Community\, 2655 West National Road\, Springfield\, Ohio\, 45504
CATEGORIES:Meetings
END:VEVENT
BEGIN:VEVENT
DTSTART;TZID=UTC:20220510T070000
DTEND;TZID=UTC:20220510T080000
DTSTAMP:20260423T193524
CREATED:20220214T194638Z
LAST-MODIFIED:20220503T141816Z
UID:3127-1652166000-1652169600@springfieldexchangeclub.org
SUMMARY:Springfield Exchange Member Meeting
DESCRIPTION:The Exchange Club of Springfield will meet at Wittenberg University’s Benham-Pence Student Center at 7:00 AM.  Guest Speaker will be Maurice Ware\, the incoming CEO of Oesterlen Services for Youth\, Inc.
URL:https://springfieldexchangeclub.org/event/springfield-exchange-member-meeting-8/
CATEGORIES:Meetings
END:VEVENT
BEGIN:VEVENT
DTSTART;TZID=UTC:20220426T070000
DTEND;TZID=UTC:20220426T080000
DTSTAMP:20260423T193524
CREATED:20220214T194513Z
LAST-MODIFIED:20220214T194513Z
UID:3125-1650956400-1650960000@springfieldexchangeclub.org
SUMMARY:Springfield Exchange Member Meeting
DESCRIPTION:The Exchange Club of Springfield will meet at Wittenberg University’s Benham-Pence Student Center at 7:00 AM.  The club will elect Officers for the 2022-23 Exchange year and Directors for a 2 year term.
URL:https://springfieldexchangeclub.org/event/springfield-exchange-member-meeting-7/
CATEGORIES:Meetings
END:VEVENT
BEGIN:VEVENT
DTSTART;TZID=UTC:20220412T070000
DTEND;TZID=UTC:20220412T080000
DTSTAMP:20260423T193524
CREATED:20220214T194232Z
LAST-MODIFIED:20220214T194244Z
UID:3122-1649746800-1649750400@springfieldexchangeclub.org
SUMMARY:Springfield Exchange Member Meeting
DESCRIPTION:The Exchange Club of Springfield will meet at Wittenberg University’s Benham-Pence Student Center at 7:00 AM.  Guest Speaker TBD.
URL:https://springfieldexchangeclub.org/event/springfield-exchange-member-meeting-6/
CATEGORIES:Meetings
END:VEVENT
BEGIN:VEVENT
DTSTART;TZID=UTC:20220322T070000
DTEND;TZID=UTC:20220322T080000
DTSTAMP:20260423T193524
CREATED:20220127T164826Z
LAST-MODIFIED:20220127T164826Z
UID:3044-1647932400-1647936000@springfieldexchangeclub.org
SUMMARY:Exchange Club Member Meeting
DESCRIPTION:The Exchange Club of Springfield will meet Tuesday March 22\, 2022 \, 7:00 AM at the Benham-Pence Student Center Alumni Room on the campus of Wittenberg University.  Guest speaker TBD.
URL:https://springfieldexchangeclub.org/event/exchange-club-member-meeting-3/
LOCATION:Wittenberg Student Center\, 734 Woodlawn\, Springfield\, 45504\, United States
CATEGORIES:Meetings
END:VEVENT
BEGIN:VEVENT
DTSTART;TZID=UTC:20220308T070000
DTEND;TZID=UTC:20220308T080000
DTSTAMP:20260423T193524
CREATED:20220127T164244Z
LAST-MODIFIED:20220127T164244Z
UID:3038-1646722800-1646726400@springfieldexchangeclub.org
SUMMARY:Exchange Member Meeting
DESCRIPTION:The Exchange Club of Springfield will meet Tuesday March 8\, 2022 \, 7:00 AM tentatively scheduled at the Lidner Center\, Masonic Community\, Springfield Ohio.
URL:https://springfieldexchangeclub.org/event/exchange-member-meeting-2/
LOCATION:Lidner Center Masonic Community\, 2655 West National Road\, Springfield\, Ohio\, 45504
CATEGORIES:Meetings
END:VEVENT
END:VCALENDAR