BEGIN:VCALENDAR
VERSION:2.0
PRODID:-//Springfield Exchange Club - ECPv6.15.18//NONSGML v1.0//EN
CALSCALE:GREGORIAN
METHOD:PUBLISH
X-WR-CALNAME:Springfield Exchange Club
X-ORIGINAL-URL:https://springfieldexchangeclub.org
X-WR-CALDESC:Events for Springfield Exchange Club
REFRESH-INTERVAL;VALUE=DURATION:PT1H
X-Robots-Tag:noindex
X-PUBLISHED-TTL:PT1H
BEGIN:VTIMEZONE
TZID:UTC
BEGIN:STANDARD
TZOFFSETFROM:+0000
TZOFFSETTO:+0000
TZNAME:UTC
DTSTART:20170101T000000
END:STANDARD
END:VTIMEZONE
BEGIN:VEVENT
DTSTART;TZID=UTC:20190226T120000
DTEND;TZID=UTC:20190226T130000
DTSTAMP:20260424T110231
CREATED:20190204T152949Z
LAST-MODIFIED:20190206T150417Z
UID:1739-1551182400-1551186000@springfieldexchangeclub.org
SUMMARY:Noon Membership Meeting
DESCRIPTION:We will meet Tuesday February 26\, 2019\, Noon\, at the Wittenberg Student Center.  We will convene as a body of the whole to vote for the Youth of the Year\, First\, and second Runner Up.
URL:https://springfieldexchangeclub.org/event/noon-membership-meeting-3/
CATEGORIES:Meetings
END:VEVENT
BEGIN:VEVENT
DTSTART;TZID=UTC:20190219T120000
DTEND;TZID=UTC:20190219T130000
DTSTAMP:20260424T110231
CREATED:20190204T152805Z
LAST-MODIFIED:20190204T152805Z
UID:1737-1550577600-1550581200@springfieldexchangeclub.org
SUMMARY:Noon Membership Meeting
DESCRIPTION:We will meet Tuesday February 19\, 2019\, Noon\, at the Wittenberg Student Center.  Our guest speaker TBD.
URL:https://springfieldexchangeclub.org/event/noon-membership-meeting-2/
LOCATION:Wittenberg Student Center\, 734 Woodlawn\, Springfield\, 45504\, United States
CATEGORIES:Meetings
END:VEVENT
BEGIN:VEVENT
DTSTART;TZID=UTC:20190205T120000
DTEND;TZID=UTC:20190205T130000
DTSTAMP:20260424T110231
CREATED:20181117T153714Z
LAST-MODIFIED:20181117T153714Z
UID:1674-1549368000-1549371600@springfieldexchangeclub.org
SUMMARY:Exchange Welcomes Youths of the Month
DESCRIPTION:The Exchange Club of Springfield will meet Tuesday February 5\, 2019 in the Alumni Room of the Wittenberg Student Center at Noon.  Our guest speakers will be area high school Students of the Month competing for our Youth of the Year Award. \nOne of the most popular Exchange youth projects\, the Youth of the Month/Year Award recognizes hard-working high school students who attain high levels of scholastic achievement\, community involvement and leadership. This proven program not only rewards outstanding young people\, but also provides an incentive for other youngsters to strive for equally high levels of achievement. Once a Youth of the Month program has been successfully implemented\, the groundwork for conducting an annual Youth of the Year competition is already in place. Selection of the Youth of the Year is simply made from the club’s Youth of the Month recipients for that school year. The club’s Youth of the Year advances to district competition\, and ultimately\, an opportunity to vie for the prestigious National Youth of the Year Award. Specially designed plaques and certificates\, along with a detailed Youth of the Month/Year information guide and application\, can be obtained from National Headquarters.
URL:https://springfieldexchangeclub.org/event/exchange-welcomes-youths-of-the-month-2/
CATEGORIES:Meetings
END:VEVENT
BEGIN:VEVENT
DTSTART;TZID=UTC:20190129T120000
DTEND;TZID=UTC:20190129T130000
DTSTAMP:20260424T110231
CREATED:20181117T153522Z
LAST-MODIFIED:20181117T153522Z
UID:1672-1548763200-1548766800@springfieldexchangeclub.org
SUMMARY:Exchange Welcomes Youths of the Months
DESCRIPTION:The Exchange Club of Springfield will meet Tuesday January 29\, 2019 in the Alumni Room of the Wittenberg Student Center at Noon.  Our guest speakers will be area high school Students of the Month competing for our Youth of the Year Award. \nOne of the most popular Exchange youth projects\, the Youth of the Month/Year Award recognizes hard-working high school students who attain high levels of scholastic achievement\, community involvement and leadership. This proven program not only rewards outstanding young people\, but also provides an incentive for other youngsters to strive for equally high levels of achievement. Once a Youth of the Month program has been successfully implemented\, the groundwork for conducting an annual Youth of the Year competition is already in place. Selection of the Youth of the Year is simply made from the club’s Youth of the Month recipients for that school year. The club’s Youth of the Year advances to district competition\, and ultimately\, an opportunity to vie for the prestigious National Youth of the Year Award. Specially designed plaques and certificates\, along with a detailed Youth of the Month/Year information guide and application\, can be obtained from National Headquarters.
URL:https://springfieldexchangeclub.org/event/exchange-welcomes-youths-of-the-months/
CATEGORIES:Meetings
END:VEVENT
BEGIN:VEVENT
DTSTART;TZID=UTC:20190122T120000
DTEND;TZID=UTC:20190122T130000
DTSTAMP:20260424T110231
CREATED:20181117T153259Z
LAST-MODIFIED:20181117T153259Z
UID:1670-1548158400-1548162000@springfieldexchangeclub.org
SUMMARY:Exchange Welcomes Youths of the Month
DESCRIPTION:The Exchange Club of Springfield will meet Tuesday January 22\, 2019\, Noon\, in the Alumni Room of the Wittenberg Student Center.  Our guest speakers will be area high school Students of the Month competing for our Youth of the Year Award. \nOne of the most popular Exchange youth projects\, the Youth of the Month/Year Award recognizes hard-working high school students who attain high levels of scholastic achievement\, community involvement and leadership. This proven program not only rewards outstanding young people\, but also provides an incentive for other youngsters to strive for equally high levels of achievement. Once a Youth of the Month program has been successfully implemented\, the groundwork for conducting an annual Youth of the Year competition is already in place. Selection of the Youth of the Year is simply made from the club’s Youth of the Month recipients for that school year. The club’s Youth of the Year advances to district competition\, and ultimately\, an opportunity to vie for the prestigious National Youth of the Year Award. Specially designed plaques and certificates\, along with a detailed Youth of the Month/Year information guide and application\, can be obtained from National Headquarters.
URL:https://springfieldexchangeclub.org/event/exchange-welcomes-youths-of-the-month/
CATEGORIES:Meetings
END:VEVENT
BEGIN:VEVENT
DTSTART;TZID=UTC:20190115T120000
DTEND;TZID=UTC:20190115T130000
DTSTAMP:20260424T110231
CREATED:20181117T153047Z
LAST-MODIFIED:20181117T153047Z
UID:1668-1547553600-1547557200@springfieldexchangeclub.org
SUMMARY:Exchange Welcomes Students of The Month - Youth Project
DESCRIPTION:The Exchange Club of Springfield will meet Tuesday January 15\, 2019 in the Alumni Room of the Wittenberg Student Center.  Our guest speakers will be area high school Students of the Month competing for our Youth of the Year Award. \nOne of the most popular Exchange youth projects\, the Youth of the Month/Year Award recognizes hard-working high school students who attain high levels of scholastic achievement\, community involvement and leadership. This proven program not only rewards outstanding young people\, but also provides an incentive for other youngsters to strive for equally high levels of achievement. Once a Youth of the Month program has been successfully implemented\, the groundwork for conducting an annual Youth of the Year competition is already in place. Selection of the Youth of the Year is simply made from the club’s Youth of the Month recipients for that school year. The club’s Youth of the Year advances to district competition\, and ultimately\, an opportunity to vie for the prestigious National Youth of the Year Award. Specially designed plaques and certificates\, along with a detailed Youth of the Month/Year information guide and application\, can be obtained from National Headquarters.
URL:https://springfieldexchangeclub.org/event/exchange-welcomes-students-of-the-month-youth-project/
CATEGORIES:Meetings
END:VEVENT
BEGIN:VEVENT
DTSTART;TZID=UTC:20190108T120000
DTEND;TZID=UTC:20190108T130000
DTSTAMP:20260424T110231
CREATED:20181117T152105Z
LAST-MODIFIED:20190101T055628Z
UID:1666-1546948800-1546952400@springfieldexchangeclub.org
SUMMARY:Membership Meeting
DESCRIPTION:The Exchange Club of Springfield will meet Tuesday January 8\, 2019 in the Alumni Room of the Wittenberg Student Center.  Our guest speaker will be Carlisa Parker\, Director of the CC Child Advocacy Center.
URL:https://springfieldexchangeclub.org/event/membership-meeting-24/
CATEGORIES:Meetings
END:VEVENT
BEGIN:VEVENT
DTSTART;TZID=UTC:20190101T120000
DTEND;TZID=UTC:20190101T130000
DTSTAMP:20260424T110231
CREATED:20181117T151838Z
LAST-MODIFIED:20181117T151838Z
UID:1664-1546344000-1546347600@springfieldexchangeclub.org
SUMMARY:Happy New Year from the Springfield Exchange Club
DESCRIPTION:Happy New Year – The club will not meet Tuesday January 1\, 2019 due to the holiday.  Hope you have a happy and prosperous New Year!  See you next Tuesday!
URL:https://springfieldexchangeclub.org/event/happy-new-year-from-the-springfield-exchange-club/
CATEGORIES:Meetings
END:VEVENT
BEGIN:VEVENT
DTSTART;TZID=UTC:20181218T120000
DTEND;TZID=UTC:20181218T130000
DTSTAMP:20260424T110231
CREATED:20181017T151406Z
LAST-MODIFIED:20181017T151406Z
UID:1636-1545134400-1545138000@springfieldexchangeclub.org
SUMMARY:Springfield Membership Meeting
DESCRIPTION:We will meet at Wittenberg’s Student Center\, Tuesday December 18th \, 2018 at Noon.  Guest speaker TBD.
URL:https://springfieldexchangeclub.org/event/springfield-membership-meeting-18/
LOCATION:Wittenberg Student Center\, 734 Woodlawn\, Springfield\, 45504\, United States
CATEGORIES:Meetings
END:VEVENT
BEGIN:VEVENT
DTSTART;TZID=UTC:20181204T120000
DTEND;TZID=UTC:20181204T130000
DTSTAMP:20260424T110231
CREATED:20181017T150734Z
LAST-MODIFIED:20181031T170952Z
UID:1632-1543924800-1543928400@springfieldexchangeclub.org
SUMMARY:Springfield Membership Meeting
DESCRIPTION:We will meet at Wittenberg’s Student Center Tuesday December 4th \, 2018 at Noon.  Our guests will be from the local National Guard Units as we implement our Adopt-A-Military Family Project.  Four families with financial needs will be selected to each receive $500 to assist them during the Holiday Season.
URL:https://springfieldexchangeclub.org/event/springfield-membership-meeting-17/
LOCATION:Wittenberg Student Center\, 734 Woodlawn\, Springfield\, 45504\, United States
CATEGORIES:Meetings
END:VEVENT
BEGIN:VEVENT
DTSTART;TZID=UTC:20181127T120000
DTEND;TZID=UTC:20181127T130000
DTSTAMP:20260424T110231
CREATED:20181017T144527Z
LAST-MODIFIED:20181031T171238Z
UID:1629-1543320000-1543323600@springfieldexchangeclub.org
SUMMARY:Springfield Membership Meeting
DESCRIPTION:The Exchange Club of Springfield will meet Tuesday November  27\, 2018 in the Alumni Room of the Wittenberg Student Center at its regularly scheduled Noon meeting.  Our guest speakers will be Joe Hunter\, Director of Juvenile Facility\, and Jeff Hawes from Project Jericho.
URL:https://springfieldexchangeclub.org/event/springfield-membership-meeting-16/
LOCATION:Wittenberg Student Center\, 734 Woodlawn\, Springfield\, 45504\, United States
CATEGORIES:Meetings
END:VEVENT
BEGIN:VEVENT
DTSTART;TZID=UTC:20181120T120000
DTEND;TZID=UTC:20181120T130000
DTSTAMP:20260424T110231
CREATED:20181017T144217Z
LAST-MODIFIED:20181031T171443Z
UID:1627-1542715200-1542718800@springfieldexchangeclub.org
SUMMARY:No Membership Meeting Today
DESCRIPTION:The Exchange Club of Springfield will not meet Tuesday November  20\, 2018 due to the Thanksgiving Holiday.
URL:https://springfieldexchangeclub.org/event/springfield-membership-meeting-15/
LOCATION:Wittenberg Student Center\, 734 Woodlawn\, Springfield\, 45504\, United States
CATEGORIES:Meetings
END:VEVENT
BEGIN:VEVENT
DTSTART;TZID=UTC:20181106T120000
DTEND;TZID=UTC:20181106T130000
DTSTAMP:20260424T110231
CREATED:20181017T142816Z
LAST-MODIFIED:20181023T144129Z
UID:1623-1541505600-1541509200@springfieldexchangeclub.org
SUMMARY:Springfield Membership Meeting
DESCRIPTION:The Exchange Club of Springfield will meet Tuesday November 6\, 2018 in the Alumni Room of the Wittenberg Student Center at its regularly scheduled Noon meeting.  Our guest speaker will be Richelle Shepard from WellSpring..
URL:https://springfieldexchangeclub.org/event/springfield-membership-meeting-13/
LOCATION:Wittenberg Student Center\, 734 Woodlawn\, Springfield\, 45504\, United States
CATEGORIES:Meetings
END:VEVENT
BEGIN:VEVENT
DTSTART;TZID=UTC:20181030T120000
DTEND;TZID=UTC:20181030T130000
DTSTAMP:20260424T110231
CREATED:20180824T173606Z
LAST-MODIFIED:20181007T203138Z
UID:1583-1540900800-1540904400@springfieldexchangeclub.org
SUMMARY:Springfield Membership Meeting
DESCRIPTION:The Exchange Club of Springfield will meet Tuesday October 30th\, 2018 in the Alumni Room of the Wittenberg Student Center at its regularly scheduled Noon meeting.  Our guest speaker Laura Baxter Executive Director of Project Woman.
URL:https://springfieldexchangeclub.org/event/springfield-membership-meeting-11/
LOCATION:Wittenberg Student Center\, 734 Woodlawn\, Springfield\, 45504\, United States
CATEGORIES:Meetings
END:VEVENT
BEGIN:VEVENT
DTSTART;TZID=UTC:20181023T120000
DTEND;TZID=UTC:20181023T130000
DTSTAMP:20260424T110231
CREATED:20180824T174223Z
LAST-MODIFIED:20181007T203031Z
UID:1586-1540296000-1540299600@springfieldexchangeclub.org
SUMMARY:Springfield Membership Meeting
DESCRIPTION:The Exchange Club of Springfield will meet Tuesday October  23rd\, 2018 in the Alumni Room of the Wittenberg Student Center at its regularly scheduled Noon meeting.  Our guest speaker will be Sgt. Tom Selnar from the Springfield Police Department.
URL:https://springfieldexchangeclub.org/event/springfield-memberhsip-meeting/
LOCATION:Wittenberg Student Center\, 734 Woodlawn\, Springfield\, 45504\, United States
CATEGORIES:Meetings
END:VEVENT
BEGIN:VEVENT
DTSTART;TZID=UTC:20181016T120000
DTEND;TZID=UTC:20181016T130000
DTSTAMP:20260424T110231
CREATED:20180824T172551Z
LAST-MODIFIED:20181007T202911Z
UID:1576-1539691200-1539694800@springfieldexchangeclub.org
SUMMARY:Springfield Membership Meeting
DESCRIPTION:The Exchange Club of Springfield will meet Tuesday October 16th\, 2018 in the Alumni Room of the Wittenberg Student Center at its regularly scheduled Noon meeting at.  Our guest speaker will be fellow Exchangite Sheriff Deb Burchett.
URL:https://springfieldexchangeclub.org/event/springfield-membership-meeting-8/
LOCATION:Wittenberg Student Center\, 734 Woodlawn\, Springfield\, 45504\, United States
CATEGORIES:Meetings
END:VEVENT
BEGIN:VEVENT
DTSTART;TZID=UTC:20181002T120000
DTEND;TZID=UTC:20181002T130000
DTSTAMP:20260424T110231
CREATED:20180824T164158Z
LAST-MODIFIED:20180824T173732Z
UID:1569-1538481600-1538485200@springfieldexchangeclub.org
SUMMARY:Exchange Membership Meeting
DESCRIPTION:The Exchange Club of Springfield will meet Tuesday  October 2nd\, 2018 in the Alumni Room of the Wittenberg Student Center at its regularly scheduled Noon meeting. Our guest speaker will be Andrew Tinkham from the Ohio Consumer’s Council.
URL:https://springfieldexchangeclub.org/event/1569/
LOCATION:Wittenberg Student Center\, 734 Woodlawn\, Springfield\, 45504\, United States
CATEGORIES:Meetings
END:VEVENT
BEGIN:VEVENT
DTSTART;TZID=UTC:20180925T120000
DTEND;TZID=UTC:20180925T130000
DTSTAMP:20260424T110231
CREATED:20180824T164008Z
LAST-MODIFIED:20180905T151010Z
UID:1566-1537876800-1537880400@springfieldexchangeclub.org
SUMMARY:Exchange Membership Meeting
DESCRIPTION:The Exchange Club of Springfield will meet Tuesday September 25th\, 2018 in the Alumni Room of the Wittenberg Student Center at its regularly scheduled Noon meeting.  Our guest speaker will be Deb McCullough from On-The-Rise.
URL:https://springfieldexchangeclub.org/event/exchange-membship-meeting/
CATEGORIES:Meetings
END:VEVENT
BEGIN:VEVENT
DTSTART;TZID=UTC:20180918T120000
DTEND;TZID=UTC:20180918T130000
DTSTAMP:20260424T110231
CREATED:20180824T163825Z
LAST-MODIFIED:20180905T150856Z
UID:1564-1537272000-1537275600@springfieldexchangeclub.org
SUMMARY:Exchange Membership Meeting
DESCRIPTION:The Exchange Club of Springfield will meet Tuesday  September 18th\, 2018 in the Alumni Room of the Wittenberg Student Center at its regularly scheduled Noon meeting.  Our guest speaker will be Laura Baxter from Project Woman.
URL:https://springfieldexchangeclub.org/event/exchange-membership-meeting/
LOCATION:Wittenberg Student Center\, 734 Woodlawn\, Springfield\, 45504\, United States
CATEGORIES:Meetings
END:VEVENT
BEGIN:VEVENT
DTSTART;TZID=UTC:20180904T120000
DTEND;TZID=UTC:20180904T130000
DTSTAMP:20260424T110231
CREATED:20180824T163138Z
LAST-MODIFIED:20180824T163138Z
UID:1559-1536062400-1536066000@springfieldexchangeclub.org
SUMMARY:No Meeting Due to the Labor Day Holiday
DESCRIPTION:There will be no meeting of the Exchange Club of Springfield\, Ohio due to the Labor Day Holiday.
URL:https://springfieldexchangeclub.org/event/no-meeting-due-to-the-labor-day-holiday/
CATEGORIES:Meetings
END:VEVENT
BEGIN:VEVENT
DTSTART;TZID=UTC:20180828T120000
DTEND;TZID=UTC:20180828T130000
DTSTAMP:20260424T110231
CREATED:20180731T214926Z
LAST-MODIFIED:20180824T162949Z
UID:1530-1535457600-1535461200@springfieldexchangeclub.org
SUMMARY:Health Commissioner Visits Exchange
DESCRIPTION:The Exchange Club of Springfield will meet Tuesday August 28\, 2018\, Noon\, at Wittenberg’s Student Center Alumni Room. Our guest speaker will be Health Commission Charles Patterson addressing the issue of the addition of sodium fluoride to Springfield’s water supply.
URL:https://springfieldexchangeclub.org/event/noon-membership-meeting/
LOCATION:Shouvlin Center\, 737 N. Fountain Avenue\, Springfield\, OH\, 45502\, United States
CATEGORIES:Meetings
END:VEVENT
BEGIN:VEVENT
DTSTART;TZID=UTC:20180821T120000
DTEND;TZID=UTC:20180821T130000
DTSTAMP:20260424T110231
CREATED:20180731T214749Z
LAST-MODIFIED:20180731T214749Z
UID:1528-1534852800-1534856400@springfieldexchangeclub.org
SUMMARY:CASA Visits Exchange
DESCRIPTION:The Exchange Club of Springfield will meet Tuesday August 21\, 2018 \,Noon\, at Wittenberg’s Shouvlin Center Room 207. Our guest speaker will be Regina Burk\, CASA’s Executive Director. \nThe mission of the CASA Program is to advocate for abused and neglected children who have cases pending in the juvenile court system. CASAs provide representation to abused\, neglected and dependent children in the juvenile court by speaking to the best interests of the children and providing information to the Court so that it may make better informed decisions on behalf of the children \nCASA Volunteers are trained to investigate research\, report\, and monitor a child’s case as it moves through the juvenile court. \n\n  \n 
URL:https://springfieldexchangeclub.org/event/casa-visits-exchange/
LOCATION:Shouvlin Center\, 737 N. Fountain Avenue\, Springfield\, OH\, 45502\, United States
CATEGORIES:Meetings
END:VEVENT
BEGIN:VEVENT
DTSTART;TZID=UTC:20180807T120000
DTEND;TZID=UTC:20180807T130000
DTSTAMP:20260424T110231
CREATED:20180731T213415Z
LAST-MODIFIED:20180731T213415Z
UID:1526-1533643200-1533646800@springfieldexchangeclub.org
SUMMARY:Clark County Fuller Center for Housing visits Exchange
DESCRIPTION:We will meet at Wittenberg’s Shouvlin Center\, Room 207\, Noon\, Tuesday August 7\, 2018.  Our guest speaker will be Kermit Rowe\, Executive Director of the Clark county Fuller Center for Housing. \nThe Clark County Fuller Center for Housing’s mission is to make homeowners out of hard-working\, low-income families\, many of which have probably already given up on the American Dream of home ownership. They are currently seeking a deserving family for a home in the St. Bernard Catholic Church area. If you know of someone who longs to own their own home but has never gotten their big break\, have them call  (937) 325-2514 for more information.\n\n\n\nAt the Clark County Fuller Center for Housing (CCFCH)\, we build or remodel simple\, decent\, energy efficient homes in partnership with families who meet three basic criteria: \n1. Need: Currently live in substandard housing; this could be anything from a leaky roof to overcrowded conditions\, \n2. Ability to Pay: Total household income falls between 30%-80% of HUD’s Median Income for Clark County\, OH\, and \n3. Willingness to Partner: Each adult in the family must work 250 hours on Fuller Center projects. In most cases\, upon completion\, each house is purchased by the partner family from CCFCH with a no-interest mortgage loan.
URL:https://springfieldexchangeclub.org/event/clark-county-fuller-center-for-housing-visits-exchange/
LOCATION:Shouvlin Center\, 737 N. Fountain Avenue\, Springfield\, OH\, 45502\, United States
CATEGORIES:Meetings
END:VEVENT
BEGIN:VEVENT
DTSTART;TZID=UTC:20180731T120000
DTEND;TZID=UTC:20180731T130000
DTSTAMP:20260424T110231
CREATED:20180717T230505Z
LAST-MODIFIED:20180717T230935Z
UID:1520-1533038400-1533042000@springfieldexchangeclub.org
SUMMARY:Honor Flight Visits Exchange
DESCRIPTION:Janet Wells from Honor Flight will be the guest speaker at the Exchange Club of Springfield’s Noon meeting at the Shouvlin Center on the Campus of Wittenberg University.
URL:https://springfieldexchangeclub.org/event/honor-flight-visits-exchange/
LOCATION:Shouvlin Center\, 737 N. Fountain Avenue\, Springfield\, OH\, 45502\, United States
CATEGORIES:Meetings
END:VEVENT
BEGIN:VEVENT
DTSTART;TZID=UTC:20180724T120000
DTEND;TZID=UTC:20180724T130000
DTSTAMP:20260424T110231
CREATED:20180615T121347Z
LAST-MODIFIED:20180615T121402Z
UID:1479-1532433600-1532437200@springfieldexchangeclub.org
SUMMARY:No Membership Meeting Today - Kid's Day at the Clark County Fair Tomorrow
DESCRIPTION:We will not meet today as the Exchange Club of Springfield will meet tomorrow and provide a Sunshine Special Project\, our 50th Annual Kid’s Day at the Fair Games!
URL:https://springfieldexchangeclub.org/event/no-membership-meeting-today-kids-day-at-the-clark-county-fair/
CATEGORIES:Meetings
END:VEVENT
BEGIN:VEVENT
DTSTART;TZID=UTC:20180717T120000
DTEND;TZID=UTC:20180717T130000
DTSTAMP:20260424T110231
CREATED:20180615T120908Z
LAST-MODIFIED:20180615T120908Z
UID:1475-1531828800-1531832400@springfieldexchangeclub.org
SUMMARY:Membership Meeting
DESCRIPTION:The Exchange Club of Springfield will meet at Noon for its regularly scheduled meeting.
URL:https://springfieldexchangeclub.org/event/membership-meeting-23/
LOCATION:Wittenberg Student Center\, 734 Woodlawn\, Springfield\, 45504\, United States
CATEGORIES:Meetings
END:VEVENT
BEGIN:VEVENT
DTSTART;TZID=UTC:20180703T120000
DTEND;TZID=UTC:20180703T130000
DTSTAMP:20260424T110231
CREATED:20180615T120541Z
LAST-MODIFIED:20180615T121440Z
UID:1471-1530619200-1530622800@springfieldexchangeclub.org
SUMMARY:Happy Independence Day - No Meeting
DESCRIPTION:The Exchange Club of Springfield will not meet this week\, due to the Independence Day Holiday!
URL:https://springfieldexchangeclub.org/event/happy-independence-day-no-meeting/
CATEGORIES:Meetings
END:VEVENT
BEGIN:VEVENT
DTSTART;TZID=UTC:20180619T120000
DTEND;TZID=UTC:20180619T130000
DTSTAMP:20260424T110231
CREATED:20180518T181020Z
LAST-MODIFIED:20180518T181020Z
UID:1446-1529409600-1529413200@springfieldexchangeclub.org
SUMMARY:Pregnancy Resource Clinic Visits Exchange
DESCRIPTION:We will meet Tuesday June 19\, 2018 at the Shouvlin Center on the campus of Wittenberg University at Noon.  Our guest speaker will be Ellen Dudney\, Executive Director of the Pregnancy Resource Clinic.
URL:https://springfieldexchangeclub.org/event/pregnancy-resource-clinic-visits-exchange/
LOCATION:Shouvlin Center\, 737 N. Fountain Avenue\, Springfield\, OH\, 45502\, United States
CATEGORIES:Meetings
END:VEVENT
BEGIN:VEVENT
DTSTART;TZID=UTC:20180605T120000
DTEND;TZID=UTC:20180605T130000
DTSTAMP:20260424T110231
CREATED:20180518T180625Z
LAST-MODIFIED:20180518T180625Z
UID:1444-1528200000-1528203600@springfieldexchangeclub.org
SUMMARY:National Trails Parks and Recreation visits Exchange
DESCRIPTION:We will meet Tuesday June 5\, 2018 at the Shouvlin Center on the campus of Wittenberg University at Noon.  Our guest speaker will be Leann Castillo from National Trails Parks and Recreation.
URL:https://springfieldexchangeclub.org/event/national-trails-parks-and-recreation-visits-exchange/
LOCATION:Shouvlin Center\, 737 N. Fountain Avenue\, Springfield\, OH\, 45502\, United States
CATEGORIES:Meetings
END:VEVENT
BEGIN:VEVENT
DTSTART;TZID=UTC:20180529T120000
DTEND;TZID=UTC:20180529T130000
DTSTAMP:20260424T110231
CREATED:20180411T150425Z
LAST-MODIFIED:20180411T150425Z
UID:1387-1527595200-1527598800@springfieldexchangeclub.org
SUMMARY:No Meeting Today
DESCRIPTION:The Exchange Club of Springfield will not meet today. We are resting up from the Memorial Day Parade where we distributed 8.500 US flags to children along the parade rout.
URL:https://springfieldexchangeclub.org/event/no-meeting-today-2/
CATEGORIES:Meetings
END:VEVENT
END:VCALENDAR