BEGIN:VCALENDAR
VERSION:2.0
PRODID:-//Springfield Exchange Club - ECPv6.15.18//NONSGML v1.0//EN
CALSCALE:GREGORIAN
METHOD:PUBLISH
X-ORIGINAL-URL:https://springfieldexchangeclub.org
X-WR-CALDESC:Events for Springfield Exchange Club
REFRESH-INTERVAL;VALUE=DURATION:PT1H
X-Robots-Tag:noindex
X-PUBLISHED-TTL:PT1H
BEGIN:VTIMEZONE
TZID:UTC
BEGIN:STANDARD
TZOFFSETFROM:+0000
TZOFFSETTO:+0000
TZNAME:UTC
DTSTART:20160101T000000
END:STANDARD
END:VTIMEZONE
BEGIN:VEVENT
DTSTART;TZID=UTC:20180130T120000
DTEND;TZID=UTC:20180130T130000
DTSTAMP:20260424T172538
CREATED:20171115T154254Z
LAST-MODIFIED:20171115T154254Z
UID:1239-1517313600-1517317200@springfieldexchangeclub.org
SUMMARY:Exchange Club Welcomes Students of the Month
DESCRIPTION:The Exchange Club of Springfield will meet Tuesday January 30\, 2018 at the Wittenberg University Student Center\, Noon\, for its regularly scheduled lunch meeting. Our guests will be Students of the Month.
URL:https://springfieldexchangeclub.org/event/exchange-club-welcomes-students-of-the-month/
LOCATION:Wittenberg Student Center\, 734 Woodlawn\, Springfield\, 45504\, United States
CATEGORIES:Meetings
END:VEVENT
BEGIN:VEVENT
DTSTART;TZID=UTC:20180123T120000
DTEND;TZID=UTC:20180123T130000
DTSTAMP:20260424T172538
CREATED:20171115T154103Z
LAST-MODIFIED:20171115T154103Z
UID:1237-1516708800-1516712400@springfieldexchangeclub.org
SUMMARY:Exchange Welcomes Students of the Month
DESCRIPTION:The Exchange Club of Springfield will meet Tuesday January 23\, 2018 at the Wittenberg University Student Center\, Noon\, for its regularly scheduled lunch meeting.  Our guests will be Students of the Month.
URL:https://springfieldexchangeclub.org/event/exchange-welcomes-students-of-the-month/
LOCATION:Wittenberg Student Center\, 734 Woodlawn\, Springfield\, 45504\, United States
CATEGORIES:Meetings
END:VEVENT
BEGIN:VEVENT
DTSTART;TZID=UTC:20180116T120000
DTEND;TZID=UTC:20180116T130000
DTSTAMP:20260424T172538
CREATED:20171115T153814Z
LAST-MODIFIED:20171115T153814Z
UID:1235-1516104000-1516107600@springfieldexchangeclub.org
SUMMARY:Exchange Welcomes Clark County High School Youths of the Month
DESCRIPTION:The Exchange Club of Springfield will meet Tuesday January 16\, 2018 at the Wittenberg University Student Center\, Noon\, for its regularly scheduled lunch meeting.  Our guests will be Students of the Month.
URL:https://springfieldexchangeclub.org/event/exchange-welcomes-clark-county-high-school-youths-of-the-month/
LOCATION:Wittenberg Student Center\, 734 Woodlawn\, Springfield\, 45504\, United States
CATEGORIES:Meetings
END:VEVENT
BEGIN:VEVENT
DTSTART;TZID=UTC:20180102T120000
DTEND;TZID=UTC:20180102T130000
DTSTAMP:20260424T172538
CREATED:20171113T162641Z
LAST-MODIFIED:20171113T162641Z
UID:1230-1514894400-1514898000@springfieldexchangeclub.org
SUMMARY:No Meeting This Week
DESCRIPTION:There will be no meeting this week due to the New Year’s Day Holiday.  See you next Tuesday evening!
URL:https://springfieldexchangeclub.org/event/no-meeting-this-week-3/
CATEGORIES:Meetings
END:VEVENT
BEGIN:VEVENT
DTSTART;TZID=UTC:20171226T120000
DTEND;TZID=UTC:20171226T130000
DTSTAMP:20260424T172538
CREATED:20171012T152940Z
LAST-MODIFIED:20171012T152940Z
UID:1198-1514289600-1514293200@springfieldexchangeclub.org
SUMMARY:No Meeting This Week
DESCRIPTION:There will be no regularly scheduled meeting this week due to the Christmas Holiday.
URL:https://springfieldexchangeclub.org/event/no-meeting-this-week-2/
LOCATION:Wittenberg Student Center\, 734 Woodlawn\, Springfield\, 45504\, United States
CATEGORIES:Meetings
END:VEVENT
BEGIN:VEVENT
DTSTART;TZID=UTC:20171219T120000
DTEND;TZID=UTC:20171219T130000
DTSTAMP:20260424T172538
CREATED:20171012T152425Z
LAST-MODIFIED:20171113T162304Z
UID:1196-1513684800-1513688400@springfieldexchangeclub.org
SUMMARY:Membership Meeting at the Public Safety Building
DESCRIPTION:The Exchange Club of Springfield will meet Tuesday December 19th\, 2017 at the Public Safety Building\, Raynor Room\, 120 N. Fountain Ave\, Springfield\, Ohio at Noon for its regularly scheduled membership meeting. We will have lunch and tour the facility.
URL:https://springfieldexchangeclub.org/event/membership-meeting-15/
LOCATION:Public Safety Building\, 130 N. Fountain Ave\, Springfield\, OH\, 45502\, United States
CATEGORIES:Meetings
END:VEVENT
BEGIN:VEVENT
DTSTART;TZID=UTC:20171205T120000
DTEND;TZID=UTC:20171205T130000
DTSTAMP:20260424T172538
CREATED:20171012T151134Z
LAST-MODIFIED:20171012T151209Z
UID:1187-1512475200-1512478800@springfieldexchangeclub.org
SUMMARY:Membership Meeting - Adopt-a-Military Family Project
DESCRIPTION:The Exchange Club of Springfield will meet Tuesday December 5th\, 2017 at the Student Center of Wittenberg University at noon for its regularly scheduled membership meeting.  On this day we honor the local Guardsmen through our Adopt a Military Family Program.
URL:https://springfieldexchangeclub.org/event/membership-meeting-13/
LOCATION:Wittenberg Student Center\, 734 Woodlawn\, Springfield\, 45504\, United States
CATEGORIES:Meetings
END:VEVENT
BEGIN:VEVENT
DTSTART;TZID=UTC:20171128T120000
DTEND;TZID=UTC:20171128T130000
DTSTAMP:20260424T172538
CREATED:20171012T152120Z
LAST-MODIFIED:20171115T153241Z
UID:1193-1511870400-1511874000@springfieldexchangeclub.org
SUMMARY:Exchange Welcomes Faith McDonald
DESCRIPTION:The Exchange Club of Springfield will meet Tuesday November 28th\, 2017 at the Student Center of Wittenberg University at Noon for its regularly scheduled membership meeting.  Our guest speaker will be Faith McDonald\, Foster Care & Adoption Supervisor\, Clark County Ohio Department of Jobs & Family Services.
URL:https://springfieldexchangeclub.org/event/membership-meeting-14/
LOCATION:Wittenberg Student Center\, 734 Woodlawn\, Springfield\, 45504\, United States
CATEGORIES:Meetings
END:VEVENT
BEGIN:VEVENT
DTSTART;TZID=UTC:20171121T120000
DTEND;TZID=UTC:20171121T130000
DTSTAMP:20260424T172538
CREATED:20170828T174517Z
LAST-MODIFIED:20171113T161414Z
UID:1133-1511265600-1511269200@springfieldexchangeclub.org
SUMMARY:Membership Meeting at Wendy's - Guest Speaker - Richele Shepard
DESCRIPTION:The Exchange Club of Springfield will meet Tuesday November 21\, 2017 at Wendy’s 2214 N. Limestone Street Springfield\, Ohio\, at Noon.  Our guest speaker will be Richele Shepard\, Executive Director from WellSpring.
URL:https://springfieldexchangeclub.org/event/membership-meeting-12/
LOCATION:Wendy’s Restaraunt North Limestone Street\, 2214 North Limestone St\, Springfield\, OH\, 45504\, United States
CATEGORIES:Meetings
END:VEVENT
BEGIN:VEVENT
DTSTART;TZID=UTC:20171107T120000
DTEND;TZID=UTC:20171107T130000
DTSTAMP:20260424T172538
CREATED:20171012T150744Z
LAST-MODIFIED:20171030T172802Z
UID:1185-1510056000-1510059600@springfieldexchangeclub.org
SUMMARY:Membership Meeting at Springfield Museum of Art
DESCRIPTION:The Exchange Club of Springfield will meet Tuesday November 7th\, 2017 at the Springfield Museum  of Art at noon for its regularly scheduled membership meeting. We will have box lunch and be given a tour of the new exhibits.
URL:https://springfieldexchangeclub.org/event/membership-meeting-10/
LOCATION:Springfield Museum of Art\, 107 Cliff Park Road\, Springfield\, OH\, 45504\, United States
CATEGORIES:Meetings
END:VEVENT
BEGIN:VEVENT
DTSTART;TZID=UTC:20171031T120000
DTEND;TZID=UTC:20171031T130000
DTSTAMP:20260424T172538
CREATED:20171012T144813Z
LAST-MODIFIED:20171017T215930Z
UID:1175-1509451200-1509454800@springfieldexchangeclub.org
SUMMARY:Member Meeting at the CC Juvenile Court with Hosts Jeff Hawes and Joe Hunter
DESCRIPTION:The Exchange Club of Springfield will meet Tuesday October 31st\, 2017 at the Clark County Juvenile Detention Center at noon for its regularly scheduled membership meeting.  Our Hosts will be Jeff Hawes and Joe Hunter from Project Jericho\,
URL:https://springfieldexchangeclub.org/event/member-meeting-with-guest-speakers-jeff-hawes-and-joe-hunter/
LOCATION:Clark County Juvenile Detention Center\, 101 East Columbia Street\, Springfield\, OH\, 45502\, United States
CATEGORIES:Meetings
END:VEVENT
BEGIN:VEVENT
DTSTART;TZID=UTC:20171024T120000
DTEND;TZID=UTC:20171024T130000
DTSTAMP:20260424T172538
CREATED:20171012T144406Z
LAST-MODIFIED:20171012T145223Z
UID:1173-1508846400-1508850000@springfieldexchangeclub.org
SUMMARY:Noon Membership Meeting - Guest Speaker Carlisa Parker
DESCRIPTION:The Exchange Club of Springfield will meet Tuesday October 17th\, 2017 at the Student Center of Wittenberg University at noon for its regularly scheduled membership meeting.  Our guest speaker will be Carlisa Parker\, recently named Director of the Clark County Child Advocacy Center. \n 
URL:https://springfieldexchangeclub.org/event/noon-membership-meeting-guest-speaker-carlisa-parker/
LOCATION:Wittenberg Student Center\, 734 Woodlawn\, Springfield\, 45504\, United States
CATEGORIES:Meetings
END:VEVENT
BEGIN:VEVENT
DTSTART;TZID=UTC:20171017T120000
DTEND;TZID=UTC:20171017T130000
DTSTAMP:20260424T172538
CREATED:20170929T133609Z
LAST-MODIFIED:20171012T150555Z
UID:1167-1508241600-1508245200@springfieldexchangeclub.org
SUMMARY:Springfield Membership Meeting with guest speaker Tom Selner Spfld Police Division
DESCRIPTION:We will meet Tuesday October 17\, 2017 at the Wittenberg Student Center\, for our regularly scheduled Noon lunch meeting.  Our guest speaker will be Tom Selner from the Springfield Police Division.
URL:https://springfieldexchangeclub.org/event/springfield-membership-meeting-6/
CATEGORIES:Meetings
END:VEVENT
BEGIN:VEVENT
DTSTART;TZID=UTC:20171003T120000
DTEND;TZID=UTC:20171003T130000
DTSTAMP:20260424T172538
CREATED:20170828T171525Z
LAST-MODIFIED:20170918T183618Z
UID:1116-1507032000-1507035600@springfieldexchangeclub.org
SUMMARY:Membership Meeting
DESCRIPTION:The Exchange Club of Springfield will meet Tuesday October 3\, 2017 at the Benham-Pence Student Center on the campus of Wittenberg University at Noon.  Our guest speaker will be Deb McCullough\, Director of On-The-Rise.
URL:https://springfieldexchangeclub.org/event/1116/
LOCATION:Wittenberg Student Center\, 734 Woodlawn\, Springfield\, 45504\, United States
CATEGORIES:Meetings
END:VEVENT
BEGIN:VEVENT
DTSTART;TZID=UTC:20170926T120000
DTEND;TZID=UTC:20170926T130000
DTSTAMP:20260424T172538
CREATED:20170828T171250Z
LAST-MODIFIED:20170918T183515Z
UID:1114-1506427200-1506430800@springfieldexchangeclub.org
SUMMARY:Membership Meeting
DESCRIPTION:The Exchange Club of Springfield will meet Tuesday September 26\, 2017 at the Benham-Pence Student Center on the campus of Wittenberg University at Noon. Our guest speaker will be Ellen Dudney\, Director of the Pregnancy Resource Clinic. \n  \n 
URL:https://springfieldexchangeclub.org/event/membership-meeting-8/
LOCATION:Wittenberg Student Center\, 734 Woodlawn\, Springfield\, 45504\, United States
CATEGORIES:Meetings
END:VEVENT
BEGIN:VEVENT
DTSTART;TZID=UTC:20170919T120000
DTEND;TZID=UTC:20170919T130000
DTSTAMP:20260424T172538
CREATED:20170828T171127Z
LAST-MODIFIED:20170912T211614Z
UID:1112-1505822400-1505826000@springfieldexchangeclub.org
SUMMARY:Membership Meeting
DESCRIPTION:The Exchange Club of Springfield will meet Tuesday September 19\, 2017 at the Benham-Pence Student Center on the campus of Wittenberg University at Noon.  Our guest speaker will be LeAnn Castillo\, Director from the National Trail Parks and Recreation.
URL:https://springfieldexchangeclub.org/event/membership-meeting-4/
LOCATION:Wittenberg Student Center\, 734 Woodlawn\, Springfield\, 45504\, United States
CATEGORIES:Meetings
END:VEVENT
BEGIN:VEVENT
DTSTART;TZID=UTC:20170905T120000
DTEND;TZID=UTC:20170905T130000
DTSTAMP:20260424T172538
CREATED:20170802T152227Z
LAST-MODIFIED:20170802T152227Z
UID:1077-1504612800-1504616400@springfieldexchangeclub.org
SUMMARY:Exchange Club of Springfield will NOT MEET due to the Labor Day Holiday
DESCRIPTION:The Exchange Club of Springfield will not meet Tuesday 5 September\, 2017 due to the Labor Day Holiday.  Enjoy the weekend and see you next week at our regularly scheduled evening meeting.
URL:https://springfieldexchangeclub.org/event/exchange-club-of-springfield-will-not-meet-due-to-the-labor-day-holiday/
LOCATION:Wittenberg Student Center\, 734 Woodlawn\, Springfield\, 45504\, United States
CATEGORIES:Meetings
END:VEVENT
BEGIN:VEVENT
DTSTART;TZID=UTC:20170829T120000
DTEND;TZID=UTC:20170829T130000
DTSTAMP:20260424T172538
CREATED:20170620T134343Z
LAST-MODIFIED:20170802T153106Z
UID:1026-1504008000-1504011600@springfieldexchangeclub.org
SUMMARY:The Exchange Club of Springfield will meet at the Benham-Pence Student Center
DESCRIPTION:The Exchange Club of Springfield will meet at the Benham-Pence Student Center on the campus of Wittenberg University for their regularly scheduled Noon meeting on Tuesday August 29th\, 2017.  Guest speaker be Regina Burk\, Executive Director of CASA.
URL:https://springfieldexchangeclub.org/event/noon-meeting-2/
LOCATION:Wittenberg Student Center\, 734 Woodlawn\, Springfield\, 45504\, United States
CATEGORIES:Meetings
END:VEVENT
BEGIN:VEVENT
DTSTART;TZID=UTC:20170822T120000
DTEND;TZID=UTC:20170822T130000
DTSTAMP:20260424T172538
CREATED:20170620T134154Z
LAST-MODIFIED:20170802T152954Z
UID:1024-1503403200-1503406800@springfieldexchangeclub.org
SUMMARY:The Exchange Club of Springfield will meet at the Benham-Pence Student Center
DESCRIPTION:The Exchange Club of Springfield will meet at the Benham-Pence Student Center on the campus of Wittenberg University for their regularly scheduled Noon meeting on Tuesday August 22nd\, 2017.  Guest speaker will be Sim Bowen from CR House.
URL:https://springfieldexchangeclub.org/event/noon-meeting/
LOCATION:Wittenberg Student Center\, 734 Woodlawn\, Springfield\, 45504\, United States
CATEGORIES:Meetings
END:VEVENT
BEGIN:VEVENT
DTSTART;TZID=UTC:20170815T000000
DTEND;TZID=UTC:20170815T130000
DTSTAMP:20260424T172538
CREATED:20170611T191016Z
LAST-MODIFIED:20170718T140208Z
UID:986-1502755200-1502802000@springfieldexchangeclub.org
SUMMARY:The Exchange Club of Springfield will meet at Noon
DESCRIPTION:The Exchange Club of Springfield\, Ohio will meet Tuesday August 15\, 2017 at the Benham-Pence Student Center on the campus of Wittenberg University.  Our guest speaker will be Shaun Lisle from the Clark County Sheriff’s Office DARE/Safety Village Project.
URL:https://springfieldexchangeclub.org/event/the-exchange-club-of-springfield-will-meet-at-noon/
LOCATION:Wittenberg Student Center\, 734 Woodlawn\, Springfield\, 45504\, United States
CATEGORIES:Meetings
END:VEVENT
BEGIN:VEVENT
DTSTART;TZID=UTC:20170801T120000
DTEND;TZID=UTC:20170801T130000
DTSTAMP:20260424T172538
CREATED:20170611T190347Z
LAST-MODIFIED:20170718T140111Z
UID:981-1501588800-1501592400@springfieldexchangeclub.org
SUMMARY:Exchange Club Meeting
DESCRIPTION:The Exchange Club of Springfield will meet at the Benham-Pence Student Center\, Noon\, Tuesday August 1\, 2017.  Our guest speaker will be Janet Wells from Honor Flight.
URL:https://springfieldexchangeclub.org/event/exchange-club-meeting-2/
LOCATION:Wittenberg Student Center\, 734 Woodlawn\, Springfield\, 45504\, United States
CATEGORIES:Meetings
END:VEVENT
BEGIN:VEVENT
DTSTART;TZID=UTC:20170725T000000
DTEND;TZID=UTC:20170725T130000
DTSTAMP:20260424T172538
CREATED:20170611T185637Z
LAST-MODIFIED:20170611T185726Z
UID:977-1500940800-1500987600@springfieldexchangeclub.org
SUMMARY:No Meeting Today Due to the Kid's Day at the Fair Program Tomorrow
DESCRIPTION:  \nThere will be No Meeting Today Due to the Kid’s Day at the Clark County Fair Project Tomorrow.  Please join us as we provide games for youths of all ages at the Clark County Fair Wednesday July 26\, 2017.
URL:https://springfieldexchangeclub.org/event/no-meeting-today-due-to-the-kids-day-at-the-fair-program-tomorrow/
CATEGORIES:Meetings
END:VEVENT
BEGIN:VEVENT
DTSTART;TZID=UTC:20170718T080000
DTEND;TZID=UTC:20170718T170000
DTSTAMP:20260424T172538
CREATED:20170611T185145Z
LAST-MODIFIED:20170718T140013Z
UID:974-1500364800-1500397200@springfieldexchangeclub.org
SUMMARY:Exchange Club Meeting
DESCRIPTION:The Exchange Club of Springfield will meet at Noon\, Wittenberg’s  Student Center Tuesday July 18\, 2017.  Our guest speakers will be Executive Director Don Warner and Pastor Bonny Kinnumen from Oesterlen Services for Youth.
URL:https://springfieldexchangeclub.org/event/exchange-club-meeting/
LOCATION:Wittenberg Student Center\, 734 Woodlawn\, Springfield\, 45504\, United States
CATEGORIES:Meetings
END:VEVENT
BEGIN:VEVENT
DTSTART;TZID=UTC:20170627T120000
DTEND;TZID=UTC:20170627T130000
DTSTAMP:20260424T172538
CREATED:20170611T183830Z
LAST-MODIFIED:20170611T183830Z
UID:968-1498564800-1498568400@springfieldexchangeclub.org
SUMMARY:Business Meeting
DESCRIPTION:The Exchange Club of Springfield will meet at Noon\, Tuesday June 27th\, 2017 at Wittenberg’s Student Union Alumni Room.  This will be a Business and Program Development Meeting for the upcoming 2017-18 Exchange Year.  Please make an extra effort to attend and help guide the course of the club for the next year.
URL:https://springfieldexchangeclub.org/event/business-meeting/
LOCATION:Wittenberg Student Center\, 734 Woodlawn\, Springfield\, 45504\, United States
CATEGORIES:Meetings
END:VEVENT
BEGIN:VEVENT
DTSTART;TZID=UTC:20170620T120000
DTEND;TZID=UTC:20170620T130000
DTSTAMP:20260424T172538
CREATED:20170426T095035Z
LAST-MODIFIED:20170504T152547Z
UID:879-1497960000-1497963600@springfieldexchangeclub.org
SUMMARY:A Special Wish Foundation Visits Exchange
DESCRIPTION:We will meet at the Benham-Pence Student Center\, Tuesday June 20th\, 2017 at Noon.  Our guest speaker will be Naressa Allen of A Special Wish Foundation. \nA Special Wish Foundation\, Inc.\, is a non-profit charitable organization dedicated to granting the wishes of children under the age of 21 and diagnosed as having a life-threatening disorder
URL:https://springfieldexchangeclub.org/event/a-special-wish-foundation-visits-exchange/
LOCATION:Wittenberg Student Center\, 734 Woodlawn\, Springfield\, 45504\, United States
CATEGORIES:Meetings
END:VEVENT
BEGIN:VEVENT
DTSTART;TZID=UTC:20170606T120000
DTEND;TZID=UTC:20170606T130000
DTSTAMP:20260424T172538
CREATED:20170426T101159Z
LAST-MODIFIED:20170426T101159Z
UID:889-1496750400-1496754000@springfieldexchangeclub.org
SUMMARY:Project Jericho visits Exchange
DESCRIPTION:We will meet Tuesday June 6th\, 2017 at the Wittenberg Benham-Pence Student Center\, Noon.  Our guest speaker will be Lo Hauser from Project Jericho. \nProject Jericho provides in-depth performing and visual arts camps and workshops with a goal to make art and cultural experiences available to all youth and families in our community.\nThe program is based on recent research that demonstrates the positive impact of arts programs on youth and families\, including (among other indicators) decreases in delinquent behavior and court involvement\, increased communication and social skills\, and improved ability to complete home and school tasks. \nJust as the trumpet’s blare brought down the walls of Jericho\, the arts break down barriers to communication\,\nself-expression\, and confidence\, allowing individuals to reach their full potential. \nProject Jericho is additionally supported by grants from The Turner Foundation\, the Ohio Arts Council\, the National Endowment for the Arts\, and the Ohio Department of Youth Services. \n.
URL:https://springfieldexchangeclub.org/event/project-jericho-visits-exchange/
LOCATION:Wittenberg Student Center\, 734 Woodlawn\, Springfield\, 45504\, United States
CATEGORIES:Meetings
END:VEVENT
BEGIN:VEVENT
DTSTART;TZID=UTC:20170530T080000
DTEND;TZID=UTC:20170530T170000
DTSTAMP:20260424T172538
CREATED:20170426T100800Z
LAST-MODIFIED:20170426T100800Z
UID:887-1496131200-1496163600@springfieldexchangeclub.org
SUMMARY:No Meeting Today
DESCRIPTION:The Exchange Club of Springfield will not meet Tuesday 30 May\, 2017 as we are resting after distributing over 8\,000 flags yesterday at the Springfield and Clark County Memorial Day Parade.  See you next week!
URL:https://springfieldexchangeclub.org/event/no-meeting-today/
CATEGORIES:Meetings
END:VEVENT
BEGIN:VEVENT
DTSTART;TZID=UTC:20170523T080000
DTEND;TZID=UTC:20170523T170000
DTSTAMP:20260424T172538
CREATED:20170426T095737Z
LAST-MODIFIED:20170426T095737Z
UID:881-1495526400-1495558800@springfieldexchangeclub.org
SUMMARY:Clark County Sheriff's Department Chaplain visits Exchange
DESCRIPTION:We will meet at the Wittenberg University’s Benham-Pence Student Center\, Tuesday May 23rd\, 2017 at Noon.  Our guest speaker will be Tony Bailey\, Chaplain for the Clark County Sheriff’s Department. \n\nOver 30 years ago Clark County Churches formed the Jail Chaplaincy. The Jail Chaplaincy is a Christian jail ministry that works with men and women who are incarcerated in the Clark County Jail. We coach\, we guide\, we pray\, and prepare them for a productive\, crime-free life after they are released from incarceration and return to our community. \n Jail Chaplaincy Board of Trustees – Chairman Tony Hannon\, Vice Chair Viv Barrett\, Treasurer Ed Jones\, Rick Wade\, Jim Scoby\, Mike McDorman\, Nate Mohler\, Ron Ray\, Tom Howard\, Jay Weygandt\, and Tony Bailey  \nAdvisory: Carl Schraibman\, Dustin Hughes\, Vince Chase
URL:https://springfieldexchangeclub.org/event/clark-county-sheriffs-department-chaplain-visits-exchange/
LOCATION:Wittenberg Student Center\, 734 Woodlawn\, Springfield\, 45504\, United States
CATEGORIES:Meetings
END:VEVENT
BEGIN:VEVENT
DTSTART;TZID=UTC:20170516T120000
DTEND;TZID=UTC:20170516T130000
DTSTAMP:20260424T172538
CREATED:20170504T152809Z
LAST-MODIFIED:20170504T152809Z
UID:909-1494936000-1494939600@springfieldexchangeclub.org
SUMMARY:Springfield Symphony Youth Director visits Exchange
DESCRIPTION:We will meet Tuesday May 16th\, 2017 at Wittenberg University Noon.  Our guest speaker will be Springfield Symphony Youth Director Alex Peugh.
URL:https://springfieldexchangeclub.org/event/springfield-symphony-youth-director-visits-exchange/
LOCATION:Wittenberg Student Center\, 734 Woodlawn\, Springfield\, 45504\, United States
CATEGORIES:Meetings
END:VEVENT
BEGIN:VEVENT
DTSTART;TZID=UTC:20170425T120000
DTEND;TZID=UTC:20170425T130000
DTSTAMP:20260424T172538
CREATED:20170405T002831Z
LAST-MODIFIED:20170405T002937Z
UID:853-1493121600-1493125200@springfieldexchangeclub.org
SUMMARY:Presentation on the National Exchange Club Foundation
DESCRIPTION:We will meet at Noon\, Benham-Pence Student Center.  Our Speaker will be Ohio-West Virginia Division Six Director Larry Sewell who will make a presentation about the National Exchange Club Foundation and how it supports the goals of the  various Exchange Clubs throughout the country.
URL:https://springfieldexchangeclub.org/event/presentation-on-the-national-exchange-club-foundation/
LOCATION:Wittenberg Student Center\, 734 Woodlawn\, Springfield\, 45504\, United States
CATEGORIES:Meetings
END:VEVENT
END:VCALENDAR