BEGIN:VCALENDAR
VERSION:2.0
PRODID:-//Springfield Exchange Club - ECPv6.15.18//NONSGML v1.0//EN
CALSCALE:GREGORIAN
METHOD:PUBLISH
X-WR-CALNAME:Springfield Exchange Club
X-ORIGINAL-URL:https://springfieldexchangeclub.org
X-WR-CALDESC:Events for Springfield Exchange Club
REFRESH-INTERVAL;VALUE=DURATION:PT1H
X-Robots-Tag:noindex
X-PUBLISHED-TTL:PT1H
BEGIN:VTIMEZONE
TZID:UTC
BEGIN:STANDARD
TZOFFSETFROM:+0000
TZOFFSETTO:+0000
TZNAME:UTC
DTSTART:20140101T000000
END:STANDARD
END:VTIMEZONE
BEGIN:VTIMEZONE
TZID:America/New_York
BEGIN:DAYLIGHT
TZOFFSETFROM:-0500
TZOFFSETTO:-0400
TZNAME:EDT
DTSTART:20150308T070000
END:DAYLIGHT
BEGIN:STANDARD
TZOFFSETFROM:-0400
TZOFFSETTO:-0500
TZNAME:EST
DTSTART:20151101T060000
END:STANDARD
BEGIN:DAYLIGHT
TZOFFSETFROM:-0500
TZOFFSETTO:-0400
TZNAME:EDT
DTSTART:20160313T070000
END:DAYLIGHT
BEGIN:STANDARD
TZOFFSETFROM:-0400
TZOFFSETTO:-0500
TZNAME:EST
DTSTART:20161106T060000
END:STANDARD
BEGIN:DAYLIGHT
TZOFFSETFROM:-0500
TZOFFSETTO:-0400
TZNAME:EDT
DTSTART:20170312T070000
END:DAYLIGHT
BEGIN:STANDARD
TZOFFSETFROM:-0400
TZOFFSETTO:-0500
TZNAME:EST
DTSTART:20171105T060000
END:STANDARD
END:VTIMEZONE
BEGIN:VTIMEZONE
TZID:America/Halifax
BEGIN:DAYLIGHT
TZOFFSETFROM:-0400
TZOFFSETTO:-0300
TZNAME:ADT
DTSTART:20150308T060000
END:DAYLIGHT
BEGIN:STANDARD
TZOFFSETFROM:-0300
TZOFFSETTO:-0400
TZNAME:AST
DTSTART:20151101T050000
END:STANDARD
BEGIN:DAYLIGHT
TZOFFSETFROM:-0400
TZOFFSETTO:-0300
TZNAME:ADT
DTSTART:20160313T060000
END:DAYLIGHT
BEGIN:STANDARD
TZOFFSETFROM:-0300
TZOFFSETTO:-0400
TZNAME:AST
DTSTART:20161106T050000
END:STANDARD
BEGIN:DAYLIGHT
TZOFFSETFROM:-0400
TZOFFSETTO:-0300
TZNAME:ADT
DTSTART:20170312T060000
END:DAYLIGHT
BEGIN:STANDARD
TZOFFSETFROM:-0300
TZOFFSETTO:-0400
TZNAME:AST
DTSTART:20171105T050000
END:STANDARD
END:VTIMEZONE
BEGIN:VTIMEZONE
TZID:America/Detroit
BEGIN:DAYLIGHT
TZOFFSETFROM:-0500
TZOFFSETTO:-0400
TZNAME:EDT
DTSTART:20150308T070000
END:DAYLIGHT
BEGIN:STANDARD
TZOFFSETFROM:-0400
TZOFFSETTO:-0500
TZNAME:EST
DTSTART:20151101T060000
END:STANDARD
BEGIN:DAYLIGHT
TZOFFSETFROM:-0500
TZOFFSETTO:-0400
TZNAME:EDT
DTSTART:20160313T070000
END:DAYLIGHT
BEGIN:STANDARD
TZOFFSETFROM:-0400
TZOFFSETTO:-0500
TZNAME:EST
DTSTART:20161106T060000
END:STANDARD
BEGIN:DAYLIGHT
TZOFFSETFROM:-0500
TZOFFSETTO:-0400
TZNAME:EDT
DTSTART:20170312T070000
END:DAYLIGHT
BEGIN:STANDARD
TZOFFSETFROM:-0400
TZOFFSETTO:-0500
TZNAME:EST
DTSTART:20171105T060000
END:STANDARD
END:VTIMEZONE
BEGIN:VEVENT
DTSTART;TZID=UTC:20170103T000000
DTEND;TZID=UTC:20170103T130000
DTSTAMP:20260425T030921
CREATED:20161202T172400Z
LAST-MODIFIED:20161202T172400Z
UID:590-1483401600-1483448400@springfieldexchangeclub.org
SUMMARY:No Meeting - Happy New Year
DESCRIPTION:Due to the New Year Holiday we will not meet Tuesday January 3\, 2017. \nNext week\, Tuesday January 10th will be a regularly scheduled evening meeting at Linardos Villa with guest speaker Kerry Pedraza from United Way.
URL:https://springfieldexchangeclub.org/event/no-meeting-happy-new-year/
CATEGORIES:Meetings
END:VEVENT
BEGIN:VEVENT
DTSTART;TZID=UTC:20161227T120000
DTEND;TZID=UTC:20161227T130000
DTSTAMP:20260425T030921
CREATED:20161128T001952Z
LAST-MODIFIED:20161128T001952Z
UID:583-1482840000-1482843600@springfieldexchangeclub.org
SUMMARY:No Meeting Today - See you Next Year!
DESCRIPTION:No meeting today due to the Christmas/New Years Holiday. See you next year!
URL:https://springfieldexchangeclub.org/event/no-meeting-today-see-you-next-year/
CATEGORIES:Meetings
END:VEVENT
BEGIN:VEVENT
DTSTART;TZID=UTC:20161220T120000
DTEND;TZID=UTC:20161220T130000
DTSTAMP:20260425T030921
CREATED:20161202T170933Z
LAST-MODIFIED:20161202T170933Z
UID:589-1482235200-1482238800@springfieldexchangeclub.org
SUMMARY:Our guest speaker will be Leann Castillo\, Director of National Trail Parks and Recreation
DESCRIPTION:We will meet at Linardos Villa at Noon. Our guest speaker will be Leann Castillo\, Director of National Trail Parks and Recreation.
URL:https://springfieldexchangeclub.org/event/our-guest-speaker-will-be-leann-castillo-director-of-national-trail-parks-and-recreation/
LOCATION:Linardos Villa\, 2235 East Main Street\, Springfield Ohio\, OH\, 45503\, United States
CATEGORIES:Meetings
END:VEVENT
BEGIN:VEVENT
DTSTART;TZID=UTC:20161206T120000
DTEND;TZID=UTC:20161206T130000
DTSTAMP:20260425T030921
CREATED:20161024T154045Z
LAST-MODIFIED:20161024T155258Z
UID:547-1481025600-1481029200@springfieldexchangeclub.org
SUMMARY:Adopt-A-Military Family Project Luncheon
DESCRIPTION:We will meet at Linardos Villa at Noon.  Project Adopt-A-Military Family demonstrates our support of our local serving military as we donate $500 each to three deserving families during this holy season of Christmas.
URL:https://springfieldexchangeclub.org/event/adopt-a-military-family-project-luncheon/
LOCATION:Linardos Villa\, 2235 East Main Street\, Springfield Ohio\, OH\, 45503\, United States
CATEGORIES:Meetings
END:VEVENT
BEGIN:VEVENT
DTSTART;TZID=UTC:20161129T120000
DTEND;TZID=UTC:20161129T130000
DTSTAMP:20260425T030921
CREATED:20161024T153631Z
LAST-MODIFIED:20161115T234535Z
UID:546-1480420800-1480424400@springfieldexchangeclub.org
SUMMARY:Pastor Grammer from First Christian Church visits
DESCRIPTION:We will meet at the Wittenberg Student Union at Noon. Pastor Grammer from First Christian Church will be our guest speaker today.
URL:https://springfieldexchangeclub.org/event/pastor-grammer-from-first-christian-church-visits/
LOCATION:Wittenberg Student Center\, 734 Woodlawn\, Springfield\, 45504\, United States
CATEGORIES:Meetings
END:VEVENT
BEGIN:VEVENT
DTSTART;TZID=UTC:20161122T120000
DTEND;TZID=UTC:20161122T130000
DTSTAMP:20260425T030921
CREATED:20161024T153409Z
LAST-MODIFIED:20161024T154908Z
UID:545-1479816000-1479819600@springfieldexchangeclub.org
SUMMARY:Faith McDonald visits from CC Job and Family Services
DESCRIPTION:We will meet at Linardos Villa at Noon. Our guest speaker will be Faith McDonald from Clark County Department of Job and Family Services.
URL:https://springfieldexchangeclub.org/event/faith-mcdonald-visits-from-cc-job-and-family-services/
LOCATION:Linardos Villa\, 2235 East Main Street\, Springfield Ohio\, OH\, 45503\, United States
CATEGORIES:Meetings
END:VEVENT
BEGIN:VEVENT
DTSTART;TZID=UTC:20161115T120000
DTEND;TZID=UTC:20161115T130000
DTSTAMP:20260425T030921
CREATED:20161024T153104Z
LAST-MODIFIED:20161024T155011Z
UID:544-1479211200-1479214800@springfieldexchangeclub.org
SUMMARY:Project Jericho - Juvenile Detention Center with Jeff Hawes and Joe Hunter as Guests
DESCRIPTION:We will meet at Linardos Villa at Noon. Our guest speakers will be Jeff Hawes and Joe Hunter from Project Jericho – Juvenile Detention Center.
URL:https://springfieldexchangeclub.org/event/project-jericho-juvenile-detention-center-with-jeff-hawes-and-joe-hunter-as-guests/
LOCATION:Linardos Villa\, 2235 East Main Street\, Springfield Ohio\, OH\, 45503\, United States
CATEGORIES:Meetings
END:VEVENT
BEGIN:VEVENT
DTSTART;TZID=UTC:20161101T120000
DTEND;TZID=UTC:20161101T130000
DTSTAMP:20260425T030921
CREATED:20161012T172836Z
LAST-MODIFIED:20161012T172836Z
UID:532-1478001600-1478005200@springfieldexchangeclub.org
SUMMARY:Exchange Club of Springfield greets Janet Wells from Honor Flight
DESCRIPTION:We will meet at Linardos Villa\, Tuesday November 1st\, 2016\, Noon. Our guest speaker will be Janet Wells from Honor Flight. \nHonor Flight Network is a non-profit organization created solely to honor America’s veterans for all their sacrifices. We transport our heroes to Washington\, D.C. to visit and reflect at their memorials. Top priority is given to the senior veterans – World War II survivors\, along with those other veterans who may be terminally ill. \nOf all of the wars in recent memory\, it was World War II that truly threatened our very existence as a nation—and as a culturally diverse\, free society. According to the Department of Veterans Affairs\, an estimated 640 WWII veterans die each day. Our time to express our thanks to these brave men and women is running out.  Since 2005\, Honor Flight has taken some 159\,703 to Washington\, DC.
URL:https://springfieldexchangeclub.org/event/exchange-club-of-springfield-greets-janet-wells-from-honor-flight/
LOCATION:Linardos Villa\, 2235 East Main Street\, Springfield Ohio\, OH\, 45503\, United States
CATEGORIES:Meetings
END:VEVENT
BEGIN:VEVENT
DTSTART;TZID=UTC:20161025T120000
DTEND;TZID=UTC:20161025T130000
DTSTAMP:20260425T030921
CREATED:20160914T171718Z
LAST-MODIFIED:20160916T143214Z
UID:509-1477396800-1477400400@springfieldexchangeclub.org
SUMMARY:Exchange Club of Springfield Membership Meeting
DESCRIPTION:The Exchange Club of Springfield will meet at Linardos Villa\, Noon.  Guest Speaker will be Richele Shepard\, Executive Director of Wellspring. \n 
URL:https://springfieldexchangeclub.org/event/exchange-club-of-springfield-membership-meeting-2/
LOCATION:Linardos Villa\, 2235 East Main Street\, Springfield Ohio\, OH\, 45503\, United States
CATEGORIES:Meetings
END:VEVENT
BEGIN:VEVENT
DTSTART;TZID=UTC:20161018T120000
DTEND;TZID=UTC:20161018T130000
DTSTAMP:20260425T030921
CREATED:20160914T171110Z
LAST-MODIFIED:20160916T143009Z
UID:506-1476792000-1476795600@springfieldexchangeclub.org
SUMMARY:Exchange Club Membership Meeting
DESCRIPTION:The Exchange Club of Springfield will meet at Linardos Villa\, Noon\, Guest Speaker Sergeant Joe Tedeschi of the Springfield Police Division.
URL:https://springfieldexchangeclub.org/event/exchange-club-membership-meeting-4/
LOCATION:Linardos Villa\, 2235 East Main Street\, Springfield Ohio\, OH\, 45503\, United States
CATEGORIES:Meetings
END:VEVENT
BEGIN:VEVENT
DTSTART;TZID=UTC:20161004T120000
DTEND;TZID=UTC:20161004T130000
DTSTAMP:20260425T030921
CREATED:20160914T170125Z
LAST-MODIFIED:20160916T142641Z
UID:501-1475582400-1475586000@springfieldexchangeclub.org
SUMMARY:Exchange Club Membership Meeting
DESCRIPTION:The Exchange Club of Springfield will meet at Linardos Villa at Noon.  Our guest speaker will Lt. Jeff Lyday\, Springfield Fire Division\, on Fire Safety and Prevention.
URL:https://springfieldexchangeclub.org/event/exchange-club-membership-meeting-2/
LOCATION:Linardos Villa\, 2235 East Main Street\, Springfield Ohio\, OH\, 45503\, United States
CATEGORIES:Meetings
END:VEVENT
BEGIN:VEVENT
DTSTART;TZID=UTC:20160927T120000
DTEND;TZID=UTC:20160927T130000
DTSTAMP:20260425T030921
CREATED:20160817T184058Z
LAST-MODIFIED:20160914T173356Z
UID:472-1474977600-1474981200@springfieldexchangeclub.org
SUMMARY:Springfield Membership Meeting
DESCRIPTION:The Exchange Club of Springfield will meet at Buckeye Sports Lodge\, Noon\, Tuesday September 27th\, 2016. Our Guest Speaker will be Laura Baxter\, Director of Project Woman.
URL:https://springfieldexchangeclub.org/event/springfield-membership-meeting-5/
LOCATION:Buckeye Sports Lodge\, 126 West High Street\, Springfield\, OH\, 45502\, United States
CATEGORIES:Meetings
END:VEVENT
BEGIN:VEVENT
DTSTART;TZID=UTC:20160920T120000
DTEND;TZID=UTC:20160920T130000
DTSTAMP:20260425T030921
CREATED:20160817T183849Z
LAST-MODIFIED:20160906T190153Z
UID:471-1474372800-1474376400@springfieldexchangeclub.org
SUMMARY:Springfield Membership Meeting
DESCRIPTION:The Exchange Club of Springfield will meet at Linardos Villa\, Noon\, Tuesday September 20th\, 2016.  Our Guest Speaker will be Crystal Steiner from Junior Achievement.
URL:https://springfieldexchangeclub.org/event/springfield-membership-meeting-4/
LOCATION:Linardos Villa\, 2235 East Main Street\, Springfield Ohio\, OH\, 45503\, United States
CATEGORIES:Meetings
END:VEVENT
BEGIN:VEVENT
DTSTART;TZID=UTC:20160906T120000
DTEND;TZID=UTC:20160906T130000
DTSTAMP:20260425T030921
CREATED:20160816T212435Z
LAST-MODIFIED:20160816T212524Z
UID:469-1473163200-1473166800@springfieldexchangeclub.org
SUMMARY:Springfield Membership Meeting
DESCRIPTION:We will not meet this week due to the Labor Day Holiday.  We will meet at our regularly scheduled evening meeting next week.
URL:https://springfieldexchangeclub.org/event/springfield-membership-meeting-2/
CATEGORIES:Meetings
END:VEVENT
BEGIN:VEVENT
DTSTART;TZID=UTC:20160830T120000
DTEND;TZID=UTC:20160830T130000
DTSTAMP:20260425T030921
CREATED:20160701T165204Z
LAST-MODIFIED:20160816T212133Z
UID:411-1472558400-1472562000@springfieldexchangeclub.org
SUMMARY:Membership Meeting
DESCRIPTION:We will meet at Linardos Villa\, Noon\, for lunch.  Our guest speakers will be Ryan Ray and Ja-Lynn Stowers on the subject of the Salvation Army Trailblazers Project\, which we support.
URL:https://springfieldexchangeclub.org/event/membership-meeting-3/
LOCATION:Linardos Villa\, 2235 East Main Street\, Springfield Ohio\, OH\, 45503\, United States
CATEGORIES:Meetings
END:VEVENT
BEGIN:VEVENT
DTSTART;TZID=UTC:20160823T120000
DTEND;TZID=UTC:20160823T130000
DTSTAMP:20260425T030921
CREATED:20160701T164545Z
LAST-MODIFIED:20160816T211908Z
UID:410-1471953600-1471957200@springfieldexchangeclub.org
SUMMARY:Membership Meeting
DESCRIPTION:We will meet at Noon at Linardos Villa.  Guest Speaker will be Deb McCullough from On The Rise.
URL:https://springfieldexchangeclub.org/event/membership-meeting-2/
LOCATION:Linardos Villa\, 2235 East Main Street\, Springfield Ohio\, OH\, 45503\, United States
CATEGORIES:Meetings
END:VEVENT
BEGIN:VEVENT
DTSTART;TZID=UTC:20160816T120000
DTEND;TZID=UTC:20160816T130000
DTSTAMP:20260425T030921
CREATED:20160701T164414Z
LAST-MODIFIED:20160701T164414Z
UID:409-1471348800-1471352400@springfieldexchangeclub.org
SUMMARY:Membership Meeting - Pregnancy Resource Clinic of Clark County
DESCRIPTION:We will meet at Noon at Linardos Villa.  Our guest speaker will be Ellen Dudney\, Executive Director of the Pregnancy Resource Clinic of Clark County.
URL:https://springfieldexchangeclub.org/event/membership-meeting-pregnancy-resource-clinic-of-clark-county/
LOCATION:Linardos Villa\, 2235 East Main Street\, Springfield Ohio\, OH\, 45503\, United States
CATEGORIES:Meetings
END:VEVENT
BEGIN:VEVENT
DTSTART;TZID=UTC:20160802T120000
DTEND;TZID=UTC:20160802T130000
DTSTAMP:20260425T030921
CREATED:20160701T163701Z
LAST-MODIFIED:20160701T163701Z
UID:406-1470139200-1470142800@springfieldexchangeclub.org
SUMMARY:Membership Meeting at the Springfield Art Museum
DESCRIPTION:We will meet at Noon for lunch and a tour at the Springfield Museum of Art for our annual visit.  Please RSVP  to Don Lynam as we will need a count for boxed lunches.  We will then tour the facility with Ann Fortescue\, Executive Director.  As a bonus\, we will see Dina Klipfel’s\, wife of Exchangite Steve Klipfel\, paintings in the museum.
URL:https://springfieldexchangeclub.org/event/membership-meeting-at-the-springfield-art-museum/
LOCATION:Springfield Museum of Art\, 107 Cliff Park Road\, Springfield\, OH\, 45504\, United States
CATEGORIES:Meetings
END:VEVENT
BEGIN:VEVENT
DTSTART;TZID=UTC:20160726T120000
DTEND;TZID=UTC:20160726T130000
DTSTAMP:20260425T030921
CREATED:20160611T185140Z
LAST-MODIFIED:20160611T185140Z
UID:373-1469534400-1469538000@springfieldexchangeclub.org
SUMMARY:Springfield Exchange Club Membership Meeting
DESCRIPTION:We will not meet on Tuesday\, as we will meet on Wednesday for Kid’s Day at the Clark County Fair.
URL:https://springfieldexchangeclub.org/event/springfield-exchange-club-membership-meeting-3/
CATEGORIES:Meetings
END:VEVENT
BEGIN:VEVENT
DTSTART;TZID=UTC:20160719T120000
DTEND;TZID=UTC:20160719T130000
DTSTAMP:20260425T030921
CREATED:20160611T184943Z
LAST-MODIFIED:20160715T221238Z
UID:372-1468929600-1468933200@springfieldexchangeclub.org
SUMMARY:Springfield Exchange Club Membership Meeting
DESCRIPTION:We will meet at Linardos Villa\, Noon.  Our guest speaker will be Captain Caldwell of the Salvation Army.
URL:https://springfieldexchangeclub.org/event/springfield-exchange-club-membership-meeting-2/
LOCATION:Linardos Villa\, 2235 East Main Street\, Springfield Ohio\, OH\, 45503\, United States
CATEGORIES:Meetings
END:VEVENT
BEGIN:VEVENT
DTSTART;TZID=UTC:20160705T120000
DTEND;TZID=UTC:20160705T130000
DTSTAMP:20260425T030921
CREATED:20160611T183745Z
LAST-MODIFIED:20160611T183745Z
UID:370-1467720000-1467723600@springfieldexchangeclub.org
SUMMARY:Springfield Membership Meeting
DESCRIPTION:There will be no Noon meeting of the Exchange Club of Springfield due to the Independence Day Holiday
URL:https://springfieldexchangeclub.org/event/springfield-membership-meeting/
CATEGORIES:Meetings
END:VEVENT
BEGIN:VEVENT
DTSTART;TZID=UTC:20160628T120000
DTEND;TZID=UTC:20160628T130000
DTSTAMP:20260425T030921
CREATED:20160524T221841Z
LAST-MODIFIED:20160524T221841Z
UID:336-1467115200-1467118800@springfieldexchangeclub.org
SUMMARY:Membership Meeting
DESCRIPTION:We will meet at Linardos Villa at Noon Tuesday June 28th\, 2016.  Our guest speaker will be Alek Peugh Director of Operations and Education at the Springfield Symphony Orchestra.
URL:https://springfieldexchangeclub.org/event/membership-meeting-7/
LOCATION:Linardos Villa\, 2235 East Main Street\, Springfield Ohio\, OH\, 45503\, United States
CATEGORIES:Meetings
END:VEVENT
BEGIN:VEVENT
DTSTART;TZID=America/New_York:20160621T120000
DTEND;TZID=America/New_York:20160621T130000
DTSTAMP:20260425T030921
CREATED:20160524T220953Z
LAST-MODIFIED:20160617T173801Z
UID:333-1466510400-1466514000@springfieldexchangeclub.org
SUMMARY:Membership Meeting
DESCRIPTION:We will meet at Linardos Villa\, Tuesday June 21st at Noon.  We will have two guest speakers this week. Naressa Allen from A Special Wish Foundation\, as well as Courtney McKinnon\, Challenge Camp Director with Clark County Job and Family Services.
URL:https://springfieldexchangeclub.org/event/membership-meeting-6/
LOCATION:Linardos Villa\, 2235 East Main Street\, Springfield Ohio\, OH\, 45503\, United States
CATEGORIES:Meetings
END:VEVENT
BEGIN:VEVENT
DTSTART;TZID=America/New_York:20160607T120000
DTEND;TZID=America/New_York:20160607T130000
DTSTAMP:20260425T030921
CREATED:20160524T220720Z
LAST-MODIFIED:20160524T221516Z
UID:332-1465300800-1465304400@springfieldexchangeclub.org
SUMMARY:Membership Meeting
DESCRIPTION:We will meet at Linardos Villa\, Tuesday June 7\, 2016.  Our guest speaker will be Lo Hauser & Kristi Limes from Project Jericho.
URL:https://springfieldexchangeclub.org/event/membership-meeting-5/
LOCATION:Linardos Villa\, 2235 East Main Street\, Springfield Ohio\, OH\, 45503\, United States
CATEGORIES:Meetings
END:VEVENT
BEGIN:VEVENT
DTSTART;TZID=America/New_York:20160531T120000
DTEND;TZID=America/New_York:20160531T130000
DTSTAMP:20260425T030921
CREATED:20160524T121224Z
LAST-MODIFIED:20160524T121318Z
UID:327-1464696000-1464699600@springfieldexchangeclub.org
SUMMARY:No Noon Meeting
DESCRIPTION:Due to the Memorial Day Holiday there will be no Noon meeting this week.
URL:https://springfieldexchangeclub.org/event/no-noon-meeting/
CATEGORIES:Meetings
END:VEVENT
BEGIN:VEVENT
DTSTART;TZID=America/New_York:20160524T000000
DTEND;TZID=America/New_York:20160524T130000
DTSTAMP:20260425T030921
CREATED:20160426T232845Z
LAST-MODIFIED:20160426T235046Z
UID:277-1464048000-1464094800@springfieldexchangeclub.org
SUMMARY:Membership Meeting
DESCRIPTION:Rob Lavoie – Executive Director Tecumseh Council\, Boy Scouts of America will be our guest speaker.
URL:https://springfieldexchangeclub.org/event/membership-meeting/
LOCATION:Linardos Villa\, 2235 East Main Street\, Springfield Ohio\, OH\, 45503\, United States
CATEGORIES:Meetings
END:VEVENT
BEGIN:VEVENT
DTSTART;TZID=America/New_York:20160517T000000
DTEND;TZID=America/New_York:20160517T130000
DTSTAMP:20260425T030921
CREATED:20160509T141319Z
LAST-MODIFIED:20160509T141412Z
UID:302-1463443200-1463490000@springfieldexchangeclub.org
SUMMARY:Club Membership Meeting
DESCRIPTION:We will meet at Linardos Villa at Noon.  Our Guest Speaker will be Naressa Allen from A Special Wish Foundation.
URL:https://springfieldexchangeclub.org/event/club-membership-meeting/
LOCATION:Linardos Villa\, 2235 East Main Street\, Springfield Ohio\, OH\, 45503\, United States
CATEGORIES:Meetings
END:VEVENT
BEGIN:VEVENT
DTSTART;TZID=America/Halifax:20160405T120000
DTEND;TZID=America/Halifax:20160405T130000
DTSTAMP:20260425T030921
CREATED:20160406T153027Z
LAST-MODIFIED:20160406T153027Z
UID:243-1459857600-1459861200@springfieldexchangeclub.org
SUMMARY:Exchange Club of Springfield Membership Meeting
DESCRIPTION:We will meet at Linardos Villa\, Tuesday 5 April\, 2016 at Noon.  Our guest speaker will be Sky Schelle\, Stormwater Coordinator\, City of Springfield.  The Youth Committee will present the 2nd  Honorable Mention of our Youth of the Year Award\, Julie Britto of Catholic Central High School.    \nIn an effort to entertain our members every second of the full hour\, Col. Anderson will stop in and report on the Armed Forces Appreciation Day\, which will occur on the 2nd of May.  Whew! \n Remember\, Blue Monday’s in April! \n 
URL:https://springfieldexchangeclub.org/event/exchange-club-of-springfield-membership-meeting/
LOCATION:Hollenbeck-Bayley Creative Arts and Convention Center\, 275 South Limestone Street\, Springfield Ohio\, 45504\, United States
CATEGORIES:Meetings
END:VEVENT
BEGIN:VEVENT
DTSTART;TZID=America/Detroit:20160126T120000
DTEND;TZID=America/Detroit:20160126T130000
DTSTAMP:20260425T030922
CREATED:20160125T001837Z
LAST-MODIFIED:20160125T001837Z
UID:232-1453809600-1453813200@springfieldexchangeclub.org
SUMMARY:Regular Club Meeting
DESCRIPTION:The Club will meet at Noon\, Linardos Villa\, for our regular Tuesday meeting. Our guests will be five Youth of the Month/Year Candidates.
URL:https://springfieldexchangeclub.org/event/regular-club-meeting/
LOCATION:Hollenbeck-Bayley Creative Arts and Convention Center\, 275 South Limestone Street\, Springfield Ohio\, 45504\, United States
CATEGORIES:Meetings
END:VEVENT
BEGIN:VEVENT
DTSTART;TZID=UTC:20151117T120000
DTEND;TZID=UTC:20151117T130000
DTSTAMP:20260425T030922
CREATED:20151103T210729Z
LAST-MODIFIED:20151103T210729Z
UID:188-1447761600-1447765200@springfieldexchangeclub.org
SUMMARY:Club Meeting
DESCRIPTION:
URL:https://springfieldexchangeclub.org/event/club-meeting-3/
LOCATION:Hollenbeck-Bayley Creative Arts and Convention Center\, 275 South Limestone Street\, Springfield Ohio\, 45504\, United States
CATEGORIES:Meetings
END:VEVENT
END:VCALENDAR