BEGIN:VCALENDAR
VERSION:2.0
PRODID:-//Springfield Exchange Club - ECPv6.15.18//NONSGML v1.0//EN
CALSCALE:GREGORIAN
METHOD:PUBLISH
X-WR-CALNAME:Springfield Exchange Club
X-ORIGINAL-URL:https://springfieldexchangeclub.org
X-WR-CALDESC:Events for Springfield Exchange Club
REFRESH-INTERVAL;VALUE=DURATION:PT1H
X-Robots-Tag:noindex
X-PUBLISHED-TTL:PT1H
BEGIN:VTIMEZONE
TZID:UTC
BEGIN:STANDARD
TZOFFSETFROM:+0000
TZOFFSETTO:+0000
TZNAME:UTC
DTSTART:20190101T000000
END:STANDARD
END:VTIMEZONE
BEGIN:VEVENT
DTSTART;TZID=UTC:20220222T070000
DTEND;TZID=UTC:20220222T080000
DTSTAMP:20260424T001621
CREATED:20211205T214206Z
LAST-MODIFIED:20211205T214206Z
UID:2957-1645513200-1645516800@springfieldexchangeclub.org
SUMMARY:Exchange meets to select the Youth of the Year Award
DESCRIPTION:The Exchange Club of Springfield\, Ohio will meet as a Committee of the Whole at the Wittenberg Student Center Alumni Room in order to select the club’s Youth of the Year Award. The winner will receive a $1\,000 college scholarship to the school of their choice. The youth will then be entered in the Ohio-West Virginia District’s Youth of the Year contest and the opportunity to earn their $ 1\,000 college scholarship award\,  The District’s Youth of the Year will be entered in the National Exchange Club’s Youth of the Year contest\, vying for an additional $15\,000 college scholarship to the school of their choice.
URL:https://springfieldexchangeclub.org/event/exchange-meets-to-select-the-youth-of-the-year-award/
LOCATION:Wittenberg Student Center\, 734 Woodlawn\, Springfield\, 45504\, United States
CATEGORIES:Meetings
END:VEVENT
BEGIN:VEVENT
DTSTART;TZID=UTC:20220208T120000
DTEND;TZID=UTC:20220208T130000
DTSTAMP:20260424T001621
CREATED:20211205T213603Z
LAST-MODIFIED:20211205T213603Z
UID:2955-1644321600-1644325200@springfieldexchangeclub.org
SUMMARY:Exchange presents The Youth of the Month Project
DESCRIPTION:The Exchange Club of Springfield will meet at the Wittenberg Student Center to honor four local high school seniors as their school’s candidate for the Club’s Youth of the Year Award. Each school’s Youth of the Month will receive a stipend of $ 100 and a Certificate honoring them as their National Exchange Club’s Youth of the Month.
URL:https://springfieldexchangeclub.org/event/exchange-presents-the-youth-of-the-month-project-3/
LOCATION:Wittenberg Student Center\, 734 Woodlawn\, Springfield\, 45504\, United States
CATEGORIES:Meetings
END:VEVENT
BEGIN:VEVENT
DTSTART;TZID=UTC:20220125T120000
DTEND;TZID=UTC:20220125T130000
DTSTAMP:20260424T001621
CREATED:20211205T212906Z
LAST-MODIFIED:20211205T212906Z
UID:2951-1643112000-1643115600@springfieldexchangeclub.org
SUMMARY:Exchange presents The Youth of the Month Project
DESCRIPTION:The Exchange Club of Springfield will meet at the Wittenberg Student Center to honor four local high school seniors as their school’s candidate for the Club’s Youth of the Year Award. Each school’s Youth of the Month will receive a stipend of $ 100 and a Certificate honoring them as their National Exchange Club’s Youth of the Month
URL:https://springfieldexchangeclub.org/event/exchange-presents-the-youth-of-the-month-project-2/
LOCATION:OH
CATEGORIES:Meetings
END:VEVENT
BEGIN:VEVENT
DTSTART;TZID=UTC:20220111T120000
DTEND;TZID=UTC:20220111T130000
DTSTAMP:20260424T001621
CREATED:20211205T212746Z
LAST-MODIFIED:20211205T212746Z
UID:2949-1641902400-1641906000@springfieldexchangeclub.org
SUMMARY:Exchange presents The Youth of the Month Project
DESCRIPTION:The Exchange Club of Springfield will meet at the Wittenberg Student Center to honor four local high school seniors as their school’s candidate for the Club’s Youth of the Year Award. Each school’s Youth of the Month will receive a stipend of $ 100 and a Certificate honoring them as their National Exchange Club’s Youth of the Month.
URL:https://springfieldexchangeclub.org/event/exchange-presents-the-youth-of-the-month-project/
LOCATION:Wittenberg Student Center\, 734 Woodlawn\, Springfield\, 45504\, United States
CATEGORIES:Meetings
END:VEVENT
BEGIN:VEVENT
DTSTART;TZID=UTC:20211228T070000
DTEND;TZID=UTC:20211228T080000
DTSTAMP:20260424T001621
CREATED:20210922T151546Z
LAST-MODIFIED:20210922T151546Z
UID:2839-1640674800-1640678400@springfieldexchangeclub.org
SUMMARY:No Meeting Due to Holiday
DESCRIPTION:The Exchange Club of Springfield will not meet due to the Christmas Holiday.  The next meeting will be Tuesday January 11\, 2022 at the Benham-Pence Student Center Alumni Room on the campus of Wittenberg University at 7 AM. Guest Speaker TBD.
URL:https://springfieldexchangeclub.org/event/no-meeting-due-to-holiday/
LOCATION:OH
CATEGORIES:Meetings
END:VEVENT
BEGIN:VEVENT
DTSTART;TZID=UTC:20211214T120000
DTEND;TZID=UTC:20211214T130000
DTSTAMP:20260424T001621
CREATED:20210922T150757Z
LAST-MODIFIED:20210922T150757Z
UID:2835-1639483200-1639486800@springfieldexchangeclub.org
SUMMARY:Exchange Adopt-A-Military-Family Project Meeting
DESCRIPTION:The Exchange Club will meet at Noon for the Adopt-A-Military Family Project at the Benham-Pence Student Center on the campus of Wittenberg University.
URL:https://springfieldexchangeclub.org/event/exchange-adopt-a-military-family-project-meeting/
LOCATION:Wittenberg Student Center\, 734 Woodlawn\, Springfield\, 45504\, United States
CATEGORIES:Meetings
END:VEVENT
BEGIN:VEVENT
DTSTART;TZID=UTC:20211123T070000
DTEND;TZID=UTC:20211123T080000
DTSTAMP:20260424T001621
CREATED:20210922T150427Z
LAST-MODIFIED:20211027T150056Z
UID:2833-1637650800-1637654400@springfieldexchangeclub.org
SUMMARY:Springfield Member Meeting
DESCRIPTION:The Exchange Club will meet at 7 AM for its regularly scheduled member meeting at the Masonic Home Lidner Center.  Guest Speaker will be Richele Shepard from WellSpring.
URL:https://springfieldexchangeclub.org/event/springfield-member-meeting-2/
LOCATION:Ohio Masonic Home\, 2655 W National Rd\, Springfield\, OH\, 45504\, United States
CATEGORIES:Meetings
END:VEVENT
BEGIN:VEVENT
DTSTART;TZID=UTC:20211109T070000
DTEND;TZID=UTC:20211109T080000
DTSTAMP:20260424T001621
CREATED:20210922T143649Z
LAST-MODIFIED:20211008T123315Z
UID:2828-1636441200-1636444800@springfieldexchangeclub.org
SUMMARY:Membership Meeting
DESCRIPTION:The Exchange Club will meet at 7 AM for its regularly scheduled member meeting at the Wittenberg BPSC\, Alumni Room.  Guest Speaker will be Laura Rapoch from Save-A-Warrior.org.
URL:https://springfieldexchangeclub.org/event/membership-meeting-26/
LOCATION:Wittenberg Student Center\, 734 Woodlawn\, Springfield\, 45504\, United States
CATEGORIES:Meetings
END:VEVENT
BEGIN:VEVENT
DTSTART;TZID=UTC:20211026T070000
DTEND;TZID=UTC:20211026T080000
DTSTAMP:20260424T001621
CREATED:20210730T132314Z
LAST-MODIFIED:20211008T123151Z
UID:2751-1635231600-1635235200@springfieldexchangeclub.org
SUMMARY:Springfield Exchange Member Meeting
DESCRIPTION:The Exchange Club of Springfield will meet for its regularly scheduled member meeting\, Tuesday October 26\, 2021\, 7:00 AM at the Benham-Pence Student Center on the campus of Wittenberg University Alumni Room. Guest Speaker will be Lo Hauser with an update on Project Jericho Juvenile Court.
URL:https://springfieldexchangeclub.org/event/springfield-exchange-member-meeting-5/
LOCATION:Wittenberg Student Center\, 734 Woodlawn\, Springfield\, 45504\, United States
CATEGORIES:Meetings
END:VEVENT
BEGIN:VEVENT
DTSTART;TZID=UTC:20211012T070000
DTEND;TZID=UTC:20211012T080000
DTSTAMP:20260424T001621
CREATED:20210730T131920Z
LAST-MODIFIED:20211004T141703Z
UID:2749-1634022000-1634025600@springfieldexchangeclub.org
SUMMARY:Springfield Exchange Club Member Meeting
DESCRIPTION:The Exchange Club of Springfield will meet for its regularly scheduled member meeting\, Tuesday October 12\, 2021\, 7:00 AM at the Benham-Pence Student Center on the campus of Wittenberg University Alumni Room. Guest Speaker will be Leann Castillo from the CC Parks and Recreation Department.
URL:https://springfieldexchangeclub.org/event/springfield-exchange-club-member-meeting/
LOCATION:Wittenberg Student Center\, 734 Woodlawn\, Springfield\, 45504\, United States
CATEGORIES:Meetings
END:VEVENT
BEGIN:VEVENT
DTSTART;TZID=UTC:20210928T070000
DTEND;TZID=UTC:20210928T080000
DTSTAMP:20260424T001621
CREATED:20210730T130949Z
LAST-MODIFIED:20210922T143319Z
UID:2744-1632812400-1632816000@springfieldexchangeclub.org
SUMMARY:Springfield Exchange Member Meeting
DESCRIPTION:The Exchange Club of Springfield will meet Tuesday September 28\, 2021 for its regularly scheduled membership meeting\, 7:00 AM\, at the Benham-Pence Student Center on the campus of Wittenberg University.   Guest Speaker Angela Boblitt from Choosing Hope Adoptions..
URL:https://springfieldexchangeclub.org/event/springfield-exchange-member-meeting-4/
LOCATION:Wittenberg Student Center\, 734 Woodlawn\, Springfield\, 45504\, United States
CATEGORIES:Meetings
END:VEVENT
BEGIN:VEVENT
DTSTART;TZID=UTC:20210914T070000
DTEND;TZID=UTC:20210914T080000
DTSTAMP:20260424T001621
CREATED:20210730T130830Z
LAST-MODIFIED:20210922T143143Z
UID:2742-1631602800-1631606400@springfieldexchangeclub.org
SUMMARY:Springfield Exchange Member Meeting
DESCRIPTION:The Exchange Club of Springfield will meet Tuesday September 14\, 2021 for its regularly scheduled membership meeting\, 7:00 AM\, at the Benham-Pence Student Center on the campus of Wittenberg University.   Guest Speaker Deputy Sheriff Shaun Lisle updating us on the DARE program.
URL:https://springfieldexchangeclub.org/event/springfield-exchange-member-meeting-3/
LOCATION:Wittenberg Student Center\, 734 Woodlawn\, Springfield\, 45504\, United States
CATEGORIES:Meetings
END:VEVENT
BEGIN:VEVENT
DTSTART;TZID=UTC:20210824T070000
DTEND;TZID=UTC:20210824T080000
DTSTAMP:20260424T001621
CREATED:20210730T130144Z
LAST-MODIFIED:20210730T130144Z
UID:2738-1629788400-1629792000@springfieldexchangeclub.org
SUMMARY:Springfield Exchange Member Meeting
DESCRIPTION:The Exchange Club of Springfield will meet Tuesday August 24\, 2021 for its regularly scheduled membership meeting\, 7:00 AM\, at the Benham-Pence Student Center Alumni Room\,  on the campus of Wittenberg University.   Guest Speaker TBD
URL:https://springfieldexchangeclub.org/event/springfield-exchange-member-meeting-2/
LOCATION:Wittenberg Student Center\, 734 Woodlawn\, Springfield\, 45504\, United States
CATEGORIES:Meetings
END:VEVENT
BEGIN:VEVENT
DTSTART;TZID=UTC:20210810T070000
DTEND;TZID=UTC:20210810T080000
DTSTAMP:20260424T001621
CREATED:20210730T125843Z
LAST-MODIFIED:20210730T125843Z
UID:2734-1628578800-1628582400@springfieldexchangeclub.org
SUMMARY:Springfield Exchange Member Meeting
DESCRIPTION:The Exchange Club of Springfield will meet Tuesday August 10\, 2021 for its regularly scheduled membership meeting\, 7:00 AM\, at the Lindner Center on the campus of the Ohio Masonic Community.   Guest Speaker TBD.
URL:https://springfieldexchangeclub.org/event/springfield-exchange-member-meeting/
LOCATION:Ohio Masonic Home\, 2655 W National Rd\, Springfield\, OH\, 45504\, United States
CATEGORIES:Meetings
END:VEVENT
BEGIN:VEVENT
DTSTART;TZID=UTC:20210323T120000
DTEND;TZID=UTC:20210323T130000
DTSTAMP:20260424T001621
CREATED:20210114T151734Z
LAST-MODIFIED:20210114T151734Z
UID:2494-1616500800-1616504400@springfieldexchangeclub.org
SUMMARY:Exchange Club Youth of the Year and A.C.E. Award Program
DESCRIPTION:The Exchange Club of Springfield\, Ohio will meet at a time and place TBD to honor the Youth of the Year and A.C.E. Award winners.
URL:https://springfieldexchangeclub.org/event/exchange-club-youth-of-the-year-and-a-c-e-award-program/
LOCATION:OH
CATEGORIES:Meetings
END:VEVENT
BEGIN:VEVENT
DTSTART;TZID=UTC:20210309T120000
DTEND;TZID=UTC:20210309T130000
DTSTAMP:20260424T001622
CREATED:20210114T151529Z
LAST-MODIFIED:20210114T151529Z
UID:2492-1615291200-1615294800@springfieldexchangeclub.org
SUMMARY:Exchange Club Meeting
DESCRIPTION:The Exchange Club of Springfield\, Ohio will meet at a time and place TBD.
URL:https://springfieldexchangeclub.org/event/exchange-club-meeting-9/
LOCATION:OH
CATEGORIES:Meetings
END:VEVENT
BEGIN:VEVENT
DTSTART;TZID=UTC:20210223T120000
DTEND;TZID=UTC:20210223T130000
DTSTAMP:20260424T001622
CREATED:20210114T151309Z
LAST-MODIFIED:20210114T151335Z
UID:2489-1614081600-1614085200@springfieldexchangeclub.org
SUMMARY:Exchange Club Meeting
DESCRIPTION:The Exchange Club of Springfield\, Ohio will meet at a time and place TBD in order to vote for the Youth of the Year and the A.C.E. Award project.
URL:https://springfieldexchangeclub.org/event/2489/
LOCATION:OH
CATEGORIES:Meetings
END:VEVENT
BEGIN:VEVENT
DTSTART;TZID=UTC:20210209T120000
DTEND;TZID=UTC:20210209T130000
DTSTAMP:20260424T001622
CREATED:20210114T151116Z
LAST-MODIFIED:20210114T151116Z
UID:2487-1612872000-1612875600@springfieldexchangeclub.org
SUMMARY:Club Meeting
DESCRIPTION:The Exchange Club of Springfield\, Ohio will meet at a time and place TBD.
URL:https://springfieldexchangeclub.org/event/club-meeting-7/
LOCATION:OH
CATEGORIES:Meetings
END:VEVENT
BEGIN:VEVENT
DTSTART;TZID=UTC:20210126T180000
DTEND;TZID=UTC:20210126T190000
DTSTAMP:20260424T001622
CREATED:20201203T235520Z
LAST-MODIFIED:20210108T132646Z
UID:2435-1611684000-1611687600@springfieldexchangeclub.org
SUMMARY:Virtual Club Meeting
DESCRIPTION:The Exchange Club of Springfield will meet virtually via Webex\, 6 PM\, Tuesday January 26\, 2021. Guest Speaker will be Toni Overholser\, Clark State Foundation.
URL:https://springfieldexchangeclub.org/event/club-meeting-6/
LOCATION:OH
CATEGORIES:Meetings
END:VEVENT
BEGIN:VEVENT
DTSTART;TZID=UTC:20210112T180000
DTEND;TZID=UTC:20210112T190000
DTSTAMP:20260424T001622
CREATED:20201203T235409Z
LAST-MODIFIED:20210108T132416Z
UID:2433-1610474400-1610478000@springfieldexchangeclub.org
SUMMARY:Virtual Club Meeting
DESCRIPTION:The Exchange Club of Springfield will meet virtually via Webex\, 6 PM\, Tuesday January 12\, 2021. Guest Speaker will be Rob Lavoie\, Scouting Tecumseh Council Executive Director.
URL:https://springfieldexchangeclub.org/event/virtual-club-meeting-3/
LOCATION:OH
CATEGORIES:Meetings
END:VEVENT
BEGIN:VEVENT
DTSTART;TZID=UTC:20201222T120000
DTEND;TZID=UTC:20201222T130000
DTSTAMP:20260424T001622
CREATED:20201005T115517Z
LAST-MODIFIED:20201005T115644Z
UID:2355-1608638400-1608642000@springfieldexchangeclub.org
SUMMARY:Exchange Club Will Not Meet Due to the Christmas Holiday
DESCRIPTION:The Exchange Club of Springfield will not meet due to the Christmas Holiday. \nMerry Christmas!
URL:https://springfieldexchangeclub.org/event/exchange-club-christmas-and-charter-anniversary-party/
LOCATION:OH
CATEGORIES:Meetings
END:VEVENT
BEGIN:VEVENT
DTSTART;TZID=UTC:20201208T180000
DTEND;TZID=UTC:20201208T190000
DTSTAMP:20260424T001622
CREATED:20201005T115237Z
LAST-MODIFIED:20201204T001751Z
UID:2353-1607450400-1607454000@springfieldexchangeclub.org
SUMMARY:Virtual Exchange Club Meeting
DESCRIPTION:The Exchange Club of Springfield will meet Virtually via Webex at 6 PM.  Our Guest Speaker will be Col. Kim Fitzgerald\, Commander\, 178th Wing\, Ohio Air National Guard\, about the club’s Adopt-A-Military Family Project.
URL:https://springfieldexchangeclub.org/event/exchange-club-meeting-8/
LOCATION:OH
CATEGORIES:Meetings
END:VEVENT
BEGIN:VEVENT
DTSTART;TZID=UTC:20201124T180000
DTEND;TZID=UTC:20201124T190000
DTSTAMP:20260424T001622
CREATED:20201005T115017Z
LAST-MODIFIED:20201029T102522Z
UID:2351-1606240800-1606244400@springfieldexchangeclub.org
SUMMARY:Exchange Club Meeting
DESCRIPTION:The Exchange Club of Springfield will meet via Webex at 6 PM. Our Guest Speaker will be Leanne Castillo from CC National Trails Parks and Recreation Department.
URL:https://springfieldexchangeclub.org/event/exchange-club-meeting-7/
LOCATION:OH
CATEGORIES:Meetings
END:VEVENT
BEGIN:VEVENT
DTSTART;TZID=UTC:20201110T180000
DTEND;TZID=UTC:20201110T190000
DTSTAMP:20260424T001622
CREATED:20201005T114915Z
LAST-MODIFIED:20201029T102343Z
UID:2349-1605031200-1605034800@springfieldexchangeclub.org
SUMMARY:Exchange Club Meeting
DESCRIPTION:The Exchange Club of Springfield will meet virtually via Webex at 6 PM.  Our Guest Speaker will be Abbey Easton from CASA.
URL:https://springfieldexchangeclub.org/event/exchange-club-meeting-6/
LOCATION:OH
CATEGORIES:Meetings
END:VEVENT
BEGIN:VEVENT
DTSTART;TZID=UTC:20201027T180000
DTEND;TZID=UTC:20201027T190000
DTSTAMP:20260424T001622
CREATED:20200822T132230Z
LAST-MODIFIED:20201024T232926Z
UID:2313-1603821600-1603825200@springfieldexchangeclub.org
SUMMARY:Exchange Club Virtual Meeting
DESCRIPTION:  \nThe Exchange Club of Springfield will meet virtually via Webex Tuesday October 27\, 2020 at 6:00 PM. Guest Speaker will be Leann Castillo\, Director of National Trails Parks and Recreation.
URL:https://springfieldexchangeclub.org/event/club-meeting-5/
LOCATION:OH
CATEGORIES:Meetings
END:VEVENT
BEGIN:VEVENT
DTSTART;TZID=UTC:20201013T120000
DTEND;TZID=UTC:20201013T120000
DTSTAMP:20260424T001622
CREATED:20200822T131116Z
LAST-MODIFIED:20201005T120508Z
UID:2306-1602590400-1602590400@springfieldexchangeclub.org
SUMMARY:Exchange Club Meeting
DESCRIPTION:October is Crime Prevention Month. \nThe Exchange Club of Springfield will have a club meeting Tuesday October 13\, 2020\, at Noon.  Our Guest Speaker(s) will be from Oesterlen Services for Youth\, Inc. We will meet in person at the CC Title Department Branch\, 1607 Selma Road\, Springfield\, Ohio
URL:https://springfieldexchangeclub.org/event/exchange-club-meeting-4/
LOCATION:OH
CATEGORIES:Meetings
END:VEVENT
BEGIN:VEVENT
DTSTART;TZID=UTC:20200922T180000
DTEND;TZID=UTC:20200922T190000
DTSTAMP:20260424T001622
CREATED:20200822T130811Z
LAST-MODIFIED:20200822T130811Z
UID:2304-1600797600-1600801200@springfieldexchangeclub.org
SUMMARY:Exchange Club Virtual Meeting
DESCRIPTION:September is Baby Safety Month. \nThe Exchange Club of Springfield will have a virtual club meeting Tuesday September 22\, 2020.  Guest Speaker TBD.
URL:https://springfieldexchangeclub.org/event/exchange-club-virtual-meeting/
LOCATION:OH
CATEGORIES:Meetings
END:VEVENT
BEGIN:VEVENT
DTSTART;TZID=UTC:20200908T180000
DTEND;TZID=UTC:20200908T190000
DTSTAMP:20260424T001622
CREATED:20200822T130659Z
LAST-MODIFIED:20200822T130659Z
UID:2302-1599588000-1599591600@springfieldexchangeclub.org
SUMMARY:Exchange Virtual Meeting
DESCRIPTION:September is Baby Safety Month. \nThe Exchange Club of Springfield will have a virtual club meeting Tuesday September 8\, 2020.  Guest Speaker TBD.
URL:https://springfieldexchangeclub.org/event/exchange-virtual-meeting/
LOCATION:OH
CATEGORIES:Meetings
END:VEVENT
BEGIN:VEVENT
DTSTART;TZID=UTC:20200825T180000
DTEND;TZID=UTC:20200825T190000
DTSTAMP:20260424T001622
CREATED:20200804T131623Z
LAST-MODIFIED:20200822T130232Z
UID:2288-1598378400-1598382000@springfieldexchangeclub.org
SUMMARY:Virtual Club Meeting
DESCRIPTION:The Exchange Club of Springfield will meet via Webex Tuesday August 25\, 2020 at 6PM. Guest Speaker will be Carlisa Parker\, Director of the Clark County Child Advocacy Center.
URL:https://springfieldexchangeclub.org/event/virtual-club-meeting-2/
LOCATION:OH
CATEGORIES:Meetings
END:VEVENT
BEGIN:VEVENT
DTSTART;TZID=UTC:20200811T180000
DTEND;TZID=UTC:20200811T190000
DTSTAMP:20260424T001622
CREATED:20200804T131521Z
LAST-MODIFIED:20200804T131521Z
UID:2286-1597168800-1597172400@springfieldexchangeclub.org
SUMMARY:Virtual Club Meeting
DESCRIPTION:The Exchange Club of Springfield will meet via Webex Tuesday August 11\, 2020 at 6PM. Guest Speaker TBD.
URL:https://springfieldexchangeclub.org/event/virtual-club-meeting/
LOCATION:OH
CATEGORIES:Meetings
END:VEVENT
END:VCALENDAR