BEGIN:VCALENDAR
VERSION:2.0
PRODID:-//Springfield Exchange Club - ECPv6.15.18//NONSGML v1.0//EN
CALSCALE:GREGORIAN
METHOD:PUBLISH
X-ORIGINAL-URL:https://springfieldexchangeclub.org
X-WR-CALDESC:Events for Springfield Exchange Club
REFRESH-INTERVAL;VALUE=DURATION:PT1H
X-Robots-Tag:noindex
X-PUBLISHED-TTL:PT1H
BEGIN:VTIMEZONE
TZID:UTC
BEGIN:STANDARD
TZOFFSETFROM:+0000
TZOFFSETTO:+0000
TZNAME:UTC
DTSTART:20250101T000000
END:STANDARD
END:VTIMEZONE
BEGIN:VEVENT
DTSTART;TZID=UTC:20260217T180000
DTEND;TZID=UTC:20260217T200000
DTSTAMP:20260424T012927
CREATED:20251027T155114Z
LAST-MODIFIED:20251027T155114Z
UID:11563-1771351200-1771358400@springfieldexchangeclub.org
SUMMARY:Springfield Exchange Club Fellowship Event
DESCRIPTION:The Exchange Club of Springfield\, Ohio will meet for fun and fellowship at a location TBD.
URL:https://springfieldexchangeclub.org/event/springfield-exchange-club-fellowship-event/
LOCATION:OH
CATEGORIES:Special Event
END:VEVENT
END:VCALENDAR