BEGIN:VCALENDAR
VERSION:2.0
PRODID:-//Springfield Exchange Club - ECPv6.15.18//NONSGML v1.0//EN
CALSCALE:GREGORIAN
METHOD:PUBLISH
X-ORIGINAL-URL:https://springfieldexchangeclub.org
X-WR-CALDESC:Events for Springfield Exchange Club
REFRESH-INTERVAL;VALUE=DURATION:PT1H
X-Robots-Tag:noindex
X-PUBLISHED-TTL:PT1H
BEGIN:VTIMEZONE
TZID:UTC
BEGIN:STANDARD
TZOFFSETFROM:+0000
TZOFFSETTO:+0000
TZNAME:UTC
DTSTART:20220101T000000
END:STANDARD
END:VTIMEZONE
BEGIN:VEVENT
DTSTART;TZID=UTC:20230718T180000
DTEND;TZID=UTC:20230718T200000
DTSTAMP:20260426T035908
CREATED:20230707T173930Z
LAST-MODIFIED:20230707T173930Z
UID:7818-1689703200-1689710400@springfieldexchangeclub.org
SUMMARY:Exchange Club Officer and Director Installation Dinner
DESCRIPTION:The Exchange Club of Springfield\, Ohio will meet Tuesday July 18\, 2023\, 6 PM\, at the Shouvlin Center for its 2023-24 Officer and Director Installation Dinner.
URL:https://springfieldexchangeclub.org/event/exchange-club-officer-and-director-installation-dinner/
LOCATION:Shouvlin Center\, 737 N. Fountain Avenue\, Springfield\, OH\, 45502\, United States
CATEGORIES:Special Event
END:VEVENT
END:VCALENDAR