BEGIN:VCALENDAR
VERSION:2.0
PRODID:-//Springfield Exchange Club - ECPv6.15.18//NONSGML v1.0//EN
CALSCALE:GREGORIAN
METHOD:PUBLISH
X-ORIGINAL-URL:https://springfieldexchangeclub.org
X-WR-CALDESC:Events for Springfield Exchange Club
REFRESH-INTERVAL;VALUE=DURATION:PT1H
X-Robots-Tag:noindex
X-PUBLISHED-TTL:PT1H
BEGIN:VTIMEZONE
TZID:UTC
BEGIN:STANDARD
TZOFFSETFROM:+0000
TZOFFSETTO:+0000
TZNAME:UTC
DTSTART:20230101T000000
END:STANDARD
END:VTIMEZONE
BEGIN:VEVENT
DTSTART;TZID=UTC:20240327T080000
DTEND;TZID=UTC:20240327T093000
DTSTAMP:20260425T150237
CREATED:20231218T163054Z
LAST-MODIFIED:20231218T163722Z
UID:8405-1711526400-1711531800@springfieldexchangeclub.org
SUMMARY:National Exchange Club's 113th Anniversary!
DESCRIPTION:The National Exchange Club celebrates the 113th Anniversary of its Charter in Detroit\, Michigan.
URL:https://springfieldexchangeclub.org/event/national-exchange-clubs-113th-anniversary/
LOCATION:OH
CATEGORIES:Special Event
END:VEVENT
END:VCALENDAR