BEGIN:VCALENDAR
VERSION:2.0
PRODID:-//Springfield Exchange Club - ECPv6.15.18//NONSGML v1.0//EN
CALSCALE:GREGORIAN
METHOD:PUBLISH
X-ORIGINAL-URL:https://springfieldexchangeclub.org
X-WR-CALDESC:Events for Springfield Exchange Club
REFRESH-INTERVAL;VALUE=DURATION:PT1H
X-Robots-Tag:noindex
X-PUBLISHED-TTL:PT1H
BEGIN:VTIMEZONE
TZID:UTC
BEGIN:STANDARD
TZOFFSETFROM:+0000
TZOFFSETTO:+0000
TZNAME:UTC
DTSTART:20240101T000000
END:STANDARD
END:VTIMEZONE
BEGIN:VEVENT
DTSTART;TZID=UTC:20251025T090000
DTEND;TZID=UTC:20251025T103000
DTSTAMP:20260424T090511
CREATED:20250827T161035Z
LAST-MODIFIED:20250827T161035Z
UID:11247-1761382800-1761388200@springfieldexchangeclub.org
SUMMARY:Exchange National Day of Service
DESCRIPTION:The Exchange Club of Springfield will observe the National Day of Service with the Adopt A Highway cleanup of Tuttle Road.
URL:https://springfieldexchangeclub.org/event/exchange-national-day-of-service/
LOCATION:Tuttle Road Clean up\, 3430 East National Road\, Springfield\, 45505\, United States
CATEGORIES:Special Event
END:VEVENT
END:VCALENDAR