BEGIN:VCALENDAR
VERSION:2.0
PRODID:-//Springfield Exchange Club - ECPv6.15.18//NONSGML v1.0//EN
CALSCALE:GREGORIAN
METHOD:PUBLISH
X-WR-CALNAME:Springfield Exchange Club
X-ORIGINAL-URL:https://springfieldexchangeclub.org
X-WR-CALDESC:Events for Springfield Exchange Club
REFRESH-INTERVAL;VALUE=DURATION:PT1H
X-Robots-Tag:noindex
X-PUBLISHED-TTL:PT1H
BEGIN:VTIMEZONE
TZID:UTC
BEGIN:STANDARD
TZOFFSETFROM:+0000
TZOFFSETTO:+0000
TZNAME:UTC
DTSTART:20240101T000000
END:STANDARD
END:VTIMEZONE
BEGIN:VEVENT
DTSTART;TZID=UTC:20251108T080000
DTEND;TZID=UTC:20251108T153000
DTSTAMP:20260424T072835
CREATED:20250827T154813Z
LAST-MODIFIED:20250827T154813Z
UID:11240-1762588800-1762615800@springfieldexchangeclub.org
SUMMARY:National Exchange Club Region Seven Summit
DESCRIPTION:The Ohio-West Virginia\, Michigan\, and Indiana Districts will hold their 2025 Region Seven Summit in Michigan.
URL:https://springfieldexchangeclub.org/event/national-exchange-club-region-seven-summit/
LOCATION:OH
CATEGORIES:Special Event
END:VEVENT
END:VCALENDAR