BEGIN:VCALENDAR
VERSION:2.0
PRODID:-//Springfield Exchange Club - ECPv6.15.18//NONSGML v1.0//EN
CALSCALE:GREGORIAN
METHOD:PUBLISH
X-ORIGINAL-URL:https://springfieldexchangeclub.org
X-WR-CALDESC:Events for Springfield Exchange Club
REFRESH-INTERVAL;VALUE=DURATION:PT1H
X-Robots-Tag:noindex
X-PUBLISHED-TTL:PT1H
BEGIN:VTIMEZONE
TZID:UTC
BEGIN:STANDARD
TZOFFSETFROM:+0000
TZOFFSETTO:+0000
TZNAME:UTC
DTSTART:20250101T000000
END:STANDARD
END:VTIMEZONE
BEGIN:VEVENT
DTSTART;TZID=UTC:20260417T133000
DTEND;TZID=UTC:20260417T140000
DTSTAMP:20260423T234929
CREATED:20260406T150225Z
LAST-MODIFIED:20260406T150225Z
UID:12318-1776432600-1776434400@springfieldexchangeclub.org
SUMMARY:Dedication of Freedom Shrine - The Heritage Center of Clark County\, Ohio
DESCRIPTION:The Exchange Club of Springfield\, Ohio\, will dedicate a National Exchange Club Freedom Shrine Friday April 17th\, 2026 at 1:30 PM at the Heritage Center of Clark County\, Ohio\, as part of Celebration 250 honoring the 250th anniversary of our nation. \nThe Freedom Shrine® is a collection of 29 original historic American documents photographically reproduced and attractively displayed in thousands of locations across the nation. The Freedom Shrine’s purpose is to remind all Americans that the freedoms which they enjoy today are\, in essence\,  a gift from the past-the product of the idealism\, determination\, and sacrifice of vast numbers of courageous men and women who preceded us. The Shrine also serves to remind all of us that so precious a gift as freedom must be continually guarded and protected.
URL:https://springfieldexchangeclub.org/event/dedication-of-freedom-shrine-the-heritage-center-of-clark-county-ohio/
LOCATION:The Heritage Center of Clark County\, Ohio\, 117 S Fountain Ave\, Springfield\, OH\, 45502\, United States
CATEGORIES:Special Event
END:VEVENT
END:VCALENDAR