BEGIN:VCALENDAR
VERSION:2.0
PRODID:-//Springfield Exchange Club - ECPv6.15.18//NONSGML v1.0//EN
CALSCALE:GREGORIAN
METHOD:PUBLISH
X-ORIGINAL-URL:https://springfieldexchangeclub.org
X-WR-CALDESC:Events for Springfield Exchange Club
REFRESH-INTERVAL;VALUE=DURATION:PT1H
X-Robots-Tag:noindex
X-PUBLISHED-TTL:PT1H
BEGIN:VTIMEZONE
TZID:UTC
BEGIN:STANDARD
TZOFFSETFROM:+0000
TZOFFSETTO:+0000
TZNAME:UTC
DTSTART:20250101T000000
END:STANDARD
END:VTIMEZONE
BEGIN:VEVENT
DTSTART;TZID=UTC:20260516T080000
DTEND;TZID=UTC:20260516T200000
DTSTAMP:20260423T235711
CREATED:20251027T160836Z
LAST-MODIFIED:20251027T163100Z
UID:11581-1778918400-1778961600@springfieldexchangeclub.org
SUMMARY:Ohio-West Virginia District Convention
DESCRIPTION:The Ohio-West Virginia District will hold its annual convention in Perrysburg\, Ohio on Saturday.
URL:https://springfieldexchangeclub.org/event/ohio-west-virginia-district-convention-4/
LOCATION:Hilton Garden Inn\, 6165 Levis Commons Blvd. Perrysburg\, Ohio
CATEGORIES:Special Event
END:VEVENT
BEGIN:VEVENT
DTSTART;TZID=UTC:20260616T180000
DTEND;TZID=UTC:20260616T200000
DTSTAMP:20260423T235711
CREATED:20251027T161622Z
LAST-MODIFIED:20251027T162956Z
UID:11589-1781632800-1781640000@springfieldexchangeclub.org
SUMMARY:Springfield Exchange Club Officer and Director Installation Banquet
DESCRIPTION:The Exchange Club of Springfield\, Ohio will meet at 6 PM in room 105 for their annual Officers and Directors Installation Banquet.
URL:https://springfieldexchangeclub.org/event/springfield-exchange-club-officer-and-director-installation-banquet/
LOCATION:Shouvlin Center\, 737 N. Fountain Avenue\, Springfield\, OH\, 45502\, United States
CATEGORIES:Special Event
END:VEVENT
END:VCALENDAR