BEGIN:VCALENDAR
VERSION:2.0
PRODID:-//Springfield Exchange Club - ECPv6.15.18//NONSGML v1.0//EN
CALSCALE:GREGORIAN
METHOD:PUBLISH
X-ORIGINAL-URL:https://springfieldexchangeclub.org
X-WR-CALDESC:Events for Springfield Exchange Club
REFRESH-INTERVAL;VALUE=DURATION:PT1H
X-Robots-Tag:noindex
X-PUBLISHED-TTL:PT1H
BEGIN:VTIMEZONE
TZID:UTC
BEGIN:STANDARD
TZOFFSETFROM:+0000
TZOFFSETTO:+0000
TZNAME:UTC
DTSTART:20170101T000000
END:STANDARD
END:VTIMEZONE
BEGIN:VEVENT
DTSTART;TZID=UTC:20200422T173000
DTEND;TZID=UTC:20200422T220000
DTSTAMP:20260424T184925
CREATED:20200126T224838Z
LAST-MODIFIED:20200126T225124Z
UID:2151-1587576600-1587592800@springfieldexchangeclub.org
SUMMARY:Blues\, Brews\, and Barbecues Fund Raiser
DESCRIPTION:The Exchange Club of Springfield will host a club fundraiser at Mother Stewarts Brewery in the evening.
URL:https://springfieldexchangeclub.org/event/blues-brews-and-barbecues-fund-raiser/
LOCATION:Mother Stewarts Brewery\, 109 W. North Street\, Springfield\, OH\, 45502\, United States
CATEGORIES:Special Event
END:VEVENT
BEGIN:VEVENT
DTSTART;TZID=UTC:20200421T173000
DTEND;TZID=UTC:20200421T190000
DTSTAMP:20260424T184925
CREATED:20200126T224005Z
LAST-MODIFIED:20200126T224137Z
UID:2146-1587490200-1587495600@springfieldexchangeclub.org
SUMMARY:Book of Golden Deeds
DESCRIPTION:The Exchange Club of Springfield will honor the recipient of the Book of Golden Deeds for 2020.
URL:https://springfieldexchangeclub.org/event/book-of-golden-deeds/
LOCATION:Wittenberg Student Center\, 734 Woodlawn\, Springfield\, 45504\, United States
CATEGORIES:Special Event
END:VEVENT
BEGIN:VEVENT
DTSTART;VALUE=DATE:20200327
DTEND;VALUE=DATE:20200328
DTSTAMP:20260424T184925
CREATED:20200126T230049Z
LAST-MODIFIED:20200302T232623Z
UID:2154-1585267200-1585353599@springfieldexchangeclub.org
SUMMARY:National Exchange Club 108th Anniversary
DESCRIPTION:Happy Birthday to the National Exchange Club today!  With hundreds of clubs and thousands of members across the United States and Puerto Rico\, the Exchange club members\,  Inspire their communities to be better places to live.
URL:https://springfieldexchangeclub.org/event/national-exchange-club-109th-anniversary/
LOCATION:OH
CATEGORIES:Special Event
END:VEVENT
BEGIN:VEVENT
DTSTART;TZID=UTC:20200324T120000
DTEND;TZID=UTC:20200324T130000
DTSTAMP:20260424T184925
CREATED:20200302T233750Z
LAST-MODIFIED:20200302T233750Z
UID:2173-1585051200-1585054800@springfieldexchangeclub.org
SUMMARY:Youth of the Year and A.C.E Award Luncheon
DESCRIPTION:The Exchange Club of Springfield selected Kyle Ewing from CCHS as Youth of the Year recipient of the $1\,000 college scholarship. Logan Myer from CTC was selected as 1st Honorable Mention and will receive a $500 scholarship\, and Kyla Tuttle from Southeastern will receive a $250 college scholarship for 2nd Honorable Mention. \nEmily Ware was selected for the A.C.E. Award and a $ 1\,000 scholarship. \nA National Exchange Club Program since 1948\, and one of the most popular Exchange youth projects\, the Youth of the Month/Year Award recognizes hard-working high school students who attain high levels of scholastic achievement\, community involvement\, and leadership. This proven program not only rewards outstanding young people\, but also provides an incentive for other youngsters to strive for equally high levels of achievement. \nA National Exchange Club Program since 1992\,  the Accepting the Challenge of Excellence Program recognizes high school students who have made a dramatic change in their attitude and performance during their high school years or have overcome other serious physical or emotional adversities during their high school years.
URL:https://springfieldexchangeclub.org/event/youth-of-the-year-and-a-c-e-award-luncheon/
LOCATION:Wittenberg Student Center\, 734 Woodlawn\, Springfield\, 45504\, United States
CATEGORIES:Special Event
END:VEVENT
BEGIN:VEVENT
DTSTART;VALUE=DATE:20191215
DTEND;VALUE=DATE:20191216
DTSTAMP:20260424T184925
CREATED:20190921T105126Z
LAST-MODIFIED:20190921T105126Z
UID:2036-1576368000-1576454399@springfieldexchangeclub.org
SUMMARY:Exchange Club of Springfield Charter Anniversary 1921
DESCRIPTION:The Exchange Club of Springfield will celebrate its 98th Anniversary of its Charter from the National Exchange Club today.
URL:https://springfieldexchangeclub.org/event/exchange-club-of-springfield-charter-anniversary-1921/
LOCATION:OH
CATEGORIES:Special Event
END:VEVENT
BEGIN:VEVENT
DTSTART;TZID=UTC:20191104T110000
DTEND;TZID=UTC:20191104T130000
DTSTAMP:20260424T184925
CREATED:20191022T200400Z
LAST-MODIFIED:20191022T200400Z
UID:2070-1572865200-1572872400@springfieldexchangeclub.org
SUMMARY:Joint Service Club Meeting with Kiwanis and Rotary
DESCRIPTION:The Exchange Club of Springfield will join the Rotary and Kiwanis Clubs for lunch and a tour of the new Wittenberg University Athletic building from 11:00 AM to 1:00 PM.
URL:https://springfieldexchangeclub.org/event/joint-service-club-meeting-with-kiwanis-and-rotary/
LOCATION:Wittenberg Athletic Center\, 250 Bill Edwards Drive\, Springfield\, OH\, 45504\, United States
CATEGORIES:Special Event
END:VEVENT
BEGIN:VEVENT
DTSTART;TZID=UTC:20191101T160000
DTEND;TZID=UTC:20191102T153000
DTSTAMP:20260424T184925
CREATED:20190921T102357Z
LAST-MODIFIED:20190921T102839Z
UID:2023-1572624000-1572708600@springfieldexchangeclub.org
SUMMARY:Region 7 National Exchange Club Summit
DESCRIPTION:The Exchange Clubs of Region 7 of the National Exchange Club will hold its regularly scheduled Region Summit for the Ohio-West Virginia\, the Michigan\, and the Indiana District Exchange Clubs in Ft. Wayne\, Indiana on Friday and Saturday November 1st and 2nd\, 2019 in Don Hall’s Guest House Hotel\, 1313 W. Washington Center Road Fort Wayne\, IN 46825. \nThere will be District Board of Directors Meetings Friday November 1\, 2019\, from 4 PM to 6:00 PM.  The Summit will be held from 9:00 AM to 3:30 PM\, Saturday November 2\, 2019.  Topics will include Projects for the Prevention of Child Abuse\, Recruiting for Understrength Clubs\, Club Member Retention\, Leadership Development\, Partnering with the Veterans Matter Organization\, Public Relations\, and the Role of the District Director.  Cost is $20 per person\, which includes lunch.  Registration details will be available soon. \nCall the Don Hall’s Guest House Hotel\, (260) 489-2524\, by October 4\, 2019 to reserve a room at the National Exchange Club negotiated rate of $ 109.00 per night.  Pet friendly\, dogs\, for an additional $20.00.
URL:https://springfieldexchangeclub.org/event/region-7-national-exchange-club-summit/
LOCATION:Don Hall’s Guest House\, 1313 W. Washington Center Road\, Fort Wayne\, IN\, 46825\, United States
CATEGORIES:Special Event
END:VEVENT
BEGIN:VEVENT
DTSTART;TZID=UTC:20191026T090000
DTEND;TZID=UTC:20191026T103000
DTSTAMP:20260424T184925
CREATED:20190921T094823Z
LAST-MODIFIED:20190921T103449Z
UID:2017-1572080400-1572085800@springfieldexchangeclub.org
SUMMARY:National Day of Exchange Community Service
DESCRIPTION:The Exchange Club of Springfield will hold its National Day of Community Service scheduled for 9:00 AM to 10:30 AM\, Saturday October 26\, 2019\, Tuttle Road Adopt-A-Highway cleanup\, meeting at the corner of Tuttle Road and US 40 East.  Brunch and Fellowship will occur at Bob Evans immediately after the completion of the cleanup.  Materials such as trash bags\, gloves\, etc. will be provided.
URL:https://springfieldexchangeclub.org/event/board-of-directors-meeting-9/
LOCATION:Tuttle Road Clean up\, 3430 East National Road\, Springfield\, 45505\, United States
CATEGORIES:Special Event
END:VEVENT
BEGIN:VEVENT
DTSTART;TZID=UTC:20190907T090000
DTEND;TZID=UTC:20190907T130000
DTSTAMP:20260424T184925
CREATED:20190903T143322Z
LAST-MODIFIED:20190903T143445Z
UID:2001-1567846800-1567861200@springfieldexchangeclub.org
SUMMARY:United Way Community Challenge
DESCRIPTION:The Exchange Club of Springfield will meet at Snyder Park and assist with the Children’s Area for the United Way Community Challenge.
URL:https://springfieldexchangeclub.org/event/united-way-community-challenge/
LOCATION:Snyder Park\, Park Street\, Springfield\, OH\, 45504\, United States
CATEGORIES:Special Event
END:VEVENT
BEGIN:VEVENT
DTSTART;TZID=UTC:20190806T173000
DTEND;TZID=UTC:20190806T203000
DTSTAMP:20260424T184925
CREATED:20190729T132725Z
LAST-MODIFIED:20190729T132800Z
UID:1963-1565112600-1565123400@springfieldexchangeclub.org
SUMMARY:Exchange at National Night Out Event
DESCRIPTION:The Exchange Club of Springfield will meet at Snyder Park near the Tennis Courts from 5:30 PM to 8:30 PM for National Night Out\, where at our booth we will distribute information about Child Abuse Prevention\, Cyber Bullying\, and other information.
URL:https://springfieldexchangeclub.org/event/exchange-at-national-night-out-event/
LOCATION:Snyder Park\, Park Street\, Springfield\, OH\, 45504\, United States
CATEGORIES:Special Event
END:VEVENT
BEGIN:VEVENT
DTSTART;TZID=UTC:20190724T130000
DTEND;TZID=UTC:20190724T143000
DTSTAMP:20260424T184925
CREATED:20190610T090148Z
LAST-MODIFIED:20190610T090148Z
UID:1917-1563973200-1563978600@springfieldexchangeclub.org
SUMMARY:Kid's Day at the Clark County Fair
DESCRIPTION:The club will sponsor for the 50th time\, Kid’s Day at the Fair” during Youth Day on Wednesday July 24\, 2019!  Come out at 1 PM to the racetrack for Old Fashioned Games\, Fun\, and Prizes!
URL:https://springfieldexchangeclub.org/event/kids-day-at-the-clark-county-fair/
LOCATION:Clark County Fairgrounds\, 4401 S. Charleston Road\, Springfield\, OH\, 44502\, United States
CATEGORIES:Special Event
END:VEVENT
BEGIN:VEVENT
DTSTART;TZID=UTC:20190527T080000
DTEND;TZID=UTC:20190527T113000
DTSTAMP:20260424T184925
CREATED:20190403T003335Z
LAST-MODIFIED:20190403T003722Z
UID:1841-1558944000-1558956600@springfieldexchangeclub.org
SUMMARY:Memorial Day Parade
DESCRIPTION:We will meet for Project Give A Kid A Flag To Wave and distribute 6\,000 US flags for the Memorial Day Parade on Monday May 27\, 2019
URL:https://springfieldexchangeclub.org/event/memorial-day-parade/
LOCATION:OH
CATEGORIES:Special Event
END:VEVENT
BEGIN:VEVENT
DTSTART;TZID=UTC:20190514T173000
DTEND;TZID=UTC:20190514T193000
DTSTAMP:20260424T184925
CREATED:20190403T002829Z
LAST-MODIFIED:20190514T185237Z
UID:1837-1557855000-1557862200@springfieldexchangeclub.org
SUMMARY:Book of Golden Deeds Banquet
DESCRIPTION:The Exchange Club of Springfield will present to William Ray of OIC\, the Book of Golden Deeds Award at the May 14\, 2019 evening meeting of the Club\, 5:30 PM\, Wittenberg Student Center Alumni Room. \nVolunteer efforts are very important to our society and should not go unnoticed. The National Exchange Club’s longest running project\, the Book of Golden Deeds Award\, recognizes dedicated volunteers who give endless hours of their time and talents toward making their communities better places to live. Ever since the Exchange Club of Huntington\, Ind.\, sponsored the first award in 1919\, thousands of unsung heroes and heroines have been recognized.  The Book of Golden Deeds Award exemplifies The National Exchange Club’s beliefs. \nThe Exchange Club of Springfield\, Ohio\, was chartered by the National Exchange Club in December of 1921.  Since then\, the club has promoted Americanism\, Community Service\, Youth\, and the Prevention of Child Abuse through many programs\, and donated many thousands of dollars to support those organizations and institutions that forward the mission of Exchange.  \nWilliam Ray \nWilliam (Bill) Ray has provided leadership and guidance for over a 25 year history with Opportunities for Individual Change (OIC).  Under his leadership\, OIC became the Community Action Agency for Clark County.  Bill has made arrangements to work around his personal vacations and made special accommodations to be present at OIC’s Board meetings providing leadership for the organization’s Learning Opportunities Center (Alternative High School)\, which serves at risk or already dropped out of school.  While these kids are not part of sports teams\, band or clubs\, Bill ensures that these students are part of “family” with goals that are within reach.  His guidance provides extremely helpful insight for our Energy Assistance Program which helps keep the utilities on for low income elderly and families with small children.  His time\, effort and expertise is an integral part in OIC’s program assisting men and women\, recently released from incarceration\, quickly move into services to assist in their reintegration into the community as productive citizens. \n 
URL:https://springfieldexchangeclub.org/event/springfield-membership-meeting-24/
LOCATION:Wittenberg Student Center\, 734 Woodlawn\, Springfield\, 45504\, United States
CATEGORIES:Special Event
END:VEVENT
BEGIN:VEVENT
DTSTART;TZID=UTC:20190506T113000
DTEND;TZID=UTC:20190506T130000
DTSTAMP:20260424T184925
CREATED:20190403T002535Z
LAST-MODIFIED:20190403T002601Z
UID:1835-1557142200-1557147600@springfieldexchangeclub.org
SUMMARY:Armed Forces Day Luncheon
DESCRIPTION:The Exchange Club of Springfield members have the opportunity to meet at the Hollenbeck-Bailey Creative Arts and Convention Center on the campus of Clark State Community College at 11:30 AM for Armed Forces Day sponsored by the Miami Valley Military Affairs Committee\, the Rotary Club\, the Kiwanis Club\, and the Exchange Club of Springfield.
URL:https://springfieldexchangeclub.org/event/armed-forces-day-luncheon-2/
LOCATION:Hollenbeck-Bayley Creative Arts and Convention Center\, 275 South Limestone Street\, Springfield Ohio\, 45504\, United States
CATEGORIES:Special Event
END:VEVENT
BEGIN:VEVENT
DTSTART;TZID=UTC:20190416T120000
DTEND;TZID=UTC:20190416T130000
DTSTAMP:20260424T184925
CREATED:20190309T172055Z
LAST-MODIFIED:20190309T172055Z
UID:1778-1555416000-1555419600@springfieldexchangeclub.org
SUMMARY:Proudly We Hail Project honors county businesses
DESCRIPTION:The Exchange Club of Springfield will present the Proudly We Hail Award to Ritchie Bros. Auctioneers of South Vienna and Jackson Lytle Lewis Life Celebration Center of Springfield at the Noon meeting Tuesday April 16\, 2019 at the Wittenberg Student Center. \nNo symbol inspires respect and love of country more than our American flag — the Stars and Stripes. That is why Exchange encourages all Americans to properly fly the flag as an ongoing\, highly visible expression of that respect through the Proudly We Hail program. Proudly We Hail honors those Americans who display the nation’s banner properly and regularly. Recognition is in the form of a beautiful plaque specially designed for this purpose. \nExchange is a national network made up of some 700 clubs and 20\,000 members.  Exchange members serve their community through projects related to our four Programs of Service: Youth\, Community Service\, Americanism\, and the National Project; The Prevention of Child Abuse
URL:https://springfieldexchangeclub.org/event/proudly-we-hail-project-honors-county-businesses/
LOCATION:Wittenberg Student Center\, 734 Woodlawn\, Springfield\, 45504\, United States
CATEGORIES:Meetings,Special Event
END:VEVENT
BEGIN:VEVENT
DTSTART;TZID=UTC:20190411T080000
DTEND;TZID=UTC:20190411T120000
DTSTAMP:20260424T184925
CREATED:20190322T162140Z
LAST-MODIFIED:20190322T162140Z
UID:1811-1554969600-1554984000@springfieldexchangeclub.org
SUMMARY:Rediscovering the Beauty Within Breakfast with Sasha Joseph Neulinger
DESCRIPTION:The Exchange Club of Springfield\, Ohio\, in conjunction with the CC Child Advocacy Center and the CC Dept. of Job and Family Services present – Sasha Joseph Neulinger–  Providing Hope and Inspiration for the Survivors of Sexual Abuse and the Organizations\, Centers\, and Agencies that work to serve them. \nAt just four years old\, Sasha endured abuse from three separate family members over a four year period.  He lived a life framed by film\, his father a filmmaker\, and Sasha an actor from a young age.  It was also through film\, watching home video\, that he began to heal from the trauma of his past.  As Sasha watched himself as a child\, in proximity to his abusers\, he saw his own innocence and helplessness with terrible clarity. Seeing those unsettling video clips gifted Sasha some validation\, a reminder that he had nothing to do with what his abusers chose to do with him—but that he had everything to do with the strength and resilience it required to stand up in public and prosecute them for their crimes. \nSasha Joseph Neulinger shares his autobiographical story about surviving multigenerational child sexual abuse.  His presentation covers the abuse\, family dynamics\, childhood therapy\, the prosecution process\, and how he got to where he currently is today. Now a filmmaker himself\, Sasha recently completed his first feature length documentary\, “Rewind\,” which is an autobiographical film about his life surviving multigenerational child sexual abuse.
URL:https://springfieldexchangeclub.org/event/rediscovering-the-beauty-within-breakfast-with-sasha-joseph-neulinger/
LOCATION:Hollenbeck-Bayley Creative Arts and Convention Center\, 275 South Limestone Street\, Springfield Ohio\, 45504\, United States
CATEGORIES:Special Event
END:VEVENT
BEGIN:VEVENT
DTSTART;TZID=UTC:20190406T093000
DTEND;TZID=UTC:20190406T143000
DTSTAMP:20260424T184925
CREATED:20190322T163243Z
LAST-MODIFIED:20190322T163243Z
UID:1813-1554543000-1554561000@springfieldexchangeclub.org
SUMMARY:Excellence in Leadership Workshop Toledo\, Ohio
DESCRIPTION:The Ohio-West Virginia District Exchange Clubs will host a Leadership Workshop in Toledo\, Ohio at the Headquarters of the National Exchange Club from 9:30 AM to 2:30 PM\, Saturday April 6\, 2019.  All Exchangites are welcome to participate in the free event that includes lunch.  Club officers and those interested in becoming club officers should attend. For more information or to make reservations call Russ Finney at 513-314-6891\, or email rfinney16@hotmail.com
URL:https://springfieldexchangeclub.org/event/excellence-in-leadership-workshop-toledo-ohio/
LOCATION:National Exchange Club Headquarters\, 3050 W. Central Avenue\, Toledo\, Ohio\, 43606
CATEGORIES:Special Event
ORGANIZER;CN="Russ Finney":MAILTO:rfinney16@hotmail.com
END:VEVENT
BEGIN:VEVENT
DTSTART;TZID=UTC:20190327T180000
DTEND;TZID=UTC:20190327T200000
DTSTAMP:20260424T184925
CREATED:20190204T154558Z
LAST-MODIFIED:20190204T154558Z
UID:1750-1553709600-1553716800@springfieldexchangeclub.org
SUMMARY:Springfield Exchange Celebrates National Exchange Club 108th Anniversary
DESCRIPTION:The Exchange Club of Springfield will meet at Victory Lanes\, 6 PM\, to celebrate the founding of the first Exchange Club in Detroit\, Michigan\, March 27th\, 1911.
URL:https://springfieldexchangeclub.org/event/springfield-exchange-celebrates-national-exchange-club-108th-anniversary/
LOCATION:Victory Bowling Lanes\, 1906 Commerce Circle\, Springfield\, OH\, 45504\, United States
CATEGORIES:Special Event
END:VEVENT
BEGIN:VEVENT
DTSTART;TZID=UTC:20190316T093000
DTEND;TZID=UTC:20190316T143000
DTSTAMP:20260424T184925
CREATED:20190224T013944Z
LAST-MODIFIED:20190224T014231Z
UID:1768-1552728600-1552746600@springfieldexchangeclub.org
SUMMARY:Ohio-WV District Exchange Clubs Leadership Workshop
DESCRIPTION:The Ohio-West Virginia District Exchange Clubs will host a Leadership Workshop in Mansfield\, Ohio from 9:30 AM to 2:30 PM.  All Exchangites are welcome to the free event that includes lunch.  Club officers and those interested in becoming club officers should attend. For more information\, contact your local Exchange Club.  Make reservations by calling Russ Finney at 513-314-6891 or email rfinney16@hotmail.com
URL:https://springfieldexchangeclub.org/event/ohio-wv-district-exchange-clubs-leadership-workshop/
LOCATION:Parent-Aide Center\, 89 Park Avenue West\, Mansfield\, Ohio
CATEGORIES:Special Event
END:VEVENT
BEGIN:VEVENT
DTSTART;TZID=UTC:20190302T093000
DTEND;TZID=UTC:20190302T143000
DTSTAMP:20260424T184925
CREATED:20190224T012549Z
LAST-MODIFIED:20190224T014034Z
UID:1764-1551519000-1551537000@springfieldexchangeclub.org
SUMMARY:Ohio-West Virginia District Spring Leadership Workshop- West Chester\, Ohio
DESCRIPTION:The Ohio-West Virginia District Exchange Clubs will host a Leadership Workshop in West Chester\, Ohio from 9:30 AM to 2:30 PM.  All Exchangites are welcome to the free event that includes lunch.  Club officers and those interested in becoming club officers should attend. For more information\, contact your local Exchange Club. Make reservations by calling Russ Finney at 513-314-6891 or email rfinney16@hotmail.com
URL:https://springfieldexchangeclub.org/event/ohio-west-virginia-district-spring-leadership-workshop/
LOCATION:Capital Advisory Services\, 8240 Beckett Park Drive\, West Chester\, OH\, 45069\, United States
CATEGORIES:Special Event
END:VEVENT
BEGIN:VEVENT
DTSTART;VALUE=DATE:20181225
DTEND;VALUE=DATE:20181226
DTSTAMP:20260424T184925
CREATED:20181017T151541Z
LAST-MODIFIED:20181017T151541Z
UID:1638-1545696000-1545782399@springfieldexchangeclub.org
SUMMARY:Merry Christmas
DESCRIPTION:The Exchange Club will not meet due to the Christmas Holiday.  Merry and Blessed Christmas!
URL:https://springfieldexchangeclub.org/event/merry-christmas/
LOCATION:OH
CATEGORIES:Special Event
END:VEVENT
BEGIN:VEVENT
DTSTART;VALUE=DATE:20181122
DTEND;VALUE=DATE:20181123
DTSTAMP:20260424T184925
CREATED:20181117T154728Z
LAST-MODIFIED:20181117T154728Z
UID:1678-1542844800-1542931199@springfieldexchangeclub.org
SUMMARY:Happy Thanksgiving from the Exchange Club of Springfield
DESCRIPTION:Happy Thanksgiving from the Exchange Club of Springfield.  We have much to be thankful for.
URL:https://springfieldexchangeclub.org/event/happy-thanksgiving-from-the-exchange-club-of-springfield/
LOCATION:OH
CATEGORIES:Special Event
END:VEVENT
BEGIN:VEVENT
DTSTART;TZID=UTC:20181027T090000
DTEND;TZID=UTC:20181027T113000
DTSTAMP:20260424T184925
CREATED:20180824T173413Z
LAST-MODIFIED:20180824T173413Z
UID:1581-1540630800-1540639800@springfieldexchangeclub.org
SUMMARY:National Day of Service
DESCRIPTION:The Exchange Club of Springfield will participate in the National Day of Service by meeting at the Tuttle Road Rt. 40 East intersection and implementing our Adopt-A-Highway Project once again.
URL:https://springfieldexchangeclub.org/event/national-day-of-service-2/
LOCATION:Tuttle Road Clean up\, 3430 East National Road\, Springfield\, 45505\, United States
CATEGORIES:Special Event
END:VEVENT
BEGIN:VEVENT
DTSTART;TZID=UTC:20180916T130000
DTEND;TZID=UTC:20180916T180000
DTSTAMP:20260424T184925
CREATED:20180826T214720Z
LAST-MODIFIED:20180826T214720Z
UID:1588-1537102800-1537120800@springfieldexchangeclub.org
SUMMARY:Golf Scramble at Locust Hills Golf Course
DESCRIPTION:The Exchange Club fundraiser begins at 1:00 PM in a shotgun start at the beautiful Locust Hills Golf Course. Dinner is also provided and there will be prizes!  Don’t golf?  Just sign up for a terrific dinner!  Sign up at  www.eventregisterpro.com/exchangeclub-1 \nOur 2nd annual golf scramble is sure to produce a slew of birdies and great memories with your foursome\, but most importantly you’ll be supporting the Club’s Foundation so we can continue to support the many organizations in our community that rely on our help. This event is open to the public. Register today!
URL:https://springfieldexchangeclub.org/event/golf-scramble-at-locust-hills-golf-course/
LOCATION:Locust Hills Golf Club\, 5575 North River Road\, Springfield\, OH\, 45502\, United States
CATEGORIES:Special Event
END:VEVENT
BEGIN:VEVENT
DTSTART;TZID=UTC:20180725T080000
DTEND;TZID=UTC:20180725T140000
DTSTAMP:20260424T184925
CREATED:20180615T121136Z
LAST-MODIFIED:20180615T121136Z
UID:1477-1532505600-1532527200@springfieldexchangeclub.org
SUMMARY:Youth Day - Kid's Day at the Clark County Fair
DESCRIPTION:The Exchange Club of Springfield will meet at the Clark County Fair to manage our 50th Annual Kid’s Day at the Fair with fun athletic contests and the G. Lee Thompson Memorial Egg Toss.  Win Cash Prizes and have a lot of fun!
URL:https://springfieldexchangeclub.org/event/youth-day-kids-day-at-the-clark-county-fair/
LOCATION:Clark County Fairgrounds\, 4401 S. Charleston Road\, Springfield\, OH\, 44502\, United States
CATEGORIES:Special Event
END:VEVENT
BEGIN:VEVENT
DTSTART;TZID=UTC:20180626T180000
DTEND;TZID=UTC:20180626T200000
DTSTAMP:20260424T184925
CREATED:20180515T000927Z
LAST-MODIFIED:20180625T125350Z
UID:1442-1530036000-1530043200@springfieldexchangeclub.org
SUMMARY:Installation Banquet
DESCRIPTION:The Exchange Club of Springfield will meet at the Elk’s Lodge # 51\, formerly the Northwood Hills Country Club for the annual Installation Banquet at 6:00 PM\,  Tuesday June 26\, 2018.  District President Beverly Sewell will preside over the Installation of Officers and Directors.
URL:https://springfieldexchangeclub.org/event/springfield-membership-meeting-12/
LOCATION:Elks’s Lodge # 51\, 1536 Villa Road\, Springfield\, OH\, 45504-1507\, United States
CATEGORIES:Club Meeting - Evening,Special Event
END:VEVENT
BEGIN:VEVENT
DTSTART;TZID=UTC:20180612T160000
DTEND;TZID=UTC:20180612T190000
DTSTAMP:20260424T184925
CREATED:20180514T234927Z
LAST-MODIFIED:20180515T000158Z
UID:1431-1528819200-1528830000@springfieldexchangeclub.org
SUMMARY:Springfield Exchange Club volunteers at FYI's annual Safety Day!
DESCRIPTION:The Exchange Club of Springfield will meet Tuesday\, June 12\, 2018 at Tecumseh Local Schools to help FYI with its annual SAFETY DAY! \nSAVE THE DATE: 2018 Safety Day \nDATE: June 12th \nWHEN: 4:00PM – 7:00PM \nWHERE: Tecumseh Local Schools
URL:https://springfieldexchangeclub.org/event/springfield-membership-meeting-10/
LOCATION:Tecumseh Local Schools\, 9760 W. National Road\, New Carlisle\, OH\, 45344\, United States
CATEGORIES:Special Event
END:VEVENT
BEGIN:VEVENT
DTSTART;TZID=UTC:20180602T080000
DTEND;TZID=UTC:20180602T203000
DTSTAMP:20260424T184925
CREATED:20180514T233758Z
LAST-MODIFIED:20180514T233758Z
UID:1423-1527926400-1527971400@springfieldexchangeclub.org
SUMMARY:Ohio-West Virginia District Exchange Clubs Convention
DESCRIPTION:The District Convention will be held on Saturday June 2\, 2018 beginning at 8 AM at the Crowne Plaza Hotel\, Columbus North\, Worthington Ohio. \nCONVENTION SCHEDULE (tentative)\nJune 1-2\, 2018\nCrowne Plaza Columbus North-Worthington\nJune 1\, 2018 Friday\n3:30 District Board meeting\, Crowne Plaza\n4:00-6:00 Registration\, Crowne Plaza\n6:00 Dinner on your own at local restaurants or Crowne Plaza\n8:00-11:00 Hospitality room\, Crowne Plaza\nJune 2\, 2018 Saturday\n7:30 Registration\, Crowne Plaza\n8:00 Opening Ceremonies\, Crowne Plaza\n8:10 CAP Breakfast\n• Recognition of First Timers\n• Best CAP Project Award\n• Guest Speaker\, Lorie Daugherty\, Director\, Mansfield Parent Aide Center\n• CAP Auction to Benefit the Center\n9:00 State of the District\n• District Treasurer Report\n• District Secretary Report\n• 2017 District Convention Minutes\n• Roll Call\n• National Service Award winners\n• Appointment of Convention Committees\n• Nominations for 2018-2019\n10:00 Educational Session #1\n11:00 Educational Session #2\n12:00 Youth Awards Luncheon\n• Youth of the Year Award\n• A.C.E. Award\n1:30 Elections: Club & Delegate Roll Call\, Club credentials verification\, Voting\n1:45 Memorial Service\n2:00 Educational sessions\, Clubs feature their best projects!\n4:00 Break/Top Notchers (Past District Presidents) Meeting\n5:00 Evening Reception\n6:00 Awards and Installation Banquet\nGuest Speaker: Scot Warren\, National President Elect\n• All American Volunteer of the Year\n• Exchangite of the Year\n• District Bulletin Award\n• Club Membership Growth Award\n• Top Recruiters\n• District President Club Awards\n• Rookie of the Year Award\n• Lifetime Achievement Award\n• Best Community Service Award\n• Resolutions\n• Recognition of Officers and Directors\n• Recognition of National Representative\n• Installation of 2018-2019 Officers\, NPE Scot Warren\n• 2018-2019 District President Remarks\n• Covenant of Service\n8:00 Hospitality room\, Crowne Plaza
URL:https://springfieldexchangeclub.org/event/ohio-west-virginia-district-exchange-clubs-convention/
LOCATION:Crowne Plaza Hotel\, 6500 Doubletree Avenue\, Columbus\, Ohio\, 43229\, United States
CATEGORIES:Special Event
END:VEVENT
BEGIN:VEVENT
DTSTART;TZID=UTC:20180528T083000
DTEND;TZID=UTC:20180528T223000
DTSTAMP:20260424T184925
CREATED:20180411T144035Z
LAST-MODIFIED:20180411T144035Z
UID:1378-1527496200-1527546600@springfieldexchangeclub.org
SUMMARY:Give-A-Kid-A-Flag-To-Wave at the Memorial Day Parade
DESCRIPTION:The Exchange Club of Springfield will meet to distribute 8\,500 US Flags to the children attending the 2018 Memorial Day Parade in Downtown Springfield Ohio.
URL:https://springfieldexchangeclub.org/event/give-a-kid-a-flag-to-wave-at-the-memorial-day-parade/
LOCATION:Unnamed Venue
CATEGORIES:Special Event
END:VEVENT
BEGIN:VEVENT
DTSTART;TZID=UTC:20180517T073000
DTEND;TZID=UTC:20180517T083000
DTSTAMP:20260424T184925
CREATED:20180514T231357Z
LAST-MODIFIED:20180514T231357Z
UID:1418-1526542200-1526545800@springfieldexchangeclub.org
SUMMARY:Salvation Army Volunteer Appreciation Breakfast
DESCRIPTION:Exhangites will attend the Salvation Army Volunteer Appreciation Breakfast at 7:30 AM at Salvation Army Springfield location.
URL:https://springfieldexchangeclub.org/event/salvation-army-volunteer-appreciation-breakfast/
LOCATION:Salvation Army\, 15 S. Plum St\, Springfield\, OH\, 45506\, United States
CATEGORIES:Special Event
END:VEVENT
END:VCALENDAR