BEGIN:VCALENDAR
VERSION:2.0
PRODID:-//Springfield Exchange Club - ECPv6.15.18//NONSGML v1.0//EN
CALSCALE:GREGORIAN
METHOD:PUBLISH
X-ORIGINAL-URL:https://springfieldexchangeclub.org
X-WR-CALDESC:Events for Springfield Exchange Club
REFRESH-INTERVAL;VALUE=DURATION:PT1H
X-Robots-Tag:noindex
X-PUBLISHED-TTL:PT1H
BEGIN:VTIMEZONE
TZID:UTC
BEGIN:STANDARD
TZOFFSETFROM:+0000
TZOFFSETTO:+0000
TZNAME:UTC
DTSTART:20140101T000000
END:STANDARD
END:VTIMEZONE
BEGIN:VTIMEZONE
TZID:Asia/Karachi
BEGIN:STANDARD
TZOFFSETFROM:+0500
TZOFFSETTO:+0500
TZNAME:PKT
DTSTART:20150101T000000
END:STANDARD
END:VTIMEZONE
BEGIN:VEVENT
DTSTART;TZID=UTC:20170327T080000
DTEND;TZID=UTC:20170327T170000
DTSTAMP:20260425T030624
CREATED:20170228T211630Z
LAST-MODIFIED:20170228T211630Z
UID:741-1490601600-1490634000@springfieldexchangeclub.org
SUMMARY:Happy 106th Birthday to the National Exchange club Founded March 27th 1911
DESCRIPTION:Today is the Birthday of the National Exchange Club\, Starting with Club Number One\, Detroit\, Michigan\, on March 27th\, 1911.  Happy 106th Birthday to all Exchangites!
URL:https://springfieldexchangeclub.org/event/happy-106th-birthday-to-the-national-exchange-club-founded-march-27th-1911/
LOCATION:Unnamed Venue
CATEGORIES:Special Event
END:VEVENT
BEGIN:VEVENT
DTSTART;TZID=UTC:20170322T180000
DTEND;TZID=UTC:20170322T200000
DTSTAMP:20260425T030624
CREATED:20170315T142914Z
LAST-MODIFIED:20170315T143333Z
UID:773-1490205600-1490212800@springfieldexchangeclub.org
SUMMARY:Salvation Army Awards the Exchange Club of Springfield
DESCRIPTION:The Exchange Club of Springfield will be recognized at the annual Salvation Army volunteer recognition banquet held at the Salvation Army location at 6 PM Wednesday March 22nd.
URL:https://springfieldexchangeclub.org/event/salvation-army-awards-the-exchange-club-of-springfield/
LOCATION:Salvation Army\, 15 S. Plum St\, Springfield\, OH\, 45506\, United States
CATEGORIES:Special Event
END:VEVENT
BEGIN:VEVENT
DTSTART;TZID=Asia/Karachi:20161217T100000
DTEND;TZID=Asia/Karachi:20161217T200000
DTSTAMP:20260425T030624
CREATED:20161107T121440Z
LAST-MODIFIED:20161107T121440Z
UID:569-1481968800-1482004800@springfieldexchangeclub.org
SUMMARY:Salvation Army Holiday Donations
DESCRIPTION:The Exchange Club of Springfield will solicit donations to the Salvation Army at the East Main Street Kroger’s Store from 1000AM to 800PM Saturday December 17\, 2016. \nThe Salvation Army \nYou’ve seen it before-The Salvation Army red kettle at Christmas. Perhaps you’ve even thrown a few coins in the bucket. And although this welcome symbol appears in your community for just a short while\, its impact extends far beyond the holiday season-changing lives\, one at a time\, every day\, all year long. \nThe scope of The Salvation Army’s influence is vast\, touching nearly every segment of society and providing help\, hope\, and healing for those who come within its sphere. It is at work in more than 108 countries around the world. And although programs vary from country to country and community to community to help people most effectively\, its mission is constant: to share the life-transforming gospel of Jesus Christ and meet needs without discrimination. This focus\, established by its Founder William Booth in 1865\, remains the guiding principle for its cutting-edge and award-winning work in contemporary life.
URL:https://springfieldexchangeclub.org/event/salvation-army-holiday-donations/
LOCATION:Kroger\, 2728 East Main Street\, Springfield\, OH\, 45504\, United States
CATEGORIES:Special Event
END:VEVENT
BEGIN:VEVENT
DTSTART;TZID=UTC:20161022T090000
DTEND;TZID=UTC:20161022T223000
DTSTAMP:20260425T030624
CREATED:20160914T172707Z
LAST-MODIFIED:20160925T220428Z
UID:510-1477126800-1477175400@springfieldexchangeclub.org
SUMMARY:National Day of Service
DESCRIPTION:The Exchange Club will perform Community Service with its Adopt-A-Highway Project on Tuttle Road.
URL:https://springfieldexchangeclub.org/event/national-day-of-service/
LOCATION:Tuttle Road Clean up\, 3430 East National Road\, Springfield\, 45505\, United States
CATEGORIES:Special Event
END:VEVENT
BEGIN:VEVENT
DTSTART;TZID=UTC:20160910T080000
DTEND;TZID=UTC:20160910T140000
DTSTAMP:20260425T030624
CREATED:20160825T152524Z
LAST-MODIFIED:20160825T153212Z
UID:481-1473494400-1473516000@springfieldexchangeclub.org
SUMMARY:Community Challenge - Springfield\, Ohio
DESCRIPTION:The Exchange Club will partner with Oesterlen Services for Youth\, Inc. to staff the “Kid’s Zone” at the Community Challenge Event at Snyder Park in Springfield\, Ohio from 8:00 AM to 2:00 PM.  This is a service to those participating in the Challenge so their children can have fun in a safe environment.
URL:https://springfieldexchangeclub.org/event/community-challenge-springfield-ohio/
LOCATION:Snyder Park\, Park Street\, Springfield\, OH\, 45504\, United States
CATEGORIES:Special Event
END:VEVENT
BEGIN:VEVENT
DTSTART;TZID=UTC:20160802T180000
DTEND;TZID=UTC:20160802T210000
DTSTAMP:20260425T030624
CREATED:20160728T002848Z
LAST-MODIFIED:20160728T003536Z
UID:439-1470160800-1470171600@springfieldexchangeclub.org
SUMMARY:Nite Out Against Crime
DESCRIPTION:The Exchange Club of Springfield will offer tips on Child Abuse Prevention to attendees at the Nite Out Against Crime during the event held between 6 Pm and 9 PM.
URL:https://springfieldexchangeclub.org/event/nite-out-against-crime/
LOCATION:City Plaza\, 76 E. High Street\, Springfield\, 45502\, United States
CATEGORIES:Special Event
END:VEVENT
BEGIN:VEVENT
DTSTART;TZID=UTC:20160727T093000
DTEND;TZID=UTC:20160727T143000
DTSTAMP:20260425T030624
CREATED:20160611T190041Z
LAST-MODIFIED:20160611T190041Z
UID:374-1469611800-1469629800@springfieldexchangeclub.org
SUMMARY:Kid's Day at the Clark County Fair 2016
DESCRIPTION:The Exchange Club of Springfield will sponsor Kid’s Day at the Clark County Fair as it has since 1949.  Exchangites will hand out programs at the gates and then meet for a quick bite at the Porkchop Concession.  Then it is off to the track for Games and Fun\, and a raffle!
URL:https://springfieldexchangeclub.org/event/kids-day-at-the-clark-county-fair-2016/
LOCATION:Clark County Fairgrounds\, 4401 S. Charleston Road\, Springfield\, OH\, 44502\, United States
CATEGORIES:Special Event
END:VEVENT
BEGIN:VEVENT
DTSTART;VALUE=DATE:20160704
DTEND;VALUE=DATE:20160705
DTSTAMP:20260425T030624
CREATED:20160617T175058Z
LAST-MODIFIED:20160617T175058Z
UID:378-1467590400-1467676799@springfieldexchangeclub.org
SUMMARY:Happy Independence Day!
DESCRIPTION:Many will celebrate with fireworks our Independence Day\, the “illuminations” that Mr. Adams refers to.  We owe much of our current celebrations of Independence Day due to the vision of John Adams of Massachusetts. \n“The Second Day of July 1776\, will be the most memorable Epocha\, in the History of America. I am apt to believe that it will be celebrated\, by succeeding Generations\, as the great anniversary Festival. It ought to be commemorated\, as the Day of Deliverance by solemn Acts of Devotion to God Almighty. It ought to be solemnized with Pomp and Parade\, with Shews\, Games\, Sports\, Guns\, Bells\, Bonfires and Illuminations from one End of this Continent to the other from this Time forward forever more.”  John Adams\, July 3rd\, 1776 in a letter to his wife\, Abigail Adams. \nOf course we today celebrate not on the 2nd of July when the Declaration was ratified by Congress\, but on the 4th of July when the Declaration was first read to the Army in the field.
URL:https://springfieldexchangeclub.org/event/happy-independence-day/
CATEGORIES:Special Event
END:VEVENT
BEGIN:VEVENT
DTSTART;TZID=UTC:20160614T180000
DTEND;TZID=UTC:20160614T200000
DTSTAMP:20260425T030624
CREATED:20160524T121742Z
LAST-MODIFIED:20160605T223659Z
UID:330-1465927200-1465934400@springfieldexchangeclub.org
SUMMARY:Installation of Officers and Induction of New Members Banquet
DESCRIPTION:Evening Meeting – Installation Dinner and New Member Induction Banquet  Hafle Winery\, 6:00 PM
URL:https://springfieldexchangeclub.org/event/installation-of-officers-and-induction-of-new-members-banquet/
LOCATION:Hafle Winery\, 2369 Upper Valley Pike\, Springfield\, OH\, 45502\, United States
CATEGORIES:Special Event
END:VEVENT
BEGIN:VEVENT
DTSTART;TZID=UTC:20151215T180000
DTEND;TZID=UTC:20151215T200000
DTSTAMP:20260425T030624
CREATED:20151105T173617Z
LAST-MODIFIED:20151105T173617Z
UID:199-1450202400-1450209600@springfieldexchangeclub.org
SUMMARY:Club Christmas Party
DESCRIPTION:
URL:https://springfieldexchangeclub.org/event/club-christmas-party/
LOCATION:Springfield Country Club\, Home Rd.\, Springfield
CATEGORIES:Special Event
END:VEVENT
END:VCALENDAR