BEGIN:VCALENDAR
VERSION:2.0
PRODID:-//Springfield Exchange Club - ECPv6.15.18//NONSGML v1.0//EN
CALSCALE:GREGORIAN
METHOD:PUBLISH
X-ORIGINAL-URL:https://springfieldexchangeclub.org
X-WR-CALDESC:Events for Springfield Exchange Club
REFRESH-INTERVAL;VALUE=DURATION:PT1H
X-Robots-Tag:noindex
X-PUBLISHED-TTL:PT1H
BEGIN:VTIMEZONE
TZID:UTC
BEGIN:STANDARD
TZOFFSETFROM:+0000
TZOFFSETTO:+0000
TZNAME:UTC
DTSTART:20220101T000000
END:STANDARD
END:VTIMEZONE
BEGIN:VEVENT
DTSTART;TZID=UTC:20241026T090000
DTEND;TZID=UTC:20241026T103000
DTSTAMP:20260424T055345
CREATED:20240830T133327Z
LAST-MODIFIED:20240830T133327Z
UID:9440-1729933200-1729938600@springfieldexchangeclub.org
SUMMARY:National Exchange Club Day of Community Service
DESCRIPTION:Members of the Exchange Club of Springfield\, Ohio will meet at 9 AM on Tuttle Road for the Adopt-A-Highway annual cleanup for the National Day of Service project.
URL:https://springfieldexchangeclub.org/event/national-exchange-club-day-of-community-service/
LOCATION:Tuttle Road Clean up\, 3430 East National Road\, Springfield\, 45505\, United States
CATEGORIES:Special Event
END:VEVENT
BEGIN:VEVENT
DTSTART;TZID=UTC:20240806T170000
DTEND;TZID=UTC:20240806T200000
DTSTAMP:20260424T055345
CREATED:20240726T124856Z
LAST-MODIFIED:20240726T124856Z
UID:9249-1722963600-1722974400@springfieldexchangeclub.org
SUMMARY:Exchange and National Night Out
DESCRIPTION:The Exchange Club of Springfield\, Ohio will distribute information on the Prevention of Child Abuse and other items at the 2024 National Night Out in Veterans Park Tuesday August 6\, 2024 from 5 PM to 8 PM.
URL:https://springfieldexchangeclub.org/event/exchange-and-national-night-out/
LOCATION:Veterans Park\, 250 Cliff Park Road\, Springfield\,\, OH\, 45504\, United States
CATEGORIES:Special Event
END:VEVENT
BEGIN:VEVENT
DTSTART;TZID=UTC:20240724T130000
DTEND;TZID=UTC:20240724T150000
DTSTAMP:20260424T055345
CREATED:20240619T135917Z
LAST-MODIFIED:20240619T135917Z
UID:9081-1721826000-1721833200@springfieldexchangeclub.org
SUMMARY:Springfield Exchange's 75th Annual Kid's Day at the Clark County Fair
DESCRIPTION:The Exchange Club of Springfield\, Ohio will meet Wednesday July 24th\, 2024\, 6 PM\, at the Clark County Fair for its 75th Kid’s Day at the Fair Event with games and raffles at the Race Track beginning at 1:00 PM.
URL:https://springfieldexchangeclub.org/event/springfield-exchanges-75th-annual-kids-day-at-the-clark-county-fair/
LOCATION:Clark County Fairgrounds\, 4401 S. Charleston Road\, Springfield\, OH\, 44502\, United States
CATEGORIES:Special Event
END:VEVENT
BEGIN:VEVENT
DTSTART;TZID=UTC:20240618T180000
DTEND;TZID=UTC:20240618T200000
DTSTAMP:20260424T055345
CREATED:20240301T195507Z
LAST-MODIFIED:20240619T143123Z
UID:8650-1718733600-1718740800@springfieldexchangeclub.org
SUMMARY:Exchange Club of Springfield\, Ohio Officer and Director Installation Dinner
DESCRIPTION:The Exchange Club of Springfield\, Ohio will meet Tuesday June 18\, 2024\, 6 PM to install the new club officers and directors. Ohio-West Virginia District Past President Larry Sewell will preside over the Installation.
URL:https://springfieldexchangeclub.org/event/exchange-club-of-springfield-ohio-officer-and-director-installation-dinner/
LOCATION:Shouvlin Center\, 737 N. Fountain Avenue\, Springfield\, OH\, 45502\, United States
CATEGORIES:Special Event
END:VEVENT
BEGIN:VEVENT
DTSTART;TZID=UTC:20240527T090000
DTEND;TZID=UTC:20240527T103000
DTSTAMP:20260424T055345
CREATED:20240416T182113Z
LAST-MODIFIED:20240416T182113Z
UID:8830-1716800400-1716805800@springfieldexchangeclub.org
SUMMARY:Memorial Day Parade - Give-A-Kid-A-Flag-To-Wave Project
DESCRIPTION:The Exchange Club of Springfield\, Ohio will distribute 5\,500 4″ x 6″ US Flags to kids along the Memorial Day Parade route.
URL:https://springfieldexchangeclub.org/event/memorial-day-parade-give-a-kid-a-flag-to-wave-project/
CATEGORIES:Special Event
END:VEVENT
BEGIN:VEVENT
DTSTART;TZID=UTC:20240518T080000
DTEND;TZID=UTC:20240518T203000
DTSTAMP:20260424T055345
CREATED:20240416T182429Z
LAST-MODIFIED:20240416T182429Z
UID:8832-1716019200-1716064200@springfieldexchangeclub.org
SUMMARY:Ohio-WV District Convention - Host Club - Springfield\, Ohio
DESCRIPTION:The Exchange Club of Springfield\, Ohio will host the 2024 OH-WV District Convention at the Shouvlin Center on Saturday May 18\, 2024.
URL:https://springfieldexchangeclub.org/event/ohio-wv-district-convention-host-club-springfield-ohio/
LOCATION:Shouvlin Center\, 737 N. Fountain Avenue\, Springfield\, OH\, 45502\, United States
CATEGORIES:Special Event
END:VEVENT
BEGIN:VEVENT
DTSTART;TZID=UTC:20240504T120000
DTEND;TZID=UTC:20240504T190000
DTSTAMP:20260424T055345
CREATED:20240416T181007Z
LAST-MODIFIED:20240416T181007Z
UID:8822-1714824000-1714849200@springfieldexchangeclub.org
SUMMARY:Exchange Fundraiser Golf Scramble
DESCRIPTION:The Exchange Club of Springfield\, Ohio will hold its fifth annual Fight Against Hunger Golf Scramble\, Noon\, at  Locust Hills GC\, Saturday May 4th\, 2024.
URL:https://springfieldexchangeclub.org/event/exchange-fundraiser-golf-scramble/
LOCATION:Locust Hills Golf Course\, 5575 N River Rd\, Springfield\, OH\, 45502\, United States
CATEGORIES:Special Event
END:VEVENT
BEGIN:VEVENT
DTSTART;TZID=UTC:20240430T180000
DTEND;TZID=UTC:20240430T200000
DTSTAMP:20260424T055345
CREATED:20231218T164433Z
LAST-MODIFIED:20240416T184049Z
UID:8408-1714500000-1714507200@springfieldexchangeclub.org
SUMMARY:Exchange Club Book of Golden Deeds Award Banquet
DESCRIPTION:The Exchange Club of Springfield\, Ohio will meet at the Shouvlin Center on the campus of Wittenberg University\, 6 PM\, to honor the 2024 Book of Golden Deeds recipient\, Christin Brown-Worthington.
URL:https://springfieldexchangeclub.org/event/exchange-club-book-of-golden-deeds-award-banquet/
LOCATION:Shouvlin Center\, 737 N. Fountain Avenue\, Springfield\, OH\, 45502\, United States
CATEGORIES:Special Event
END:VEVENT
BEGIN:VEVENT
DTSTART;TZID=UTC:20240327T080000
DTEND;TZID=UTC:20240327T093000
DTSTAMP:20260424T055345
CREATED:20231218T163054Z
LAST-MODIFIED:20231218T163722Z
UID:8405-1711526400-1711531800@springfieldexchangeclub.org
SUMMARY:National Exchange Club's 113th Anniversary!
DESCRIPTION:The National Exchange Club celebrates the 113th Anniversary of its Charter in Detroit\, Michigan.
URL:https://springfieldexchangeclub.org/event/national-exchange-clubs-113th-anniversary/
CATEGORIES:Special Event
END:VEVENT
BEGIN:VEVENT
DTSTART;TZID=UTC:20240319T180000
DTEND;TZID=UTC:20240319T200000
DTSTAMP:20260424T055345
CREATED:20231218T162804Z
LAST-MODIFIED:20231218T163621Z
UID:8401-1710871200-1710878400@springfieldexchangeclub.org
SUMMARY:Exchange Club Youth of the Year Banquet
DESCRIPTION:The Exchange Club of Springfield\, Ohio will meet at the Shouvlin Center on the campus of Wittenberg University\, 6 PM\, for the Youth of the Year Banquet.
URL:https://springfieldexchangeclub.org/event/exchange-club-youth-of-the-year-banquet/
LOCATION:Shouvlin Center\, 737 N. Fountain Avenue\, Springfield\, OH\, 45502\, United States
CATEGORIES:Special Event
END:VEVENT
BEGIN:VEVENT
DTSTART;TZID=UTC:20231226T000000
DTEND;TZID=UTC:20231226T003000
DTSTAMP:20260424T055345
CREATED:20230801T164847Z
LAST-MODIFIED:20231108T155335Z
UID:7919-1703548800-1703550600@springfieldexchangeclub.org
SUMMARY:Exchange Club of Springfield Will Not Meet Today
DESCRIPTION:The Exchange Club of Springfield\, Ohio will not meet this evening due to the Christmas Holiday..  Merry Christmas to all!
URL:https://springfieldexchangeclub.org/event/exchange-club-of-springfield-will-not-meeting-today/
CATEGORIES:Special Event
END:VEVENT
BEGIN:VEVENT
DTSTART;TZID=UTC:20231219T180000
DTEND;TZID=UTC:20231219T190000
DTSTAMP:20260424T055345
CREATED:20230801T164146Z
LAST-MODIFIED:20230801T164146Z
UID:7917-1703008800-1703012400@springfieldexchangeclub.org
SUMMARY:Exchange Club Christmas Party
DESCRIPTION:The Exchange Club of Springfield\, Ohio will celebrate the Christmas Holiday Season. Location TBD.
URL:https://springfieldexchangeclub.org/event/exchange-club-christmas-party/
CATEGORIES:Special Event
END:VEVENT
BEGIN:VEVENT
DTSTART;TZID=UTC:20231104T080000
DTEND;TZID=UTC:20231104T153000
DTSTAMP:20260424T055345
CREATED:20230801T163317Z
LAST-MODIFIED:20230929T143102Z
UID:7909-1699084800-1699111800@springfieldexchangeclub.org
SUMMARY:National Exchange Club Region 7 Summit
DESCRIPTION:The Region 7 Summit of the OH-West Virginia\, Michigan\, and Indiana Districts will be held today in Muncie\, IN\, at the Knights of Columbus Hall\, beginning with breakfast at 8:30 AM.  Guest Speakers will be: \nRichard Wistocki – Retired Police Detective – Stopping and Preventing School Violence \nKristin Hoffman – Attorney at Law – Sex Trafficking and Sexual Exploitation \n Kim Dowling – Judge\, Delaware County\, IN Circuit Court 2 – Child Sex Trafficking \n Leif Welhaven – National Exchange Club President – Video Message \nThere will be discussions on Membership Growth and Retention\, Club Building\, Engaging Members\, Fundraising\, and more!
URL:https://springfieldexchangeclub.org/event/exchange-club-region-7-summit/
LOCATION:K of C Hall\, Muncie\, Indiana\, 3600 W. Purdue Ave\, Muncie\, IN\, 47304\, United States
CATEGORIES:Special Event
END:VEVENT
BEGIN:VEVENT
DTSTART;TZID=UTC:20231028T090000
DTEND;TZID=UTC:20231028T120000
DTSTAMP:20260424T055345
CREATED:20230801T163103Z
LAST-MODIFIED:20230801T163103Z
UID:7907-1698483600-1698494400@springfieldexchangeclub.org
SUMMARY:Exchange Club National Day of Service
DESCRIPTION:The Exchange Club National Day of Service is today!
URL:https://springfieldexchangeclub.org/event/exchange-club-national-day-of-service-2/
CATEGORIES:Special Event
END:VEVENT
BEGIN:VEVENT
DTSTART;TZID=UTC:20230801T170000
DTEND;TZID=UTC:20230801T190000
DTSTAMP:20260424T055345
CREATED:20230801T140514Z
LAST-MODIFIED:20230801T140514Z
UID:7888-1690909200-1690916400@springfieldexchangeclub.org
SUMMARY:Exchange at National Night Out
DESCRIPTION:The Exchange Club of Springfield\, Ohio will have a table at the 2023 National Night Out\, which will be held Tuesday August 1\, 2023\, 5 PM – 7 PM\, Veteran’s Park.  We will distribute Prevention of Child Abuse flyers on subjects such as Cyber Safety\, Bullying\, etc.  We also have coloring books with a “police as your friend”\, theme while supplies last.
URL:https://springfieldexchangeclub.org/event/exchange-at-national-night-out/
LOCATION:Veterans Park\, 250 Cliff Park Road\, Springfield\,\, OH\, 45504\, United States
CATEGORIES:Special Event
END:VEVENT
BEGIN:VEVENT
DTSTART;TZID=UTC:20230726T130000
DTEND;TZID=UTC:20230726T143000
DTSTAMP:20260424T055345
CREATED:20230707T174236Z
LAST-MODIFIED:20230707T174721Z
UID:7820-1690376400-1690381800@springfieldexchangeclub.org
SUMMARY:Exchange 74th Annual Kid's Day Games at the Clark County Fair
DESCRIPTION:The Exchange Club of Springfield will hold its 74th Annual Kid’s Day Games at the CC Fair Wednesday July 26\, 2023\, 1:00 PM at the Fairgrounds race track\, for ages 5 -16 years.
URL:https://springfieldexchangeclub.org/event/exchange-74th-annual-kids-day-games-at-the-clark-county-fair/
LOCATION:Clark County Fairgrounds\, 4401 S. Charleston Road\, Springfield\, OH\, 44502\, United States
CATEGORIES:Special Event
END:VEVENT
BEGIN:VEVENT
DTSTART;TZID=UTC:20230718T180000
DTEND;TZID=UTC:20230718T200000
DTSTAMP:20260424T055345
CREATED:20230707T173930Z
LAST-MODIFIED:20230707T173930Z
UID:7818-1689703200-1689710400@springfieldexchangeclub.org
SUMMARY:Exchange Club Officer and Director Installation Dinner
DESCRIPTION:The Exchange Club of Springfield\, Ohio will meet Tuesday July 18\, 2023\, 6 PM\, at the Shouvlin Center for its 2023-24 Officer and Director Installation Dinner.
URL:https://springfieldexchangeclub.org/event/exchange-club-officer-and-director-installation-dinner/
LOCATION:Shouvlin Center\, 737 N. Fountain Avenue\, Springfield\, OH\, 45502\, United States
CATEGORIES:Special Event
END:VEVENT
BEGIN:VEVENT
DTSTART;TZID=UTC:20230704T080000
DTEND;TZID=UTC:20230704T170000
DTSTAMP:20260424T055345
CREATED:20230515T115926Z
LAST-MODIFIED:20230526T191846Z
UID:7674-1688457600-1688490000@springfieldexchangeclub.org
SUMMARY:Happy Birthday United States of America !
DESCRIPTION:Happy 247th Birthday of our great Republic\, the United States of America!
URL:https://springfieldexchangeclub.org/event/happy-birthday-united-states-of-america/
CATEGORIES:Special Event
END:VEVENT
BEGIN:VEVENT
DTSTART;TZID=UTC:20230529T090000
DTEND;TZID=UTC:20230529T110000
DTSTAMP:20260424T055345
CREATED:20230224T160000Z
LAST-MODIFIED:20230224T160000Z
UID:7488-1685350800-1685358000@springfieldexchangeclub.org
SUMMARY:Exchange Presents the Give-A-Kid-A-Flag-To-Wave Project
DESCRIPTION:The Exchange Club of Springfield will distribute some 6\,000 4×6″ US Flags to children spectators at the Springfield Memorial Day Parade.
URL:https://springfieldexchangeclub.org/event/exchange-presents-the-give-a-kid-a-flag-to-wave-project/
CATEGORIES:Special Event
END:VEVENT
BEGIN:VEVENT
DTSTART;TZID=UTC:20230520T080000
DTEND;TZID=UTC:20230520T220000
DTSTAMP:20260424T055345
CREATED:20230224T155500Z
LAST-MODIFIED:20230224T155552Z
UID:7486-1684569600-1684620000@springfieldexchangeclub.org
SUMMARY:OH-WV District Convention - Findlay\, Ohio
DESCRIPTION:The OH-WV District Exchange Clubs will meet for their annual convention at The Hancock Inn in downtown Findlay\, Ohio Friday May 19th and Saturday May 20th 2023.
URL:https://springfieldexchangeclub.org/event/oh-wv-district-convention-findlay-ohio/
LOCATION:The Hancock Hotel\, 631 S\, Main Street\, Springfield\, OH\, 45840\, United States
CATEGORIES:Special Event
END:VEVENT
BEGIN:VEVENT
DTSTART;TZID=UTC:20230506T120000
DTEND;TZID=UTC:20230506T180000
DTSTAMP:20260424T055345
CREATED:20230224T160617Z
LAST-MODIFIED:20230224T160617Z
UID:7490-1683374400-1683396000@springfieldexchangeclub.org
SUMMARY:Exchange Presents its 4th Annual Combating Hunger Golf Scramble Fundraiser
DESCRIPTION:Join us for our 4th Annual Golf Scramble!\nSaturday\, May 6th | 12:00 PM Shotgun Start| Locust Hills Golf Course\nA portion of the proceeds will support the Second Harvest Food Bank – come out and help us combat hunger in Springfield! A smaller portion of the proceeds will also help The Springfield Exchange Club operations. \n$80/player\n$25/dinner only\n \n***NOTE: YOU MUST PREPAY ONLINE\, BY MAIL\, OR HAND DELIVER TO A CLUB MEMBER BY MAY 3.\nTHERE WILL BE NO DAY OF EVENT PAYMENTS ACCEPTED! \nPay by check and spare us the Paypal fees! (Best option). If you pay by check\, please send us a note with your email address and the name of the players in your group.\nSend a check to:\nSpringfield Exchange Club\n1541 Briarwood Terrace\nSpringfield\, Ohio 45504
URL:https://springfieldexchangeclub.org/event/exchange-presents-its-4th-annual-combating-hunger-golf-scramble-fundraiser/
LOCATION:Locust Hills Golf Club\, 5575 North River Road\, Springfield\, OH\, 45502\, United States
CATEGORIES:Special Event
END:VEVENT
BEGIN:VEVENT
DTSTART;TZID=UTC:20230424T080000
DTEND;TZID=UTC:20230424T120000
DTSTAMP:20260424T055345
CREATED:20221220T202747Z
LAST-MODIFIED:20221220T202747Z
UID:7148-1682323200-1682337600@springfieldexchangeclub.org
SUMMARY:Blue Monday - Wear Blue for Prevention of Child Abuse Awareness
DESCRIPTION:Blue Monday – April is Prevention of Child Abuse Month – Wear Blue for Prevention of Child Abuse Awareness!
URL:https://springfieldexchangeclub.org/event/blue-monday-wear-blue-for-prevention-of-child-abuse-awareness-6/
CATEGORIES:Special Event
END:VEVENT
BEGIN:VEVENT
DTSTART;TZID=UTC:20230418T180000
DTEND;TZID=UTC:20230418T200000
DTSTAMP:20260424T055345
CREATED:20230224T153721Z
LAST-MODIFIED:20230323T140312Z
UID:7474-1681840800-1681848000@springfieldexchangeclub.org
SUMMARY:Exchange Presents the Book of Golden Deeds Program of Service
DESCRIPTION:The Exchange Club of Springfield\, Ohio will present the Book of Golden Deeds Award to and “Unsung Hero” in our community at a Banquet this evening in their honor. This year we honor not one but two.  Kathryn Howard\, nominated by the Springfield Soup Kitchen\, and The Clark County Medical Reserve Corps\, nominated by the Clark County Health Department. \nVolunteer efforts are very important to our society and should not go unnoticed. The National Exchange Club’s longest running project\, the Book of Golden Deeds Award\, recognizes dedicated volunteers who give endless hours of their time and talents toward making their communities better places to live. Ever since the Exchange Club of Huntington\, Ind.\, sponsored the first award in 1919\, thousands of unsung heroes and heroines have been recognized.  The Book of Golden Deeds Award exemplifies The National Exchange Club’s beliefs.
URL:https://springfieldexchangeclub.org/event/exchange-presents-the-book-o-f-golden-deeds-program-of-service/
LOCATION:Shouvlin Center\, 737 N. Fountain Avenue\, Springfield\, OH\, 45502\, United States
CATEGORIES:Special Event
END:VEVENT
BEGIN:VEVENT
DTSTART;TZID=UTC:20230417T080000
DTEND;TZID=UTC:20230417T120000
DTSTAMP:20260424T055345
CREATED:20221220T202631Z
LAST-MODIFIED:20221220T202631Z
UID:7146-1681718400-1681732800@springfieldexchangeclub.org
SUMMARY:Blue Monday - Wear Blue for Prevention of Child Abuse Awareness
DESCRIPTION:Blue Monday – April is Prevention of Child Abuse Month! Wear Blue for Prevention of Child Abuse Awareness
URL:https://springfieldexchangeclub.org/event/blue-monday-wear-blue-for-prevention-of-child-abuse-awareness-5/
CATEGORIES:Special Event
END:VEVENT
BEGIN:VEVENT
DTSTART;TZID=UTC:20230410T080000
DTEND;TZID=UTC:20230410T120000
DTSTAMP:20260424T055345
CREATED:20221220T202518Z
LAST-MODIFIED:20221220T202518Z
UID:7144-1681113600-1681128000@springfieldexchangeclub.org
SUMMARY:Blue Monday - Wear Blue for Prevention of Child Abuse Awareness
DESCRIPTION:Blue Monday – April is Prevention of Child Abuse Month!  Wear Blue for Prevention of Child Abuse Awareness
URL:https://springfieldexchangeclub.org/event/blue-monday-wear-blue-for-prevention-of-child-abuse-awareness-4/
CATEGORIES:Special Event
END:VEVENT
BEGIN:VEVENT
DTSTART;TZID=UTC:20230403T080000
DTEND;TZID=UTC:20230403T120000
DTSTAMP:20260424T055345
CREATED:20221220T202418Z
LAST-MODIFIED:20221220T202418Z
UID:7142-1680508800-1680523200@springfieldexchangeclub.org
SUMMARY:Blue Monday - Wear Blue for Prevention of Child Abuse Awareness
DESCRIPTION:April is Prevention of Child Abuse Month!  Wear Blue on Mondays in April!
URL:https://springfieldexchangeclub.org/event/blue-monday-wear-blue-for-prevention-of-child-abuse-awareness-3/
CATEGORIES:Special Event
END:VEVENT
BEGIN:VEVENT
DTSTART;TZID=UTC:20230327T090000
DTEND;TZID=UTC:20230327T100000
DTSTAMP:20260424T055345
CREATED:20221220T194052Z
LAST-MODIFIED:20230224T152819Z
UID:7124-1679907600-1679911200@springfieldexchangeclub.org
SUMMARY:Exchange Celebrates its 112th Anniversary
DESCRIPTION:The first Exchange Club was created on this date in 1911 in Detroit\, Michigan.  There are now approximately 600 Exchange Club across the United States and Puerto Rico\, with over 19\,000 members.
URL:https://springfieldexchangeclub.org/event/exchange-club-meeting-11/
CATEGORIES:Special Event
END:VEVENT
BEGIN:VEVENT
DTSTART;TZID=UTC:20230321T180000
DTEND;TZID=UTC:20230321T200000
DTSTAMP:20260424T055345
CREATED:20221220T200023Z
LAST-MODIFIED:20221220T200023Z
UID:7130-1679421600-1679428800@springfieldexchangeclub.org
SUMMARY:Exchange Presents the 2022-23 Youths of the Year and A.C.E. Award Recipients
DESCRIPTION:The Exchange Club of Springfield\, Ohio\, will meet Tuesday\, March 21\, 2023\, 6:00 PM at the Shouvlin Center  on the campus of Wittenberg University to present the 2022-23 Youths of the Year and A.C.E. Award recipients
URL:https://springfieldexchangeclub.org/event/exchange-presents-the-2022-23-youths-of-the-year-and-a-c-e-award-recipients/
LOCATION:Shouvlin Center\, 737 N. Fountain Avenue\, Springfield\, OH\, 45502\, United States
CATEGORIES:Special Event
END:VEVENT
BEGIN:VEVENT
DTSTART;TZID=UTC:20230301T160000
DTEND;TZID=UTC:20230301T180000
DTSTAMP:20260424T055345
CREATED:20230224T162837Z
LAST-MODIFIED:20230224T162837Z
UID:7501-1677686400-1677693600@springfieldexchangeclub.org
SUMMARY:Yates Memorial Bench Bottle Cap Recycling Project Collection Date
DESCRIPTION:Wednesdays March 1st\, April 5th\, and May 10th\, 2023 have been set as Community wide Collection Dates/Pickups of Bottle Caps.  Exchange Club Members and Volunteers will be stationed at the Springfield City Policy/Sheriff Safety Building Lobby for Drop Offs (& in the parking lot between Huntington Bank & Craven Bonds from 11am-1pm and 4pm-6pm.  Scheduled pick-ups are available during these dates as well.    We will need Exchange Members to take a turn at the collection stations.  Chair Karen Lotz would like 3 per station per shift\, for a total of 18 members over the 3 days and 6 shifts. Plan now to help out on 1 March\, 5 April\, and 10 May either in the morning or afternoon.
URL:https://springfieldexchangeclub.org/event/yates-memorial-bench-bottle-cap-recycling-project-collection-date/
LOCATION:Public Safety Building\, 130 N. Fountain Ave\, Springfield\, OH\, 45502\, United States
CATEGORIES:Special Event
END:VEVENT
BEGIN:VEVENT
DTSTART;TZID=UTC:20230301T110000
DTEND;TZID=UTC:20230301T130000
DTSTAMP:20260424T055345
CREATED:20230224T162712Z
LAST-MODIFIED:20230224T162712Z
UID:7499-1677668400-1677675600@springfieldexchangeclub.org
SUMMARY:Yates Memorial Bench Recycled Bottle Caps Project Collection
DESCRIPTION:Wednesdays March 1st\, April 5th\, and May 10th\, 2023 have been set as Community wide Collection Dates/Pickups of Bottle Caps.  Exchange Club Members and Volunteers will be stationed at the Springfield City Policy/Sheriff Safety Building Lobby for Drop Offs (& in the parking lot between Huntington Bank & Craven Bonds from 11am-1pm and 4pm-6pm.  Scheduled pick-ups are available during these dates as well.    We will need Exchange Members to take a turn at the collection stations.  Chair Karen Lotz would like 3 per station per shift\, for a total of 18 members over the 3 days and 6 shifts. Plan now to help out on 1 March\, 5 April\, and 10 May either in the morning or afternoon.
URL:https://springfieldexchangeclub.org/event/yates-memorial-bench-recycled-bottle-caps-project-collection/
LOCATION:Public Safety Building\, 130 N. Fountain Ave\, Springfield\, OH\, 45502\, United States
CATEGORIES:Special Event
END:VEVENT
END:VCALENDAR