BEGIN:VCALENDAR
VERSION:2.0
PRODID:-//Springfield Exchange Club - ECPv6.15.18//NONSGML v1.0//EN
CALSCALE:GREGORIAN
METHOD:PUBLISH
X-ORIGINAL-URL:https://springfieldexchangeclub.org
X-WR-CALDESC:Events for Springfield Exchange Club
REFRESH-INTERVAL;VALUE=DURATION:PT1H
X-Robots-Tag:noindex
X-PUBLISHED-TTL:PT1H
BEGIN:VTIMEZONE
TZID:UTC
BEGIN:STANDARD
TZOFFSETFROM:+0000
TZOFFSETTO:+0000
TZNAME:UTC
DTSTART:20210101T000000
END:STANDARD
END:VTIMEZONE
BEGIN:VEVENT
DTSTART;TZID=UTC:20230506T120000
DTEND;TZID=UTC:20230506T180000
DTSTAMP:20260424T090838
CREATED:20230224T160617Z
LAST-MODIFIED:20230224T160617Z
UID:7490-1683374400-1683396000@springfieldexchangeclub.org
SUMMARY:Exchange Presents its 4th Annual Combating Hunger Golf Scramble Fundraiser
DESCRIPTION:Join us for our 4th Annual Golf Scramble!\nSaturday\, May 6th | 12:00 PM Shotgun Start| Locust Hills Golf Course\nA portion of the proceeds will support the Second Harvest Food Bank – come out and help us combat hunger in Springfield! A smaller portion of the proceeds will also help The Springfield Exchange Club operations. \n$80/player\n$25/dinner only\n \n***NOTE: YOU MUST PREPAY ONLINE\, BY MAIL\, OR HAND DELIVER TO A CLUB MEMBER BY MAY 3.\nTHERE WILL BE NO DAY OF EVENT PAYMENTS ACCEPTED! \nPay by check and spare us the Paypal fees! (Best option). If you pay by check\, please send us a note with your email address and the name of the players in your group.\nSend a check to:\nSpringfield Exchange Club\n1541 Briarwood Terrace\nSpringfield\, Ohio 45504
URL:https://springfieldexchangeclub.org/event/exchange-presents-its-4th-annual-combating-hunger-golf-scramble-fundraiser/
LOCATION:Locust Hills Golf Club\, 5575 North River Road\, Springfield\, OH\, 45502\, United States
CATEGORIES:Special Event
END:VEVENT
BEGIN:VEVENT
DTSTART;TZID=UTC:20230424T080000
DTEND;TZID=UTC:20230424T120000
DTSTAMP:20260424T090838
CREATED:20221220T202747Z
LAST-MODIFIED:20221220T202747Z
UID:7148-1682323200-1682337600@springfieldexchangeclub.org
SUMMARY:Blue Monday - Wear Blue for Prevention of Child Abuse Awareness
DESCRIPTION:Blue Monday – April is Prevention of Child Abuse Month – Wear Blue for Prevention of Child Abuse Awareness!
URL:https://springfieldexchangeclub.org/event/blue-monday-wear-blue-for-prevention-of-child-abuse-awareness-6/
CATEGORIES:Special Event
END:VEVENT
BEGIN:VEVENT
DTSTART;TZID=UTC:20230418T180000
DTEND;TZID=UTC:20230418T200000
DTSTAMP:20260424T090838
CREATED:20230224T153721Z
LAST-MODIFIED:20230323T140312Z
UID:7474-1681840800-1681848000@springfieldexchangeclub.org
SUMMARY:Exchange Presents the Book of Golden Deeds Program of Service
DESCRIPTION:The Exchange Club of Springfield\, Ohio will present the Book of Golden Deeds Award to and “Unsung Hero” in our community at a Banquet this evening in their honor. This year we honor not one but two.  Kathryn Howard\, nominated by the Springfield Soup Kitchen\, and The Clark County Medical Reserve Corps\, nominated by the Clark County Health Department. \nVolunteer efforts are very important to our society and should not go unnoticed. The National Exchange Club’s longest running project\, the Book of Golden Deeds Award\, recognizes dedicated volunteers who give endless hours of their time and talents toward making their communities better places to live. Ever since the Exchange Club of Huntington\, Ind.\, sponsored the first award in 1919\, thousands of unsung heroes and heroines have been recognized.  The Book of Golden Deeds Award exemplifies The National Exchange Club’s beliefs.
URL:https://springfieldexchangeclub.org/event/exchange-presents-the-book-o-f-golden-deeds-program-of-service/
LOCATION:Shouvlin Center\, 737 N. Fountain Avenue\, Springfield\, OH\, 45502\, United States
CATEGORIES:Special Event
END:VEVENT
BEGIN:VEVENT
DTSTART;TZID=UTC:20230417T080000
DTEND;TZID=UTC:20230417T120000
DTSTAMP:20260424T090838
CREATED:20221220T202631Z
LAST-MODIFIED:20221220T202631Z
UID:7146-1681718400-1681732800@springfieldexchangeclub.org
SUMMARY:Blue Monday - Wear Blue for Prevention of Child Abuse Awareness
DESCRIPTION:Blue Monday – April is Prevention of Child Abuse Month! Wear Blue for Prevention of Child Abuse Awareness
URL:https://springfieldexchangeclub.org/event/blue-monday-wear-blue-for-prevention-of-child-abuse-awareness-5/
CATEGORIES:Special Event
END:VEVENT
BEGIN:VEVENT
DTSTART;TZID=UTC:20230410T080000
DTEND;TZID=UTC:20230410T120000
DTSTAMP:20260424T090838
CREATED:20221220T202518Z
LAST-MODIFIED:20221220T202518Z
UID:7144-1681113600-1681128000@springfieldexchangeclub.org
SUMMARY:Blue Monday - Wear Blue for Prevention of Child Abuse Awareness
DESCRIPTION:Blue Monday – April is Prevention of Child Abuse Month!  Wear Blue for Prevention of Child Abuse Awareness
URL:https://springfieldexchangeclub.org/event/blue-monday-wear-blue-for-prevention-of-child-abuse-awareness-4/
CATEGORIES:Special Event
END:VEVENT
BEGIN:VEVENT
DTSTART;TZID=UTC:20230403T080000
DTEND;TZID=UTC:20230403T120000
DTSTAMP:20260424T090838
CREATED:20221220T202418Z
LAST-MODIFIED:20221220T202418Z
UID:7142-1680508800-1680523200@springfieldexchangeclub.org
SUMMARY:Blue Monday - Wear Blue for Prevention of Child Abuse Awareness
DESCRIPTION:April is Prevention of Child Abuse Month!  Wear Blue on Mondays in April!
URL:https://springfieldexchangeclub.org/event/blue-monday-wear-blue-for-prevention-of-child-abuse-awareness-3/
CATEGORIES:Special Event
END:VEVENT
BEGIN:VEVENT
DTSTART;TZID=UTC:20230327T090000
DTEND;TZID=UTC:20230327T100000
DTSTAMP:20260424T090838
CREATED:20221220T194052Z
LAST-MODIFIED:20230224T152819Z
UID:7124-1679907600-1679911200@springfieldexchangeclub.org
SUMMARY:Exchange Celebrates its 112th Anniversary
DESCRIPTION:The first Exchange Club was created on this date in 1911 in Detroit\, Michigan.  There are now approximately 600 Exchange Club across the United States and Puerto Rico\, with over 19\,000 members.
URL:https://springfieldexchangeclub.org/event/exchange-club-meeting-11/
CATEGORIES:Special Event
END:VEVENT
BEGIN:VEVENT
DTSTART;TZID=UTC:20230321T180000
DTEND;TZID=UTC:20230321T200000
DTSTAMP:20260424T090838
CREATED:20221220T200023Z
LAST-MODIFIED:20221220T200023Z
UID:7130-1679421600-1679428800@springfieldexchangeclub.org
SUMMARY:Exchange Presents the 2022-23 Youths of the Year and A.C.E. Award Recipients
DESCRIPTION:The Exchange Club of Springfield\, Ohio\, will meet Tuesday\, March 21\, 2023\, 6:00 PM at the Shouvlin Center  on the campus of Wittenberg University to present the 2022-23 Youths of the Year and A.C.E. Award recipients
URL:https://springfieldexchangeclub.org/event/exchange-presents-the-2022-23-youths-of-the-year-and-a-c-e-award-recipients/
LOCATION:Shouvlin Center\, 737 N. Fountain Avenue\, Springfield\, OH\, 45502\, United States
CATEGORIES:Special Event
END:VEVENT
BEGIN:VEVENT
DTSTART;TZID=UTC:20230301T160000
DTEND;TZID=UTC:20230301T180000
DTSTAMP:20260424T090838
CREATED:20230224T162837Z
LAST-MODIFIED:20230224T162837Z
UID:7501-1677686400-1677693600@springfieldexchangeclub.org
SUMMARY:Yates Memorial Bench Bottle Cap Recycling Project Collection Date
DESCRIPTION:Wednesdays March 1st\, April 5th\, and May 10th\, 2023 have been set as Community wide Collection Dates/Pickups of Bottle Caps.  Exchange Club Members and Volunteers will be stationed at the Springfield City Policy/Sheriff Safety Building Lobby for Drop Offs (& in the parking lot between Huntington Bank & Craven Bonds from 11am-1pm and 4pm-6pm.  Scheduled pick-ups are available during these dates as well.    We will need Exchange Members to take a turn at the collection stations.  Chair Karen Lotz would like 3 per station per shift\, for a total of 18 members over the 3 days and 6 shifts. Plan now to help out on 1 March\, 5 April\, and 10 May either in the morning or afternoon.
URL:https://springfieldexchangeclub.org/event/yates-memorial-bench-bottle-cap-recycling-project-collection-date/
LOCATION:Public Safety Building\, 130 N. Fountain Ave\, Springfield\, OH\, 45502\, United States
CATEGORIES:Special Event
END:VEVENT
BEGIN:VEVENT
DTSTART;TZID=UTC:20230301T110000
DTEND;TZID=UTC:20230301T130000
DTSTAMP:20260424T090838
CREATED:20230224T162712Z
LAST-MODIFIED:20230224T162712Z
UID:7499-1677668400-1677675600@springfieldexchangeclub.org
SUMMARY:Yates Memorial Bench Recycled Bottle Caps Project Collection
DESCRIPTION:Wednesdays March 1st\, April 5th\, and May 10th\, 2023 have been set as Community wide Collection Dates/Pickups of Bottle Caps.  Exchange Club Members and Volunteers will be stationed at the Springfield City Policy/Sheriff Safety Building Lobby for Drop Offs (& in the parking lot between Huntington Bank & Craven Bonds from 11am-1pm and 4pm-6pm.  Scheduled pick-ups are available during these dates as well.    We will need Exchange Members to take a turn at the collection stations.  Chair Karen Lotz would like 3 per station per shift\, for a total of 18 members over the 3 days and 6 shifts. Plan now to help out on 1 March\, 5 April\, and 10 May either in the morning or afternoon.
URL:https://springfieldexchangeclub.org/event/yates-memorial-bench-recycled-bottle-caps-project-collection/
LOCATION:Public Safety Building\, 130 N. Fountain Ave\, Springfield\, OH\, 45502\, United States
CATEGORIES:Special Event
END:VEVENT
BEGIN:VEVENT
DTSTART;TZID=UTC:20221225T080000
DTEND;TZID=UTC:20221225T090000
DTSTAMP:20260424T090838
CREATED:20220903T132134Z
LAST-MODIFIED:20220913T173404Z
UID:6375-1671955200-1671958800@springfieldexchangeclub.org
SUMMARY:Merry Christmas from the Exchange Club of Springfield\, Ohio
DESCRIPTION:No meeting today due to the Christmas Holiday.  Merry Christmas from the Exchange Club of Springfield\, Ohio.
URL:https://springfieldexchangeclub.org/event/merry-christmas-from-the-exchange-club-of-springfield-ohio/
CATEGORIES:Special Event
END:VEVENT
BEGIN:VEVENT
DTSTART;TZID=UTC:20221213T180000
DTEND;TZID=UTC:20221213T203000
DTSTAMP:20260424T090838
CREATED:20220903T131942Z
LAST-MODIFIED:20221014T150333Z
UID:6373-1670954400-1670963400@springfieldexchangeclub.org
SUMMARY:Springfield Exchange Club Christmas/Charter Anniversary Party
DESCRIPTION:The Exchange Club of Springfield\, Ohio will meet Tuesday December\,13 2022\, 6 PM\,  at the home of Peg H.
URL:https://springfieldexchangeclub.org/event/springfield-exchange-club-christmascharter-anniversary-party/
LOCATION:Peg\, 130 Hawthorne\, Springfield\, Ohio\, 45503
CATEGORIES:Special Event
END:VEVENT
BEGIN:VEVENT
DTSTART;TZID=UTC:20221124T080000
DTEND;TZID=UTC:20221124T110000
DTSTAMP:20260424T090838
CREATED:20220903T133228Z
LAST-MODIFIED:20220903T133228Z
UID:6377-1669276800-1669287600@springfieldexchangeclub.org
SUMMARY:Happy Thanksgiving from the Exchange Club of Springfield\, Ohio
DESCRIPTION:Happy Thanksgiving!
URL:https://springfieldexchangeclub.org/event/happy-thanksgiving-from-the-exchange-club-of-springfield-ohio-2/
CATEGORIES:Special Event
END:VEVENT
BEGIN:VEVENT
DTSTART;TZID=UTC:20221105T080000
DTEND;TZID=UTC:20221105T170000
DTSTAMP:20260424T090838
CREATED:20220903T130844Z
LAST-MODIFIED:20220903T130858Z
UID:6363-1667635200-1667667600@springfieldexchangeclub.org
SUMMARY:National Exchange Club Region 7 Summit
DESCRIPTION:Region Seven of the National Exchange Club\, consisting of the Michigan\, Indiana\, and the Ohio-West Virginia Districts\, will  hold its annual Education Summit in Michigan.
URL:https://springfieldexchangeclub.org/event/national-exchange-club-region-7-summit/
CATEGORIES:Special Event
END:VEVENT
BEGIN:VEVENT
DTSTART;TZID=UTC:20221025T173000
DTEND;TZID=UTC:20221025T190000
DTSTAMP:20260424T090838
CREATED:20220903T130025Z
LAST-MODIFIED:20221014T151111Z
UID:6357-1666719000-1666724400@springfieldexchangeclub.org
SUMMARY:Exchange visits Oesterlen for Trunk or Treat!
DESCRIPTION:Members of The Exchange Club of Springfield\, Ohio will meet Tuesday October 25\, 2022\, 5:30 PM\, at the campus of Oesterlen Services for Youth\, Inc.\, 1918 Mechanicsburg Rd. for their Trunk or Treat event.  Club members will grill 400 hotdogs.  SCARY!
URL:https://springfieldexchangeclub.org/event/springfield-member-meeting-5/
LOCATION:Oesterlen Services for Youth\, 1918 Mechanicsburg Road\, Springfield\, 45503\, United States
CATEGORIES:Special Event
END:VEVENT
BEGIN:VEVENT
DTSTART;TZID=UTC:20221022T090000
DTEND;TZID=UTC:20221022T110000
DTSTAMP:20260424T090838
CREATED:20220903T130628Z
LAST-MODIFIED:20220903T130628Z
UID:6361-1666429200-1666436400@springfieldexchangeclub.org
SUMMARY:Exchange Club's National Day of Service
DESCRIPTION:The Exchange Club of Springfield\, Ohio\, will meet to perform community service in conjunction with the Exchange Club National Day of Service.
URL:https://springfieldexchangeclub.org/event/exchange-clubs-national-day-of-service/
CATEGORIES:Special Event
END:VEVENT
BEGIN:VEVENT
DTSTART;TZID=UTC:20220917T090000
DTEND;TZID=UTC:20220917T103000
DTSTAMP:20260424T090838
CREATED:20220823T160030Z
LAST-MODIFIED:20220823T160030Z
UID:6257-1663405200-1663410600@springfieldexchangeclub.org
SUMMARY:Exchange Adopt-A-Highway Tuttle Road Project
DESCRIPTION:The Exchange Club of Springfield\, Ohio\, will meet Saturday September 17\, 2022\, at Tuttle Road for its Adopt-A-Highway Project\, at 9:00 AM.
URL:https://springfieldexchangeclub.org/event/exchange-adopt-a-highway-tuttle-road-project/
LOCATION:Tuttle Road Clean up\, 3430 East National Road\, Springfield\, 45505\, United States
CATEGORIES:Special Event
END:VEVENT
BEGIN:VEVENT
DTSTART;TZID=UTC:20220727T123000
DTEND;TZID=UTC:20220727T143000
DTSTAMP:20260424T090838
CREATED:20220613T142906Z
LAST-MODIFIED:20220613T142906Z
UID:3758-1658925000-1658932200@springfieldexchangeclub.org
SUMMARY:Kid's Day at the Clark County Fair Games
DESCRIPTION:The Exchange Club will meet Wednesday July 27\, 2022\, 1:00 PM\, to hold the 73rd Annual Kid’s Day at the Clark County Fair Games at the race track.  These games for youth 5 -16 consist of various foot races\, sack races\, Spoon egg race\, and Long Egg Toss.  Cash prizes will be awarded as well as cash raffles. \nClub Members will distribute Programs at the gates from 8:00 AM to 11:30: AM. Club members will meet at the Swine Barn for lunch at Noon and then proceed to the racetrack for setup.
URL:https://springfieldexchangeclub.org/event/kids-day-at-the-clark-county-fair-games/
LOCATION:Clark County Fairgrounds\, 4401 S. Charleston Road\, Springfield\, OH\, 44502\, United States
CATEGORIES:Special Event
END:VEVENT
BEGIN:VEVENT
DTSTART;TZID=UTC:20220622T120000
DTEND;TZID=UTC:20220622T123000
DTSTAMP:20260424T090838
CREATED:20220620T184952Z
LAST-MODIFIED:20220620T184952Z
UID:3839-1655899200-1655901000@springfieldexchangeclub.org
SUMMARY:Freedom Shrine Re-Dedication Ceremony
DESCRIPTION:The Exchange Club of Springfield\, Ohio will rededicate a Freedom Shrine\, Wednesday June 22\, 2022\, Noon\, on the Fifth Floor of the County Municipal Court Building\, 50 E Columbia St\, Springfield\, Ohio.  Chair Alan Peczkowski will introduce Past Ohio-West Virginia District President Larry Sewell who will preside over the re-dedication ceremony.. \nThe Freedom Shrine is an impressive\, permanently mounted collection of 30 of the most important and historic American documents\, including the Declaration of Independence\, the Constitution of the United States and the Gettysburg Address. They show our nation’s youth the strength and courage of their forefathers by allowing them to read\, with their own eyes\, the immortal words of inspired Americans who so decisively changed the course of history.
URL:https://springfieldexchangeclub.org/event/freedom-shrine-re-dedication-ceremony/
LOCATION:Clark County Municipal Court\, 50 E. Columbia St\, Springfield\, OH\, 45502\, United States
CATEGORIES:Special Event
END:VEVENT
BEGIN:VEVENT
DTSTART;TZID=UTC:20220621T180000
DTEND;TZID=UTC:20220621T200000
DTSTAMP:20260424T090838
CREATED:20220214T195819Z
LAST-MODIFIED:20220526T120800Z
UID:3139-1655834400-1655841600@springfieldexchangeclub.org
SUMMARY:Exchange Club Officer and Director Installation Banquet
DESCRIPTION:The Exchange Club of Springfield\, Ohio will install the 2022-23 slate of Officers and Directors for the club at a banquet in their honor at the Shouvlin Center Room 105. Ohio-West Virginia District Division Six Director Steve Klipfel will preside at the Installation of Officers and Directors Ceremony.
URL:https://springfieldexchangeclub.org/event/give-a-kid-a-flag-to-wave-at-the-memorial-day-parade-2/
LOCATION:Shouvlin Center\, 737 N. Fountain Avenue\, Springfield\, OH\, 45502\, United States
CATEGORIES:Special Event
END:VEVENT
BEGIN:VEVENT
DTSTART;TZID=UTC:20220530T083000
DTEND;TZID=UTC:20220530T110000
DTSTAMP:20260424T090838
CREATED:20220214T201239Z
LAST-MODIFIED:20220214T201239Z
UID:3144-1653899400-1653908400@springfieldexchangeclub.org
SUMMARY:Memorial Day Parade - Give-A-Kid-A-Flag-To-Wave
DESCRIPTION:The Exchange Club of Springfield\, Ohio will honor those who made the ultimate sacrifice for our freedom by distributing thousands of US Flags to children along the Springfield Memorial Day Parade Route.
URL:https://springfieldexchangeclub.org/event/memorial-day-parade-give-a-kid-a-flag-to-wave/
CATEGORIES:Special Event
END:VEVENT
BEGIN:VEVENT
DTSTART;TZID=UTC:20220521T080000
DTEND;TZID=UTC:20220521T230000
DTSTAMP:20260424T090838
CREATED:20220214T195516Z
LAST-MODIFIED:20220214T195516Z
UID:3137-1653120000-1653174000@springfieldexchangeclub.org
SUMMARY:Ohio-West Virginia District Convention
DESCRIPTION:The Ohio-West Virginia District Exchange Clubs will hold their annual District Convention at the Holiday Inn in Canton\, Ohio. The Canton Club is celebrating its 100th Anniversary of their Charter in the National Exchange Club.
URL:https://springfieldexchangeclub.org/event/ohio-west-virginia-district-convention-3/
CATEGORIES:Special Event
END:VEVENT
BEGIN:VEVENT
DTSTART;TZID=UTC:20220520T150000
DTEND;TZID=UTC:20220520T220000
DTSTAMP:20260424T090838
CREATED:20220214T195345Z
LAST-MODIFIED:20220214T195345Z
UID:3135-1653058800-1653084000@springfieldexchangeclub.org
SUMMARY:Ohio-West Virginia District Convention
DESCRIPTION:The Ohio-West Virginia District Exchange Clubs will hold their annual District Convention at the Holiday Inn in Canton\, Ohio. The Canton Club is celebrating its 100th Anniversary of their Charter in the National Exchange Club.
URL:https://springfieldexchangeclub.org/event/ohio-west-virginia-district-convention-2/
CATEGORIES:Special Event
END:VEVENT
BEGIN:VEVENT
DTSTART;TZID=UTC:20220425T080000
DTEND;TZID=UTC:20220425T170000
DTSTAMP:20260424T090838
CREATED:20220214T194030Z
LAST-MODIFIED:20220214T194030Z
UID:3120-1650873600-1650906000@springfieldexchangeclub.org
SUMMARY:Blue Monday - Wear Blue for the Prevention of Child Abuse Awareness
DESCRIPTION:April is the Prevention of Child Abuse Month. Each Monday in April\, wear blue clothing to create awareness of the thousands of children who are abused and neglected in our country and around the world.
URL:https://springfieldexchangeclub.org/event/blue-monday-wear-blue-for-the-prevention-of-child-abuse-awareness/
CATEGORIES:Special Event
END:VEVENT
BEGIN:VEVENT
DTSTART;TZID=UTC:20220418T080000
DTEND;TZID=UTC:20220418T170000
DTSTAMP:20260424T090838
CREATED:20220214T193931Z
LAST-MODIFIED:20220214T193942Z
UID:3117-1650268800-1650301200@springfieldexchangeclub.org
SUMMARY:Blue Monday - Wear Blue for Prevention of Child Abuse Awareness
DESCRIPTION:April is the Prevention of Child Abuse Month. Each Monday in April\, wear blue clothing to create awareness of the thousands of children who are abused and neglected in our country and around the world.
URL:https://springfieldexchangeclub.org/event/blue-monday-wear-blue-for-prevention-of-child-abuse-awareness-2/
CATEGORIES:Special Event
END:VEVENT
BEGIN:VEVENT
DTSTART;TZID=UTC:20220411T080000
DTEND;TZID=UTC:20220411T170000
DTSTAMP:20260424T090838
CREATED:20220214T193829Z
LAST-MODIFIED:20220214T193838Z
UID:3114-1649664000-1649696400@springfieldexchangeclub.org
SUMMARY:Blue Monday - Wear Blue for Prevention of Child Abuse Awareness
DESCRIPTION:April is the Prevention of Child Abuse Month. Each Monday in April\, wear blue clothing to create awareness of the thousands of children who are abused and neglected in our country and around the worl
URL:https://springfieldexchangeclub.org/event/blue-monday-wear-blue-for-prevention-of-child-abuse-awarness/
CATEGORIES:Special Event
END:VEVENT
BEGIN:VEVENT
DTSTART;TZID=UTC:20220405T080000
DTEND;TZID=UTC:20220405T170000
DTSTAMP:20260424T090838
CREATED:20220214T193333Z
LAST-MODIFIED:20220228T150834Z
UID:3110-1649145600-1649178000@springfieldexchangeclub.org
SUMMARY:Book of Golden Deeds Awards Banquet
DESCRIPTION:The Exchange Club of Springfield\, Ohio will present its annual Book of Golden Deeds Award on April 5\, 2022 in the Alumni Room of the Benham-Pence Student Center on the campus of Wittenberg University\, 6PM. \nVolunteer efforts are very important to our society and should not go unnoticed. The National Exchange Club’s longest running project\, the Book of Golden Deeds Award\, recognizes dedicated volunteers who give endless hours of their time and talents toward making their communities better places to live. Ever since the Exchange Club of Huntington\, Ind.\, sponsored the first award in 1919\, thousands of unsung heroes and heroines have been recognized. \nHonoring a fellow citizen with the Book of Golden Deeds Award is a heartwarming and inspiring act not only for the honoree\, but for any Exchange Club. The Book of Golden Deeds Award exemplifies The National Exchange Club’s beliefs.
URL:https://springfieldexchangeclub.org/event/book-of-golden-deeds-awards-banquet/
LOCATION:Shouvlin Center\, 737 N. Fountain Avenue\, Springfield\, OH\, 45502\, United States
CATEGORIES:Special Event
END:VEVENT
BEGIN:VEVENT
DTSTART;TZID=UTC:20220404T080000
DTEND;TZID=UTC:20220404T170000
DTSTAMP:20260424T090838
CREATED:20220214T193718Z
LAST-MODIFIED:20220214T193718Z
UID:3112-1649059200-1649091600@springfieldexchangeclub.org
SUMMARY:Blue Monday - Wear Blue for Prevention of Child Abuse Awareness
DESCRIPTION:  \nApril is the Prevention of Child Abuse Month. Each Monday in April\, wear blue clothing to create awareness of the thousands of children who are abused and neglected in our country and around the world.
URL:https://springfieldexchangeclub.org/event/blue-monday-wear-blue-for-prevention-of-child-abuse-awareness/
CATEGORIES:Special Event
END:VEVENT
BEGIN:VEVENT
DTSTART;TZID=UTC:20220327T080000
DTEND;TZID=UTC:20220327T170000
DTSTAMP:20260424T090838
CREATED:20220127T165048Z
LAST-MODIFIED:20220127T165048Z
UID:3046-1648368000-1648400400@springfieldexchangeclub.org
SUMMARY:National Exchange Club Anniversary
DESCRIPTION:The National Exchange Club celebrates the 111th anniversary of its founding on March 27th\, 1911 in Detroit Michigan.
URL:https://springfieldexchangeclub.org/event/national-exchange-club-anniversary/
CATEGORIES:Special Event
END:VEVENT
BEGIN:VEVENT
DTSTART;TZID=UTC:20220319T090000
DTEND;TZID=UTC:20220319T120000
DTSTAMP:20260424T090838
CREATED:20220214T193031Z
LAST-MODIFIED:20220214T193031Z
UID:3108-1647680400-1647691200@springfieldexchangeclub.org
SUMMARY:Excellence in Leadership Workshop OH-WV District Exchange
DESCRIPTION:The Ohio-WV District Education and Training Committee will host a virtual Exchange Education session via the District’s Zoom account from 9:00 AM to Noon on Saturday March 19\, 2022.  Any and all Exchange members are welcome to attend.  Club officers and directors will greatly benefit from the sessions.  RSVP to lsewell001@woh.rr.com.  There is no charge for the workshop
URL:https://springfieldexchangeclub.org/event/excellence-in-leadership-workshop-oh-wv-district-exchange/
CATEGORIES:Special Event
END:VEVENT
END:VCALENDAR